{"text_format":"1","workbook":"xlsx","n_sheets":9,"sheets":["UITLEG","DIENSTVERBANDGEGEVENS","VERLOFKALENDER","DV","DI uren","(ON)BETAALD VERLOF","DVOV","VEEL GESTELDE VRAGEN","vrij blad"],"not_rendered":{"charts":0,"images":1,"macros":1,"external_links":0,"defined_names":37,"comments":4,"pivot_tables":0},"unopened":[],"bounds":{"document_bytes":16777216,"sheet_cells":100000,"rows_first":2000,"rows_last":500,"rows_between":2000,"halvings":0,"cell_chars":16384,"cell_head_chars":4096},"cells_cut":0,"cells_raw":0,"read":"whole","date_system":"1904"}

{"sheet":"UITLEG","index":0,"n_rows":42,"n_cols":6,"rows_kept":42,"cut":false,"hidden":false,"merged":[[5,11,5,14],[6,2,6,9],[7,2,7,9],[8,2,8,9],[11,2,11,9]]}
[]
[]
[null,null,null,null,null,"VERLOFPLANNER 2024"]
[]
[]
[]
[null,null,"Voor het correct laten werken van de verlofplanner:"]
[null,null,"=> Schakel de Macro's in door te klikken op 'Inhoud inschakelen' (Enable this content) "]
[null,null,"=> Sla de verlofplanner alleen op als een Excel Macro - Enabled Workbook (.xlsm) versie"]
[]
[null,null,"Tabblad Dienstverbandgegevens"]
[null,null,"●  Vul bij (A) de gegevens conform arbeidsbeidsovereenkomst en/of addendum"]
[null,null,"●  Kies bij (B) uit een 36, 38 of 40 urige standaard werkweek"]
[null,null,"●  Vul bij (E) het werkrooster in (moet gelijk zijn aan (D))"]
[]
[null,null,"(C) en (D) worden automatisch berekend."]
[null,null,"Gebruik alleen bij wijziging van (A), (B) en/of (E) een nieuwe periode. "]
[null,null,"Meer dan 5 periodes? Gebruik dan een tweede verlofplanner en tel de verlofsaldo's bij elkaar op."]
[]
[null,null,"Tabblad Verlofkalender"]
[null,null,"Indien van toepassing:"]
[null,null,"●  Vul in Meegenomen uren restant verlof"]
[null,null,"●  Vul in Totaal aantal verlofuren te verminderen in 2024, ivm langdurig verzuim/ziekte"]
[null,null,"    (zie tabblad '(On)betaald Verlof' voor uitleg)"]
[null,null,"●  Wijzig het aantal uur bij Dagdelen (staat standaard op 8 uur)"]
[]
[null,null,"De overige velden worden automatisch berekend / ingevuld op basis van invoer opname verlofuren en"]
[null,null,"invoer van overwerkuren (zoals bedoeld in CAO artikel H-7 alinea 4a)."]
[]
[null,null,"Toelichting"]
[null,null,"De verlofplanner maakt gebruik van de berekening van het opgebouwde verlofsaldo conform cao."]
[null,null,"Valt een nationale feestdag of een door het CvB vastgestelde verplichte vrije dag samen met"]
[null,null,"een werkdag, dan is deze reeds van het verlofsaldo afgetrokken. De verlofkalender berekent"]
[null,null,"het restant aan verlof (netto verlof)."]
[]
[null,null,"(On)betaald Ouderschapsverlof, Werktijdvermindering Senioren (WS)/SOP, Langdurig Ziek"]
[null,null,"Zie tabblad (On)betaald Verlof"]
[]
[null,null,"Meer Informatie"]
[null,null,"Zie tabblad 'Veel gestelde vragen', mijnhva.nl of neem contact op met de HR-adviseur van de eigen eenheid."]
[]
[null,null,"Technische problemen kunnen doorgegeven worden aan de PSA (servicedesk-ac@hva.nl)"]

{"sheet":"DIENSTVERBANDGEGEVENS","index":1,"n_rows":96,"n_cols":12,"rows_kept":96,"cut":false,"hidden":false,"merged":[[1,7,1,10]]}
[]
[null,"DIENSTVERBANDGEGEVENS",null,null,null,null,"Naam werknemer: ",null,null,null,null,"Bij betaald ouderschapsverlof zullen vanaf 2024 verplichte vrije dagen in SAP anders worden berekend dan in de verlofplanner. "]
[]
[null,null,null,null,null,null,"Personeelsnr: ",null,null,null,null,"In de verlofplanner worden deze uren namelijk niet gecompenseerd."]
[]
[null,null,null,{"$f":"DV!D2","v":""},null,{"$f":"DV!F2","v":""},null,null,null,null,null,"Neem contact op met de personeelsadministratie HvA voor meer informatie."]
[null," PERIODE 1 IN 2024","van","2024-01-01","t/m","2024-12-31",{"$f":"DV!G3","v":""},"aantal dagen",{"$f":"SUM(F7-D7+1)","v":366}]
[]
[null," (A) Omvang aanstelling in fulltime equivalenten (fte's)",null,null,null,null,null,null,null,1]
[]
[null," (B) Standaard werkweek bij volledige aanstelling, kies 36, 38 of 40"]
[]
[null," (C) Totaal aantal netto werkbare uren in periode 1",null,null,null,null,null,null,null,{"$f":"DV!K51","v":1659}]
[]
[null," (D) Bruto aantal werkbare uren bij aanstellingsomvang",null,null,null,null,null,null,null,{"$f":"DV!K53","v":40}]
[]
[null," (E) Keuze tijdsbesteding",null,"maandag","dinsdag","woensdag","donderdag","vrijdag","zaterdag","gemiddeld"]
[null,null,"even week",8,8,8,8,8,null,"totaal"]
[]
[null,null,"oneven week",8,8,8,8,8,null,{"$f":"DV!K58","v":40}]
[]
[]
[]
[]
[null,null,null,{"$f":"DV!D72","v":""},null,{"$f":"DV!F72","v":""}]
[null," PERIODE 2 IN 2024","van",null,"t/m",null,{"$f":"DV!G73","v":""},"aantal dagen",{"$f":"SUM(F26-D26+1)","v":1}]
[]
[null," (A) Omvang aanstelling in fulltime equivalenten (fte's)",null,null,null,null,null,null,null,1]
[]
[null," (B) Standaard werkweek bij volledige aanstelling, kies 36, 38 of 40"]
[]
[null," (C) Totaal aantal netto werkbare uren in periode 2",null,null,null,null,null,null,null,{"$f":"DV!K121","v":0}]
[]
[null," (D) Bruto aantal werkbare uren bij aanstellingsomvang",null,null,null,null,null,null,null,{"$f":"DV!K123","v":40}]
[]
[null," (E) Keuze tijdsbesteding",null,"maandag","dinsdag","woensdag","donderdag","vrijdag","zaterdag","gemiddeld"]
[null,null,"even week",null,null,null,null,null,null,"totaal"]
[]
[null,null,"oneven week",null,null,null,null,null,null,{"$f":"DV!K128","v":0}]
[]
[]
[]
[]
[null,null,null,{"$f":"DV!D142","v":""},null,{"$f":"DV!F142","v":""}]
[null," PERIODE 3 IN 2024","van",null,"t/m",null,{"$f":"DV!G143","v":""},"aantal dagen",{"$f":"SUM(F45-D45+1)","v":1}]
[]
[null," (A) Omvang aanstelling in fulltime equivalenten (fte's)"]
[]
[null," (B) Standaard werkweek bij volledige aanstelling, kies 36, 38 of 40"]
[]
[null," (C) Totaal aantal netto werkbare uren in periode 3",null,null,null,null,null,null,null,{"$f":"DV!K191","v":0}]
[]
[null," (D) Bruto aantal werkbare uren bij aanstellingsomvang",null,null,null,null,null,null,null,{"$f":"DV!K193","v":0}]
[]
[null," (E) Keuze tijdsbesteding",null,"maandag","dinsdag","woensdag","donderdag","vrijdag","zaterdag","gemiddeld"]
[null,null,"even week",null,null,null,null,null,null,"totaal"]
[]
[null,null,"oneven week",null,null,null,null,null,null,{"$f":"DV!K198","v":0}]
[]
[]
[]
[]
[null,null,null,{"$f":"DV!D212","v":""},null,{"$f":"DV!F212","v":""}]
[null," PERIODE 4 IN 2024","van",null,"t/m",null,{"$f":"DV!G213","v":""},"aantal dagen",{"$f":"SUM(F64-D64+1)","v":1}]
[]
[null," (A) Omvang aanstelling in fulltime equivalenten (fte's)"]
[]
[null," (B) Standaard werkweek bij volledige aanstelling, kies 36, 38 of 40"]
[]
[null," (C) Totaal aantal netto werkbare uren in periode 4",null,null,null,null,null,null,null,{"$f":"DV!K261","v":0}]
[]
[null," (D) Bruto aantal werkbare uren bij aanstellingsomvang",null,null,null,null,null,null,null,{"$f":"DV!K263","v":0}]
[]
[null," (E) Keuze tijdsbesteding",null,"maandag","dinsdag","woensdag","donderdag","vrijdag","zaterdag","gemiddeld"]
[null,null,"even week",null,null,null,null,null,null,"totaal"]
[]
[null,null,"oneven week",null,null,null,null,null,null,{"$f":"DV!K268","v":0}]
[]
[]
[]
[]
[null,null,null,{"$f":"DV!D282","v":""},null,{"$f":"DV!F282","v":""}]
[null," PERIODE 5 IN 2024","van",null,"t/m",null,{"$f":"DV!G283","v":""},"aantal dagen",{"$f":"SUM(F83-D83+1)","v":1}]
[]
[null," (A) Omvang aanstelling in fulltime equivalenten (fte's)"]
[]
[null," (B) Standaard werkweek bij volledige aanstelling, kies 36, 38 of 40"]
[]
[null," (C) Totaal aantal netto werkbare uren in periode 5",null,null,null,null,null,null,null,{"$f":"DV!K331","v":0}]
[]
[null," (D) Bruto aantal werkbare uren bij aanstellingsomvang",null,null,null,null,null,null,null,{"$f":"DV!K333","v":0}]
[]
[null," (E) Keuze tijdsbesteding",null,"maandag","dinsdag","woensdag","donderdag","vrijdag","zaterdag","gemiddeld"]
[null,null,"even week",null,null,null,null,null,null,"totaal"]
[]
[null,null,"oneven week",null,null,null,null,null,null,{"$f":"DV!K338","v":0}]

{"sheet":"VERLOFKALENDER","index":2,"n_rows":93,"n_cols":27,"rows_kept":93,"cut":false,"hidden":false,"merged":[[21,12,21,13],[23,12,23,13],[11,1,11,11],[4,12,4,13],[11,12,11,13],[13,12,13,13],[15,12,15,13],[19,12,19,13],[21,10,21,11],[23,10,23,11],[15,10,15,11],[19,10,19,11],[4,10,4,11],[17,12,17,13],[13,1,13,11],[5,10,5,11],[5,12,5,13],[6,10,6,11],[7,10,7,11],[9,9,9,11],[6,12,6,13],[7,12,7,13],[9,12,9,13],[8,12,8,13]]}
[]
[null,"VERLOFKALENDER 2024",null,null,null,null,null,null,null,null,null,null,null,null,null,null,null,null,null,null,null,null,null,null,null,{"$f":"IF(ISBLANK(DIENSTVERBANDGEGEVENS!H2),\"\",DIENSTVERBANDGEGEVENS!H2)","v":""}]
[null,null,null,null,null,null,null,{"$f":"IF(OR(ISERROR(K5),NOT(DV!$N$4)),\"Dienstverband op vorige blad nakijken a.u.b.\",IF(K5=0,\"Dienstverbandgegevens invullen a.u.b. (zie vorige blad)\",\"\"))","v":""},null,null,null,null,null,null,null,null,null,null,null,null,null,null,null,null,null,{"$f":"IF(ISBLANK(DIENSTVERBANDGEGEVENS!H4),\"\",\"persnr :  \"& DIENSTVERBANDGEGEVENS!H4)","v":""}]
[]
["p1","Totaal verlofsaldo in uren",null,null,null,null,null,null,null,null,{"$f":"(DV!K53*4*DIENSTVERBANDGEGEVENS!I7/365)","v":160.43835616438355},null,{"$f":"(DV!$K$62)","v":428},null,"wordt automatisch berekend o.b.v. dienstverbandgegevens",null,null,null,null,null,null,null,null,null,null,"Di uren periode 1",{"$f":"SUM('DI uren'!B18*DIENSTVERBANDGEGEVENS!I7/365)","v":45.123287671232873}]
["p2","Totaal verlofsaldo in uren",null,null,null,null,null,null,null,null,{"$f":"(DV!K123*4*DIENSTVERBANDGEGEVENS!I26/365)","v":0.43835616438356162},null,{"$f":"(DV!$K$132)","v":0},null,null,null,null,null,null,null,null,null,null,null,null,"Di uren periode 2",{"$f":"SUM('DI uren'!B37*DIENSTVERBANDGEGEVENS!I26/365)","v":0.12328767123287671}]
["p3","Totaal verlofsaldo in uren",null,null,null,null,null,null,null,null,{"$f":"(DV!K193*4*DIENSTVERBANDGEGEVENS!I45/365)","v":0},null,{"$f":"(DV!$K$202)","v":0},null,null,null,null,null,null,null,null,null,null,null,null,"Di uren periode 3",{"$f":"SUM('DI uren'!B56*DIENSTVERBANDGEGEVENS!I45/365)","v":0}]
["p4","Totaal verlofsaldo in uren",null,null,null,null,null,null,null,null,{"$f":"(DV!K263*4*DIENSTVERBANDGEGEVENS!I64/365)","v":0},null,{"$f":"(DV!$K$272)","v":0},null,null,null,null,null,null,null,null,null,null,null,null,"Di uren periode 4",{"$f":"SUM('DI uren'!B75*DIENSTVERBANDGEGEVENS!I64/365)","v":0}]
["p5","Totaal verlofsaldo in uren",null,null,null,null,null,null,null,null,null,null,{"$f":"(DV!$K$342)","v":0},null,null,null,null,null,null,null,null,null,null,null,null,"Di uren periode 5",{"$f":"SUM('DI uren'!B94*DIENSTVERBANDGEGEVENS!I64/365)","v":0}]
[null,"totaal over gehele periode",null,null,null,null,null,null,null,{"$f":"CEILING(SUM(K5:K8),0.5)","v":161},null,null,{"$f":"CEILING(SUM(M5:N9),0.5)","v":428},null,null,null,null,null,null,null,null,null,null,null,null,"Di uren totaal",{"$f":"CEILING(SUM(AA5:AA8),0.5)","v":45.5}]
[]
[null,"Totaal netto verlofsaldo in uren",null,null,null,null,null,null,null,null,null,null,{"$f":"DV!$K$68+DV!$K$138+DV!$K$208+DV!$K$278+DV!$K$348","v":349},null,"wordt automatisch berekend o.b.v. dienstverbandgegevens"]
[]
[null,"Meegenomen uren restant verlof  ",null,null,null,null,null,null,null,null,null,null,null,null,"invullen indien van toepassing"]
[]
[null,"Totaal overwerk-/compensatieuren in 2024",null,null,null,null,null,null,null,null,"+",null,{"$f":"Y93","v":0},null,"overwerk: volgens cao art. H-7 alinea 4a"]
[]
[null,"Totaal aantal verlofuren te verminderen in 2024",null,null,null,null,null,null,null,null,null,"-",null,null,"in verband met langdurig verzuim"]
[]
[null,"Totaal te besteden verlofuren in 2024",null,null,null,null,null,null,null,null,null,null,{"$f":"M12+M14+M16-M18","v":349}]
[]
[null,"Opgenomen en geplande verlofuren in 2024",null,null,null,null,null,null,null,null,"-",null,{"$f":"X93","v":0},null,"totaal van de in de onderstaande tabel ingevulde vakantieuren"]
[]
[null,"Restant verlofsaldo in uren",null,null,null,null,null,null,null,null,null,null,{"$f":"M20-M22","v":349},null,{"$f":"IF($S$24>=1,$M$24/$S$24,\"..\")","v":".."},"dagdelen van",null,null,null,"uur"]
[]
[]
[]
[]
[null,null,null,null," maandag",null,null,"dinsdag",null,null,"woensdag",null,null,"donderdag",null,null,"vrijdag",null,null,"zaterdag",null,"  zondag",null,null,"over-","opmerkingen"]
[null,null,"wknr","dd.","wrk","vrij","dd.","wrk","vrij","dd.","wrk","vrij","dd.","wrk","vrij","dd.","wrk","vrij","dd.","wrk","vrij","dd.",null,"subtot","werk"]
[null,"januari",0,1,null,null,2,8,null,3,8,null,4,8,null,5,8,null,6,null,null,7,null,{"$f":"SUM(F31,I31,L31,O31,R31,U31)","v":0},null,"Nieuwjaarsdag"]
[null,null,1,8,8,null,9,8,null,10,8,null,11,8,null,12,8,null,13,null,null,14,null,{"$f":"SUM(F32,I32,L32,O32,R32,U32)","v":0}]
[null,null,2,15,8,null,16,8,null,17,8,null,18,8,null,19,8,null,20,null,null,21,null,{"$f":"SUM(F33,I33,L33,O33,R33,U33)","v":0}]
[null,null,3,22,8,null,23,8,null,24,8,null,25,8,null,26,8,null,27,null,null,28,null,0]
[null,null,4,29,8,null,30,8,null,31,8,null,null,null,null,null,null,null,null,null,null,null,null,{"$f":"SUM(F35,I35,L35,O35,R35,U35)","v":0}]
[null,"februari",5,null,null,null,null,null,null,null,null,null,1,8,null,2,8,null,3,null,null,4,null,0]
[null,null,6,5,8,null,6,8,null,7,8,null,8,8,null,9,8,null,10,null,null,11,null,0]
[null,null,7,12,8,null,13,8,null,14,8,null,15,8,null,16,8,null,17,null,null,18,null,0]
[null,null,8,19,8,null,20,8,null,21,8,null,22,8,null,23,8,null,24,null,null,25,null,0]
[null,null,9,26,8,null,27,8,null,28,8,null,29,8,null,null,null,null,null,null,null,null,null,0]
[null,"maart",9,null,null,null,null,null,null,null,null,null,null,null,null,1,8,null,2,null,null,3,null,0]
[null,null,10,4,8,null,5,8,null,6,8,null,7,8,null,8,8,null,9,null,null,10,null,0]
[null,null,11,11,8,null,12,8,null,13,8,null,14,8,null,15,8,null,16,null,null,17,null,0]
[null,null,12,18,8,null,19,8,null,20,8,null,21,8,null,22,8,null,23,null,null,24,null,0]
[null,null,13,25,8,null,26,8,null,27,8,null,28,8,null,29,null,null,30,null,null,31,null,0,null,"Goede Vrijdag, 1e Paasdag"]
[null,"april",14,1,null,null,2,8,null,3,8,null,4,8,null,5,8,null,6,null,null,3,null,0,null,"2e Paasdag"]
[null,null,15,8,8,null,9,8,null,10,8,null,11,8,null,12,8,null,13,null,null,14,null,0]
[null,null,16,15,8,null,16,8,null,17,8,null,18,8,null,19,8,null,20,null,null,21,null,0]
[null,null,17,22,8,null,23,8,null,24,8,null,25,8,null,26,8,null,27,null,null,28,null,{"$f":"SUM(F49,I49,L49,O49,R49,U49)","v":0},null,"Koningsdag"]
[null,null,18,29,8,null,30,8,null,null,null,null,null,null,null,null,null,null,null,null,null,null,null,0]
[null,"mei",18,null,null,null,null,null,null,1,8,null,2,8,null,3,8,null,4,null,null,5,null,0,null,"Bevrijdingsdag"]
[null,null,19,6,8,null,7,8,null,8,8,null,9,null,null,10,null,null,11,null,null,12,null,0,null,"Hemelvaartsdag, verplicht*"]
[null,null,20,13,8,null,14,8,null,15,8,null,16,8,null,17,8,null,18,null,null,19,null,0,null,"1e Pinksterdag"]
[null,null,21,20,null,null,21,8,null,22,8,null,23,8,null,24,8,null,25,null,null,26,null,0,null,"2e Pinksterdag"]
[null,null,22,27,8,null,28,8,null,29,8,null,30,8,null,31,8,null,null,null,null,null,null,0]
[null,"juni",22,null,null,null,null,null,null,null,null,null,null,null,null,null,null,null,1,null,null,2,null,0]
[null,null,23,3,8,null,4,8,null,5,8,null,6,8,null,7,8,null,8,null,null,9,null,0]
[null,null,24,10,8,null,11,8,null,12,8,null,13,8,null,14,8,null,15,null,null,16,null,0]
[null,null,25,17,8,null,18,8,null,19,8,null,20,8,null,21,8,null,22,null,null,23,null,0]
[null,null,26,24,8,null,25,8,null,26,8,null,27,8,null,28,8,null,29,null,null,30,null,0]
[null,"juli",26,1,8,null,2,8,null,3,8,null,4,8,null,5,8,null,6,null,null,7,null,0]
[null,null,27,8,8,null,9,8,null,10,8,null,11,8,null,12,8,null,13,null,null,14,null,0]
[null,null,28,15,8,null,16,8,null,17,8,null,18,8,null,19,8,null,20,null,null,21,null,0]
[null,null,29,22,8,null,23,8,null,24,8,null,25,8,null,26,8,null,27,null,null,28,null,0]
[null,null,30,29,8,null,30,8,null,31,8,null,null,null,null,null,null,null,null,null,null,null,null,0]
[null,"augustus",31,null,null,null,null,null,null,null,null,null,1,8,null,2,8,null,3,null,null,4,null,0]
[null,null,32,5,8,null,6,8,null,7,8,null,8,8,null,9,8,null,10,null,null,11,null,0]
[null,null,33,12,8,null,13,8,null,14,8,null,15,8,null,16,8,null,17,null,null,18,null,0]
[null,null,34,19,8,null,20,8,null,21,8,null,22,8,null,23,8,null,24,null,null,25,null,0]
[null,null,35,26,8,null,27,8,null,28,8,null,29,8,null,30,8,null,31,null,null,null,null,0]
[null,"september",35,null,null,null,null,null,null,null,null,null,null,null,null,null,null,null,null,null,null,1,null,0]
[null,null,36,2,8,null,3,8,null,4,8,null,5,8,null,6,8,null,7,null,null,8,null,0]
[null,null,37,9,8,null,10,8,null,11,8,null,12,8,null,13,8,null,14,null,null,15,null,0]
[null,null,38,16,8,null,17,8,null,18,8,null,19,8,null,20,8,null,21,null,null,22,null,0]
[null,null,39,23,8,null,24,8,null,25,8,null,26,8,null,27,8,null,28,null,null,29,null,0]
[null,null,40,30,8,null,null,null,null,null,null,null,null,null,null,null,null,null,null,null,null,1,null,0]
[null,"oktober",39,null,null,null,1,8,null,2,8,null,3,8,null,4,8,null,5,null,null,6,null,0]
[null,null,40,7,8,null,8,8,null,9,8,null,10,8,null,11,8,null,12,null,null,13,null,0]
[null,null,41,14,8,null,15,8,null,16,8,null,17,8,null,18,8,null,19,null,null,20,null,0]
[null,null,42,21,8,null,22,8,null,23,8,null,24,8,null,25,8,null,26,null,null,27,null,0]
[null,null,43,28,8,null,29,8,null,30,8,null,31,8,null,null,null,null,null,null,null,null,null,0]
[null,"november",44,null,null,null,null,null,null,null,null,null,null,null,null,1,8,null,2,null,null,3,null,0]
[null,null,45,4,8,null,5,8,null,6,8,null,7,8,null,8,8,null,9,null,null,10,null,0]
[null,null,46,11,8,null,12,8,null,13,8,null,14,8,null,15,8,null,16,null,null,17,null,0]
[null,null,47,18,8,null,19,8,null,20,8,null,21,8,null,22,8,null,23,null,null,24,null,0]
[null,null,48,25,8,null,26,8,null,27,8,null,28,8,null,29,8,null,30,null,null,null,null,0]
[null,"december",48,null,null,null,null,null,null,null,null,null,null,null,null,null,null,null,null,null,null,1,null,0]
[null,null,49,2,8,null,3,8,null,4,8,null,5,8,null,6,8,null,7,null,null,8,null,0]
[null,null,50,9,8,null,10,8,null,11,8,null,12,8,null,13,8,null,14,null,null,15,null,0]
[null,null,51,16,8,null,17,8,null,18,8,null,19,8,null,20,8,null,21,null,null,22,null,0]
[null,null,52,23,8,null,24,8,null,25,null,null,26,null,null,27,null,null,28,null,null,29,null,0,null,"1e en 2e Kerstdag, Verplicht (2 ovb)*"]
[null,null,1,30,null,null,31,null,null,null,null,null,null,null,null,null,null,null,null,null,null,null,null,null,null,"Verplicht (2x ovb)"]
[null,"* Conform notitie Feestdagen en verplichte verlofdagen 2022-2023. Geblokkeerde zaterdagen: zie laatste alinea van de inleiding.",null,null,null,null,null,null,null,null,null,null,null,null,null,null,null,null,null,null,"Totaal  ",null,null,{"$f":"SUM(X31:X92)","v":0},{"$f":"SUM(Y31:Y92)","v":0}]

{"sheet":"DV","index":3,"n_rows":348,"n_cols":19,"rows_kept":348,"cut":false,"hidden":true,"merged":[]}
[]
[null,null,null,{"$f":"IF(D4,\"datum !\",IF(OR(D3=0,YEAR(D3)=$N$3),\"\",\"datum !\"))","v":""},null,{"$f":"IF(AND(D3>0,F3>0,F3<D3),\"datum !\",IF( OR(F4, AND(F3>0,YEAR(F3)<>$N$3)),\"datum !\",\"\"))","v":""},null,"p2","p3","p4","p5"]
[null," PERIODE 1","van",{"$f":"IF(ISNUMBER(DIENSTVERBANDGEGEVENS!D7),DIENSTVERBANDGEGEVENS!D7,0)","v":"2024-01-01"},"t/m",{"$f":"IF(ISNUMBER(DIENSTVERBANDGEGEVENS!F7),DIENSTVERBANDGEGEVENS!F7,0)","v":"2024-12-31"},{"$f":"IF(AND(H3:K3),\"\",\"  periode-overlapping\")","v":""},{"$f":"OR( $D$3=0,$F$3=0,D73=0,F73=0, AND($D$3>D73,$D$3>F73),AND($D$3<D73,$F$3<D73))","v":true},{"$f":"OR( D3=0,F3=0,D143=0,F143=0, AND($D$3>D143,$D$3>F143),AND($D$3<D143,$F$3<D143))","v":true},{"$f":"OR( D3=0,F3=0,D213=0,F213=0, AND($D$3>D213,$D$3>F213),AND($D$3<D213,$F$3<D213))","v":true},{"$f":"OR( D3=0,F3=0,D283=0,F283=0, AND($D$3>D283,$D$3>F283),AND($D$3<D283,$F$3<D283))","v":true},null,"kalenderjaar",2024]
[null,null,"tekst in datumcel",{"$f":"TYPE(DIENSTVERBANDGEGEVENS!D7)=2","v":false},null,{"$f":"TYPE(DIENSTVERBANDGEGEVENS!F7)=2","v":false},null,null,null,null,null,null,"geen overlap",{"$f":"AND(H3:K3,H73:K73,H143:K143,H213:K213,H283:K283)","v":true}]
[]
[null,null,null,"ma even","ma oneven","di even","di oneven","wo even","wo oneven","do even","do oneven","vr even","vr oneven","za even","za oneven","zo even","zo oneven"]
[null,null,{"$f":"D3","v":"2024-01-01"},{"$f":"IF( AND( WEEKDAY($C7,2)=1,YEAR($C7)=$N$3, evenWeek($C7), $C7<=$F$3), (($F$3 + 1) - $C7 ) / 14, 0)","v":0},{"$f":"IF( AND( WEEKDAY($C7,2)=1,YEAR($C7)=$N$3, NOT(evenWeek($C7)), $C7<= $F$3), (($F$3 + 1) - $C7 ) /14, 0)","v":26.142857142857142},{"$f":"IF( AND( WEEKDAY($C7,2)=2,YEAR($C7)=$N$3, evenWeek($C7), $C7<=$F$3), (($F$3 + 1) - $C7 ) / 14, 0)","v":0},{"$f":"IF( AND( WEEKDAY($C7,2)=2,YEAR($C7)=$N$3, NOT(evenWeek($C7)), $C7<= $F$3), (($F$3 + 1) - $C7 ) /14, 0)","v":0},{"$f":"IF( AND( WEEKDAY($C7,2)=3,YEAR($C7)=$N$3, evenWeek($C7), $C7<=$F$3), (($F$3 + 1) - $C7 ) / 14, 0)","v":0},{"$f":"IF( AND( WEEKDAY($C7,2)=3,YEAR($C7)=$N$3, NOT(evenWeek($C7)), $C7<= $F$3), (($F$3 + 1) - $C7 ) /14, 0)","v":0},{"$f":"IF( AND( WEEKDAY($C7,2)=4,YEAR($C7)=$N$3, evenWeek($C7), $C7<=$F$3), (($F$3 + 1) - $C7 ) / 14, 0)","v":0},{"$f":"IF( AND( WEEKDAY($C7,2)=4,YEAR($C7)=$N$3, NOT(evenWeek($C7)), $C7<= $F$3), (($F$3 + 1) - $C7 ) /14, 0)","v":0},{"$f":"IF( AND( WEEKDAY($C7,2)=5,YEAR($C7)=$N$3, evenWeek($C7), $C7<=$F$3), (($F$3 + 1) - $C7 ) / 14, 0)","v":0},{"$f":"IF( AND( WEEKDAY($C7,2)=5,YEAR($C7)=$N$3, NOT(evenWeek($C7)), $C7<= $F$3), (($F$3 + 1) - $C7 ) /14, 0)","v":0},{"$f":"IF( AND( WEEKDAY($C7,2)=6,YEAR($C7)=$N$3, evenWeek($C7), $C7<=$F$3), (($F$3 + 1) - $C7 ) / 14, 0)","v":0},{"$f":"IF( AND( WEEKDAY($C7,2)=6,YEAR($C7)=$N$3, NOT(evenWeek($C7)), $C7<= $F$3), (($F$3 + 1) - $C7 ) /14, 0)","v":0},{"$f":"IF( AND( WEEKDAY($C7,2)=7,YEAR($C7)=$N$3, evenWeek($C7), $C7<=$F$3), (($F$3 + 1) - $C7 ) / 14, 0)","v":0},{"$f":"IF( AND( WEEKDAY($C7,2)=7,YEAR($C7)=$N$3, NOT(evenWeek($C7)), $C7<= $F$3), (($F$3 + 1) - $C7 ) /14, 0)","v":0}]
[null,null,{"$f":"C7+1","v":"2024-01-02"},0,{"$f":"IF( AND( WEEKDAY($C8,2)=1,YEAR($C8)=$N$3, NOT(evenWeek($C8)), $C8<= $F$3), (($F$3 + 1) - $C8 ) /14, 0)","v":0},{"$f":"IF( AND( WEEKDAY($C8,2)=2,YEAR($C8)=$N$3, evenWeek($C8), $C8<=$F$3), (($F$3 + 1) - $C8 ) / 14, 0)","v":0},{"$f":"IF( AND( WEEKDAY($C8,2)=2,YEAR($C8)=$N$3, NOT(evenWeek($C8)), $C8<= $F$3), (($F$3 + 1) - $C8 ) /14, 0)","v":26.071428571428573},{"$f":"IF( AND( WEEKDAY($C8,2)=3,YEAR($C8)=$N$3, evenWeek($C8), $C8<=$F$3), (($F$3 + 1) - $C8 ) / 14, 0)","v":0},{"$f":"IF( AND( WEEKDAY($C8,2)=3,YEAR($C8)=$N$3, NOT(evenWeek($C8)), $C8<= $F$3), (($F$3 + 1) - $C8 ) /14, 0)","v":0},{"$f":"IF( AND( WEEKDAY($C8,2)=4,YEAR($C8)=$N$3, evenWeek($C8), $C8<=$F$3), (($F$3 + 1) - $C8 ) / 14, 0)","v":0},{"$f":"IF( AND( WEEKDAY($C8,2)=4,YEAR($C8)=$N$3, NOT(evenWeek($C8)), $C8<= $F$3), (($F$3 + 1) - $C8 ) /14, 0)","v":0},{"$f":"IF( AND( WEEKDAY($C8,2)=5,YEAR($C8)=$N$3, evenWeek($C8), $C8<=$F$3), (($F$3 + 1) - $C8 ) / 14, 0)","v":0},{"$f":"IF( AND( WEEKDAY($C8,2)=5,YEAR($C8)=$N$3, NOT(evenWeek($C8)), $C8<= $F$3), (($F$3 + 1) - $C8 ) /14, 0)","v":0},{"$f":"IF( AND( WEEKDAY($C8,2)=6,YEAR($C8)=$N$3, evenWeek($C8), $C8<=$F$3), (($F$3 + 1) - $C8 ) / 14, 0)","v":0},{"$f":"IF( AND( WEEKDAY($C8,2)=6,YEAR($C8)=$N$3, NOT(evenWeek($C8)), $C8<= $F$3), (($F$3 + 1) - $C8 ) /14, 0)","v":0},{"$f":"IF( AND( WEEKDAY($C8,2)=7,YEAR($C8)=$N$3, evenWeek($C8), $C8<=$F$3), (($F$3 + 1) - $C8 ) / 14, 0)","v":0},{"$f":"IF( AND( WEEKDAY($C8,2)=7,YEAR($C8)=$N$3, NOT(evenWeek($C8)), $C8<= $F$3), (($F$3 + 1) - $C8 ) /14, 0)","v":0}]
[null,null,{"$f":"C8+1","v":"2024-01-03"},0,0,0,0,0,26,0,0,0,0,0,0,0,0]
[null,null,"2024-01-04",0,0,0,0,0,0,0,25.928571428571427,0,0,0,0,0,0]
[null,null,"2024-01-05",0,0,0,0,0,0,0,0,0,25.857142857142858,0,0,0,0]
[null,null,"2024-01-06",0,0,0,0,0,0,0,0,0,0,0,25.785714285714285,0,0]
[null,null,"2024-01-07",0,0,0,0,0,0,0,0,0,0,0,0,0,25.714285714285715]
[null,null,"2024-01-08",25.642857142857142,0,0,0,0,0,0,0,0,0,0,0,0,0]
[null,null,"2024-01-09",0,0,25.571428571428573,0,0,0,0,0,0,0,0,0,0,0]
[null,null,"2024-01-10",0,0,0,0,25.5,0,0,0,0,0,0,0,0,0]
[null,null,"2024-01-11",0,0,0,0,0,0,25.428571428571427,0,0,0,0,0,0,0]
[null,null,"2024-01-12",0,0,0,0,0,0,0,0,25.357142857142858,0,0,0,0,0]
[null,null,"2024-01-13",0,0,0,0,0,0,0,0,0,0,25.285714285714285,0,0,0]
[null,null,"2024-01-14",0,0,0,0,0,0,0,0,0,0,0,0,25.214285714285715,0]
[null,null,"# dagen: ",{"$f":"ROUNDUP(SUM(D7:D20),0)","v":26},{"$f":"ROUNDUP(SUM(E7:E20),0)","v":27},{"$f":"ROUNDUP(SUM(F7:F20),0)","v":26},27,26,26,26,26,26,26,{"$f":"ROUNDUP(SUM(N7:N20),0)","v":26},{"$f":"ROUNDUP(SUM(O7:O20),0)","v":26},{"$f":"ROUNDUP(SUM(P7:P20),0)","v":26},{"$f":"ROUNDUP(SUM(Q7:Q20),0)","v":26}]
[null,null," "]
[null,null,null,null,null,null,null,null,null,null,null,null,null,null,null,null,null,null,"controle"]
[null,null,"NCF dagen","ma even","ma oneven","di even","di oneven","wo even","wo oneven","do even","do oneven","vr even","vr oneven","za even","za oneven","zo even","zo oneven","totaal","wknr"]
[null,"Nieuwjaarsdag","2024-01-01",{"$f":"IF( AND($C25>($D$3-1),$C25<($F$3+1),WEEKDAY($C25,2)=1, evenWeek($C25) ),-1,\"\")","v":""},{"$f":"IF( AND($C25>($D$3-1),$C25<($F$3+1),WEEKDAY($C25,2)=1, NOT(evenWeek($C25)) ),-1,\"\")","v":-1},{"$f":"IF( AND($C25>($D$3-1),$C25<($F$3+1),WEEKDAY($C25,2)=2, evenWeek($C25) ),-1,\"\")","v":""},{"$f":"IF( AND($C25>($D$3-1),$C25<($F$3+1),WEEKDAY($C25,2)=2, NOT(evenWeek($C25)) ),-1,\"\")","v":""},{"$f":"IF( AND($C25>($D$3-1),$C25<($F$3+1),WEEKDAY($C25,2)=3, evenWeek($C25) ),-1,\"\")","v":""},{"$f":"IF( AND($C25>($D$3-1),$C25<($F$3+1),WEEKDAY($C25,2)=3, NOT(evenWeek($C25)) ),-1,\"\")","v":""},{"$f":"IF( AND($C25>($D$3-1),$C25<($F$3+1),WEEKDAY($C25,2)=4, evenWeek($C25) ),-1,\"\")","v":""},{"$f":"IF( AND($C25>($D$3-1),$C25<($F$3+1),WEEKDAY($C25,2)=4, NOT(evenWeek($C25)) ),-1,\"\")","v":""},null,{"$f":"IF( AND($C25>($D$3-1),$C25<($F$3+1),WEEKDAY($C25,2)=5, NOT(evenWeek($C25)) ),-1,\"\")","v":""},{"$f":"IF( AND($C25>($D$3-1),$C25<($F$3+1),WEEKDAY($C25,2)=6, evenWeek($C25) ),-1,\"\")","v":""},{"$f":"IF( AND($C25>($D$3-1),$C25<($F$3+1),WEEKDAY($C25,2)=6, NOT(evenWeek($C25)) ),-1,\"\")","v":""},{"$f":"IF( AND($C25>($D$3-1),$C25<($F$3+1),WEEKDAY($C25,2)=7, evenWeek($C25) ),-1,\"\")","v":""},{"$f":"IF( AND($C25>($D$3-1),$C25<($F$3+1),WEEKDAY($C25,2)=7, NOT(evenWeek($C25)) ),-1,\"\")","v":""},null,{"$f":"isoweeknr(C25)","v":1}]
[null,"Goede vrijdag","2024-03-29",null,null,null,null,null,null,null,null,{"$f":"IF( AND($C26>($D$3-1),$C26<($F$3+1), evenWeek($C26) ),-1,\"\")","v":""},{"$f":"IF( AND($C26>($D$3-1),$C26<($F$3+1), NOT(evenWeek($C26)) ),-1,\"\")","v":-1},null,null,null,null,null,13]
[null,"2e paasdag","2024-04-01",{"$f":"IF( AND($C27>($D$3-1),$C27<($F$3+1), evenWeek($C27) ),-1,\"\")","v":-1},{"$f":"IF( AND($C27>($D$3-1),$C27<($F$3+1), NOT(evenWeek($C27)) ),-1,\"\")","v":""},null,null,null,null,null,null,null,null,null,null,null,null,null,14]
[null,"Koningsdag","2024-04-27",{"$f":"IF( AND($C28>($D$3-1),$C28<($F$3+1),WEEKDAY($C28,2)=1, evenWeek($C28) ),-1,\"\")","v":""},{"$f":"IF( AND($C28>($D$3-1),$C28<($F$3+1),WEEKDAY($C28,2)=1, NOT(evenWeek($C28)) ),-1,\"\")","v":""},{"$f":"IF( AND($C28>($D$3-1),$C28<($F$3+1),WEEKDAY($C28,2)=2, evenWeek($C28) ),-1,\"\")","v":""},{"$f":"IF( AND($C28>($D$3-1),$C28<($F$3+1),WEEKDAY($C28,2)=2, NOT(evenWeek($C28)) ),-1,\"\")","v":""},{"$f":"IF( AND($C28>($D$3-1),$C28<($F$3+1),WEEKDAY($C28,2)=3, evenWeek($C28) ),-1,\"\")","v":""},{"$f":"IF( AND($C28>($D$3-1),$C28<($F$3+1),WEEKDAY($C28,2)=3, NOT(evenWeek($C28)) ),-1,\"\")","v":""},{"$f":"IF( AND($C28>($D$3-1),$C28<($F$3+1),WEEKDAY($C28,2)=4, evenWeek($C28) ),-1,\"\")","v":""},{"$f":"IF( AND($C28>($D$3-1),$C28<($F$3+1),WEEKDAY($C28,2)=4, NOT(evenWeek($C28)) ),-1,\"\")","v":""},{"$f":"IF( AND($C28>($D$3-1),$C28<($F$3+1),WEEKDAY($C28,2)=5, evenWeek($C28) ),-1,\"\")","v":""},{"$f":"IF( AND($C28>($D$3-1),$C28<($F$3+1),WEEKDAY($C28,2)=5, NOT(evenWeek($C28)) ),-1,\"\")","v":""},{"$f":"IF( AND($C28>($D$3-1),$C28<($F$3+1),WEEKDAY($C28,2)=6, evenWeek($C28) ),-1,\"\")","v":""},{"$f":"IF( AND($C28>($D$3-1),$C28<($F$3+1),WEEKDAY($C28,2)=6, NOT(evenWeek($C28)) ),-1,\"\")","v":-1},{"$f":"IF( AND($C28>($D$3-1),$C28<($F$3+1),WEEKDAY($C28,2)=7, evenWeek($C28) ),-1,\"\")","v":""},{"$f":"IF( AND($C28>($D$3-1),$C28<($F$3+1),WEEKDAY($C28,2)=7, NOT(evenWeek($C28)) ),-1,\"\")","v":""},null,17]
[null,"Bevrijdingsdag","2024-05-05",{"$f":"IF( AND($C29>($D$3-1),$C29<($F$3+1),WEEKDAY($C29,2)=1, evenWeek($C29) ),-1,\"\")","v":""},{"$f":"IF( AND($C29>($D$3-1),$C29<($F$3+1),WEEKDAY($C29,2)=1, NOT(evenWeek($C29)) ),-1,\"\")","v":""},{"$f":"IF( AND($C29>($D$3-1),$C29<($F$3+1),WEEKDAY($C29,2)=2, evenWeek($C29) ),-1,\"\")","v":""},{"$f":"IF( AND($C29>($D$3-1),$C29<($F$3+1),WEEKDAY($C29,2)=2, NOT(evenWeek($C29)) ),-1,\"\")","v":""},{"$f":"IF( AND($C29>($D$3-1),$C29<($F$3+1),WEEKDAY($C29,2)=3, evenWeek($C29) ),-1,\"\")","v":""},{"$f":"IF( AND($C29>($D$3-1),$C29<($F$3+1),WEEKDAY($C29,2)=3, NOT(evenWeek($C29)) ),-1,\"\")","v":""},{"$f":"IF( AND($C29>($D$3-1),$C29<($F$3+1),WEEKDAY($C29,2)=4, evenWeek($C29) ),-1,\"\")","v":""},{"$f":"IF( AND($C29>($D$3-1),$C29<($F$3+1),WEEKDAY($C29,2)=4, NOT(evenWeek($C29)) ),-1,\"\")","v":""},{"$f":"IF( AND($C29>($D$3-1),$C29<($F$3+1),WEEKDAY($C29,2)=5, evenWeek($C29) ),-1,\"\")","v":""},{"$f":"IF( AND($C29>($D$3-1),$C29<($F$3+1),WEEKDAY($C29,2)=5, NOT(evenWeek($C29)) ),-1,\"\")","v":""},{"$f":"IF( AND($C29>($D$3-1),$C29<($F$3+1),WEEKDAY($C29,2)=6, evenWeek($C29) ),-1,\"\")","v":""},{"$f":"IF( AND($C29>($D$3-1),$C29<($F$3+1),WEEKDAY($C29,2)=6, NOT(evenWeek($C29)) ),-1,\"\")","v":""},{"$f":"IF( AND($C29>($D$3-1),$C29<($F$3+1),WEEKDAY($C29,2)=7, evenWeek($C29) ),-1,\"\")","v":-1},{"$f":"IF( AND($C29>($D$3-1),$C29<($F$3+1),WEEKDAY($C29,2)=7, NOT(evenWeek($C29)) ),-1,\"\")","v":""},null,18]
[null,"Hemelvaart","2024-05-09",null,null,null,null,null,null,{"$f":"IF( AND($C30>($D$3-1),$C30<($F$3+1),WEEKDAY($C30,2)=4, evenWeek($C30) ),-1,\"\")","v":""},{"$f":"IF( AND($C30>($D$3-1),$C30<($F$3+1), NOT(evenWeek($C30)) ),-1,\"\")","v":-1},null,null,null,null,null,null,null,19]
[null,"2e Pinksterdag","2024-05-20",{"$f":"IF( AND($C31>($D$3-1),$C31<($F$3+1), evenWeek($C31) ),-1,\"\")","v":""},{"$f":"IF( AND($C31>($D$3-1),$C31<($F$3+1), NOT(evenWeek($C31)) ),-1,\"\")","v":-1},null,null,null,null,null,null,null,null,null,null,null,null,null,21]
[null,"1e Kerstdag","2024-12-25",{"$f":"IF( AND($C32>($D$3-1),$C32<($F$3+1),WEEKDAY($C32,2)=1, evenWeek($C32) ),-1,\"\")","v":""},{"$f":"IF( AND($C32>($D$3-1),$C32<($F$3+1),WEEKDAY($C32,2)=1, NOT(evenWeek($C32)) ),-1,\"\")","v":""},{"$f":"IF( AND($C32>($D$3-1),$C32<($F$3+1),WEEKDAY($C32,2)=2, evenWeek($C32) ),-1,\"\")","v":""},{"$f":"IF( AND($C32>($D$3-1),$C32<($F$3+1),WEEKDAY($C32,2)=2, NOT(evenWeek($C32)) ),-1,\"\")","v":""},{"$f":"IF( AND($C32>($D$3-1),$C32<($F$3+1),WEEKDAY($C32,2)=3, evenWeek($C32) ),-1,\"\")","v":-1},{"$f":"IF( AND($C32>($D$3-1),$C32<($F$3+1),WEEKDAY($C32,2)=3, NOT(evenWeek($C32)) ),-1,\"\")","v":""},{"$f":"IF( AND($C32>($D$3-1),$C32<($F$3+1),WEEKDAY($C32,2)=4, evenWeek($C32) ),-1,\"\")","v":""},{"$f":"IF( AND($C32>($D$3-1),$C32<($F$3+1),WEEKDAY($C32,2)=4, NOT(evenWeek($C32)) ),-1,\"\")","v":""},{"$f":"IF( AND($C32>($D$3-1),$C32<($F$3+1),WEEKDAY($C32,2)=5, evenWeek($C32) ),-1,\"\")","v":""},{"$f":"IF( AND($C32>($D$3-1),$C32<($F$3+1),WEEKDAY($C32,2)=5, NOT(evenWeek($C32)) ),-1,\"\")","v":""},{"$f":"IF( AND($C32>($D$3-1),$C32<($F$3+1),WEEKDAY($C32,2)=6, evenWeek($C32) ),-1,\"\")","v":""},{"$f":"IF( AND($C32>($D$3-1),$C32<($F$3+1),WEEKDAY($C32,2)=6, NOT(evenWeek($C32)) ),-1,\"\")","v":""},{"$f":"IF( AND($C32>($D$3-1),$C32<($F$3+1),WEEKDAY($C32,2)=7, evenWeek($C32) ),-1,\"\")","v":""},{"$f":"IF( AND($C32>($D$3-1),$C32<($F$3+1),WEEKDAY($C32,2)=7, NOT(evenWeek($C32)) ),-1,\"\")","v":""},null,52]
[null,"2e Kerstdag","2024-12-26",{"$f":"IF( AND($C33>($D$3-1),$C33<($F$3+1),WEEKDAY($C33,2)=1, evenWeek($C33) ),-1,\"\")","v":""},{"$f":"IF( AND($C33>($D$3-1),$C33<($F$3+1),WEEKDAY($C33,2)=1, NOT(evenWeek($C33)) ),-1,\"\")","v":""},{"$f":"IF( AND($C33>($D$3-1),$C33<($F$3+1),WEEKDAY($C33,2)=2, evenWeek($C33) ),-1,\"\")","v":""},{"$f":"IF( AND($C33>($D$3-1),$C33<($F$3+1),WEEKDAY($C33,2)=2, NOT(evenWeek($C33)) ),-1,\"\")","v":""},{"$f":"IF( AND($C33>($D$3-1),$C33<($F$3+1),WEEKDAY($C33,2)=3, evenWeek($C33) ),-1,\"\")","v":""},{"$f":"IF( AND($C33>($D$3-1),$C33<($F$3+1),WEEKDAY($C33,2)=3, NOT(evenWeek($C33)) ),-1,\"\")","v":""},{"$f":"IF( AND($C33>($D$3-1),$C33<($F$3+1),WEEKDAY($C33,2)=4, evenWeek($C33) ),-1,\"\")","v":-1},{"$f":"IF( AND($C33>($D$3-1),$C33<($F$3+1),WEEKDAY($C33,2)=4, NOT(evenWeek($C33)) ),-1,\"\")","v":""},{"$f":"IF( AND($C33>($D$3-1),$C33<($F$3+1),WEEKDAY($C33,2)=5, evenWeek($C33) ),-1,\"\")","v":""},{"$f":"IF( AND($C33>($D$3-1),$C33<($F$3+1),WEEKDAY($C33,2)=5, NOT(evenWeek($C33)) ),-1,\"\")","v":""},{"$f":"IF( AND($C33>($D$3-1),$C33<($F$3+1),WEEKDAY($C33,2)=6, evenWeek($C33) ),-1,\"\")","v":""},{"$f":"IF( AND($C33>($D$3-1),$C33<($F$3+1),WEEKDAY($C33,2)=6, NOT(evenWeek($C33)) ),-1,\"\")","v":""},{"$f":"IF( AND($C33>($D$3-1),$C33<($F$3+1),WEEKDAY($C33,2)=7, evenWeek($C33) ),-1,\"\")","v":""},{"$f":"IF( AND($C33>($D$3-1),$C33<($F$3+1),WEEKDAY($C33,2)=7, NOT(evenWeek($C33)) ),-1,\"\")","v":""},null,52]
[null,"Verplicht1","2024-05-10","","","","","","","","","",-1,"","","","",null,19]
[null,"Verplicht2","2024-12-27","","","","","","","","",-1,"","","","","",null,52]
[null,"Verplicht3","2024-12-30","",-1,"","","","","","","","","","","","",null,53]
[null,"Verplicht4","2024-12-31","","","",-1,"","","","","","","","","","",null,53]
[null,"Verplicht5",null,"","","","","","","","","","","","","","",null,52]
[null,"werkbare dagen",null,{"$f":"IF(OR(YEAR($D$3)<>$N$3,YEAR($F$3)<>$N$3),0,SUM(D21,D25:D38))","v":25},24,26,26,25,26,25,25,25,24,26,25,25,26,{"$f":"SUM(D39:O39)","v":302}]
[]
[null,"standaard werkweek",null,40,38,36]
[null,"bijbehorend verlofsaldo cao",null,428,323,219,null,null,null,"arbeidsuren op jaarbasis : ",1659," vast in cao, gemiddelde"]
[null,"# werkdagen in jaar",302,"inclusief za",null,"is gelijk aan cel R41, met het hele jaar als periode 1"]
[]
[null,"(Z) Periodefactor werkbare dagen per volledig kalenderjaar",null,null,null,null,null,null,null,null,{"$f":"IF(AND(D3>0,F3>0),R39/C43,0)","v":1}]
[]
[null,"(A) Omvang aanstelling in fulltime equivalenten (fte's)",null,null,null,null,null,null,null,null,{"$f":"DIENSTVERBANDGEGEVENS!J9","v":1}]
[null,null,null,null,null,null,null,null,"keuzerondje"]
[null,"(B) Standaard werkweek bij volledige aanstelling, vul in 36, 38 of 40",null,null,null,null,null,null,3,null,{"$f":"IF(I49=1,36,IF(I49=2,38,IF(I49=3,40,0)))","v":40}]
[]
[null,"(C) Totaal aantal netto werkbare uren in periode 1 ( A * 1659 * Z )",null,null,null,null,null,null,null,null,{"$f":"IF($N$4,K47*$K$42*K45,0)","v":1659}]
[]
[null,"(D) Bruto aantal werkbare uren bij aanstellingsomvang ( A * B )",null,null,null,null,null,null,null,null,{"$f":"K47*K49","v":40}]
[]
[null,"(E) Keuze tijdsbesteding",null,"maandag","dinsdag","woensdag","donderdag","vrijdag","zaterdag",null,"gemiddeld"]
[null,null,"even week",{"$f":"DIENSTVERBANDGEGEVENS!D18","v":8},{"$f":"DIENSTVERBANDGEGEVENS!E18","v":8},{"$f":"DIENSTVERBANDGEGEVENS!F18","v":8},{"$f":"DIENSTVERBANDGEGEVENS!G18","v":8},{"$f":"DIENSTVERBANDGEGEVENS!H18","v":8},{"$f":"DIENSTVERBANDGEGEVENS!I18","v":0},null,"totaal"]
[null,"totaal even",null,{"$f":"D56*D39","v":200},{"$f":"E56*F39","v":208},{"$f":"F56*H39","v":200},{"$f":"G56*J39","v":200},{"$f":"H56*L39","v":200},{"$f":"I56*N39","v":0}]
[null,null,"oneven week",{"$f":"DIENSTVERBANDGEGEVENS!D20","v":8},{"$f":"DIENSTVERBANDGEGEVENS!E20","v":8},{"$f":"DIENSTVERBANDGEGEVENS!F20","v":8},{"$f":"DIENSTVERBANDGEGEVENS!G20","v":8},{"$f":"DIENSTVERBANDGEGEVENS!H20","v":8},{"$f":"DIENSTVERBANDGEGEVENS!I20","v":0},null,{"$f":"SUM(D56:I56,D58:I58)/2","v":40}]
[null,"totaal oneven",null,{"$f":"D58*E39","v":192},{"$f":"E58*G39","v":208},{"$f":"F58*I39","v":208},{"$f":"G58*K39","v":200},{"$f":"H58*M39","v":192},{"$f":"I58*O39","v":0}]
[null,"(F) werkbare uren (gecorrigeerd voor feestdagen en overige niet-werkbare dagen)",null,null,null,null,null,null,null,null,{"$f":"IF(AND(D3>0,F3>0,$N$4),SUM(D57:I57,D59:I59),0)","v":2008}]
[]
[null,"(G) Bruto CAO verlofuren in periode 1   ( A * verlofsaldo * Z )",null,null,null,null,null,null,null,null,{"$f":"(SUM(K47*IF(K49=0,0,IF(K49=D41,D42,IF(K49=E41,E42,IF(K49=F41,F42,\"\")))))*K45)","v":428}]
[]
[null,"(H) Werkbare uren gecorrigeerd voor bruto verlofuren  ( F - G )",null,null,null,null,null,null,null,null,{"$f":"IF(K53=0,0,K60-K62)","v":1580}]
[]
[null,"(I) teveel (+) / te weinig (-) gewerkte uren  ( H - C )",null,null,null,null,null,null,null,null,{"$f":"K64-K51","v":-79}]
[]
[null,"(J) Opgebouwde netto CAO verlofuren  ( G + I )",null,null,null,null,null,null,null,null,{"$f":"K62+K66","v":349}]
[]
[]
[]
[null,null,null,{"$f":"IF(D74,\"datum !\",IF(OR(D73=0,YEAR(D73)=$N$3),\"\",\"datum !\"))","v":""},null,{"$f":"IF(AND(D73>0,F73>0,F73<D73),\"datum !\",IF(OR(F74, AND(F73>0,YEAR(F73)<>$N$3)),\"datum !\",\"\"))","v":""},null,"p1","p3","p4","p5",null,null,null,null,null," PERIODE 2"]
[null," PERIODE 2","van",{"$f":"IF(ISNUMBER(DIENSTVERBANDGEGEVENS!D26),DIENSTVERBANDGEGEVENS!D26,0)","v":"1904-01-01"},"t/m",{"$f":"IF(ISNUMBER(DIENSTVERBANDGEGEVENS!F26),DIENSTVERBANDGEGEVENS!F26,0)","v":"1904-01-01"},{"$f":"IF(AND(H73:K73),\"\",\"  periode-overlapping\")","v":""},{"$f":"OR( D73=0,F73=0,D3=0,F3=0, AND($D$73>D3,$D$73>F3),AND($D$73<D3,$F$73<D3))","v":true},{"$f":"OR( D73=0,F73=0,D143=0,F143=0, AND($D$73>D143,$D$73>F143),AND($D$73<D143,$F$73<D143))","v":true},{"$f":"OR( D73=0,F73=0,D213=0,F213=0, AND($D$73>D213,$D$73>F213),AND($D$73<D213,$F$73<D213))","v":true},{"$f":"OR( D73=0,F73=0,D283=0,F283=0, AND($D$73>D283,$D$73>F283),AND($D$73<D283,$F$73<D283))","v":true}]
[null,null,"tekst in datumcel",{"$f":"TYPE(DIENSTVERBANDGEGEVENS!D26)=2","v":false},null,{"$f":"TYPE(DIENSTVERBANDGEGEVENS!F26)=2","v":false}]
[]
[null,null,null,"ma even","ma oneven","di even","di oneven","wo even","wo oneven","do even","do oneven","vr even","vr oneven","za even","za oneven","zo even","zo oneven"]
[null,null,{"$f":"D73","v":"1904-01-01"},{"$f":"IF( AND( WEEKDAY($C77,2)=1,YEAR($C77)=$N$3, evenWeek($C77), $C77<=$F$73), (($F$73 + 1) - $C77 ) / 14, 0)","v":0},{"$f":"IF( AND( WEEKDAY($C77,2)=1,YEAR($C77)=$N$3, NOT(evenWeek($C77)), $C77<= $F$73), (($F$73 + 1) - $C77 ) /14, 0)","v":0},{"$f":"IF( AND( WEEKDAY($C77,2)=2,YEAR($C77)=$N$3, evenWeek($C77), $C77<=$F$73), (($F$73 + 1) - $C77 ) / 14, 0)","v":0},{"$f":"IF( AND( WEEKDAY($C77,2)=2,YEAR($C77)=$N$3, NOT(evenWeek($C77)), $C77<= $F$73), (($F$73 + 1) - $C77 ) /14, 0)","v":0},{"$f":"IF( AND( WEEKDAY($C77,2)=3,YEAR($C77)=$N$3, evenWeek($C77), $C77<=$F$73), (($F$73 + 1) - $C77 ) / 14, 0)","v":0},{"$f":"IF( AND( WEEKDAY($C77,2)=3,YEAR($C77)=$N$3, NOT(evenWeek($C77)), $C77<= $F$73), (($F$73 + 1) - $C77 ) /14, 0)","v":0},{"$f":"IF( AND( WEEKDAY($C77,2)=4,YEAR($C77)=$N$3, evenWeek($C77), $C77<=$F$73), (($F$73 + 1) - $C77 ) / 14, 0)","v":0},{"$f":"IF( AND( WEEKDAY($C77,2)=4,YEAR($C77)=$N$3, NOT(evenWeek($C77)), $C77<= $F$73), (($F$73 + 1) - $C77 ) /14, 0)","v":0},{"$f":"IF( AND( WEEKDAY($C77,2)=5,YEAR($C77)=$N$3, evenWeek($C77), $C77<=$F$73), (($F$73 + 1) - $C77 ) / 14, 0)","v":0},{"$f":"IF( AND( WEEKDAY($C77,2)=5,YEAR($C77)=$N$3, NOT(evenWeek($C77)), $C77<= $F$73), (($F$73 + 1) - $C77 ) /14, 0)","v":0},{"$f":"IF( AND( WEEKDAY($C77,2)=6,YEAR($C77)=$N$3, evenWeek($C77), $C77<=$F$73), (($F$73 + 1) - $C77 ) / 14, 0)","v":0},{"$f":"IF( AND( WEEKDAY($C77,2)=6,YEAR($C77)=$N$3, NOT(evenWeek($C77)), $C77<= $F$73), (($F$73 + 1) - $C77 ) /14, 0)","v":0},{"$f":"IF( AND( WEEKDAY($C77,2)=7,YEAR($C77)=$N$3, evenWeek($C77), $C77<=$F$73), (($F$73 + 1) - $C77 ) / 14, 0)","v":0},{"$f":"IF( AND( WEEKDAY($C77,2)=7,YEAR($C77)=$N$3, NOT(evenWeek($C77)), $C77<= $F$73), (($F$73 + 1) - $C77 ) /14, 0)","v":0}]
[null,null,{"$f":"C77+1","v":"1904-01-02"},{"$f":"IF( AND( WEEKDAY($C78,2)=1,YEAR($C78)=$N$3, evenWeek($C78), $C78<=$F$73), (($F$73 + 1) - $C78 ) / 14, 0)","v":0},{"$f":"IF( AND( WEEKDAY($C78,2)=1,YEAR($C78)=$N$3, NOT(evenWeek($C78)), $C78<= $F$73), (($F$73 + 1) - $C78 ) /14, 0)","v":0},{"$f":"IF( AND( WEEKDAY($C78,2)=2,YEAR($C78)=$N$3, evenWeek($C78), $C78<=$F$73), (($F$73 + 1) - $C78 ) / 14, 0)","v":0},{"$f":"IF( AND( WEEKDAY($C78,2)=2,YEAR($C78)=$N$3, NOT(evenWeek($C78)), $C78<= $F$73), (($F$73 + 1) - $C78 ) /14, 0)","v":0},{"$f":"IF( AND( WEEKDAY($C78,2)=3,YEAR($C78)=$N$3, evenWeek($C78), $C78<=$F$73), (($F$73 + 1) - $C78 ) / 14, 0)","v":0},{"$f":"IF( AND( WEEKDAY($C78,2)=3,YEAR($C78)=$N$3, NOT(evenWeek($C78)), $C78<= $F$73), (($F$73 + 1) - $C78 ) /14, 0)","v":0},{"$f":"IF( AND( WEEKDAY($C78,2)=4,YEAR($C78)=$N$3, evenWeek($C78), $C78<=$F$73), (($F$73 + 1) - $C78 ) / 14, 0)","v":0},{"$f":"IF( AND( WEEKDAY($C78,2)=4,YEAR($C78)=$N$3, NOT(evenWeek($C78)), $C78<= $F$73), (($F$73 + 1) - $C78 ) /14, 0)","v":0},{"$f":"IF( AND( WEEKDAY($C78,2)=5,YEAR($C78)=$N$3, evenWeek($C78), $C78<=$F$73), (($F$73 + 1) - $C78 ) / 14, 0)","v":0},{"$f":"IF( AND( WEEKDAY($C78,2)=5,YEAR($C78)=$N$3, NOT(evenWeek($C78)), $C78<= $F$73), (($F$73 + 1) - $C78 ) /14, 0)","v":0},{"$f":"IF( AND( WEEKDAY($C78,2)=6,YEAR($C78)=$N$3, evenWeek($C78), $C78<=$F$73), (($F$73 + 1) - $C78 ) / 14, 0)","v":0},{"$f":"IF( AND( WEEKDAY($C78,2)=6,YEAR($C78)=$N$3, NOT(evenWeek($C78)), $C78<= $F$73), (($F$73 + 1) - $C78 ) /14, 0)","v":0},{"$f":"IF( AND( WEEKDAY($C78,2)=7,YEAR($C78)=$N$3, evenWeek($C78), $C78<=$F$73), (($F$73 + 1) - $C78 ) / 14, 0)","v":0},{"$f":"IF( AND( WEEKDAY($C78,2)=7,YEAR($C78)=$N$3, NOT(evenWeek($C78)), $C78<= $F$73), (($F$73 + 1) - $C78 ) /14, 0)","v":0}]
[null,null,{"$f":"C78+1","v":"1904-01-03"},{"$f":"IF( AND( WEEKDAY($C79,2)=1,YEAR($C79)=$N$3, evenWeek($C79), $C79<=$F$73), (($F$73 + 1) - $C79 ) / 14, 0)","v":0},{"$f":"IF( AND( WEEKDAY($C79,2)=1,YEAR($C79)=$N$3, NOT(evenWeek($C79)), $C79<= $F$73), (($F$73 + 1) - $C79 ) /14, 0)","v":0},{"$f":"IF( AND( WEEKDAY($C79,2)=2,YEAR($C79)=$N$3, evenWeek($C79), $C79<=$F$73), (($F$73 + 1) - $C79 ) / 14, 0)","v":0},{"$f":"IF( AND( WEEKDAY($C79,2)=2,YEAR($C79)=$N$3, NOT(evenWeek($C79)), $C79<= $F$73), (($F$73 + 1) - $C79 ) /14, 0)","v":0},{"$f":"IF( AND( WEEKDAY($C79,2)=3,YEAR($C79)=$N$3, evenWeek($C79), $C79<=$F$73), (($F$73 + 1) - $C79 ) / 14, 0)","v":0},{"$f":"IF( AND( WEEKDAY($C79,2)=3,YEAR($C79)=$N$3, NOT(evenWeek($C79)), $C79<= $F$73), (($F$73 + 1) - $C79 ) /14, 0)","v":0},{"$f":"IF( AND( WEEKDAY($C79,2)=4,YEAR($C79)=$N$3, evenWeek($C79), $C79<=$F$73), (($F$73 + 1) - $C79 ) / 14, 0)","v":0},{"$f":"IF( AND( WEEKDAY($C79,2)=4,YEAR($C79)=$N$3, NOT(evenWeek($C79)), $C79<= $F$73), (($F$73 + 1) - $C79 ) /14, 0)","v":0},{"$f":"IF( AND( WEEKDAY($C79,2)=5,YEAR($C79)=$N$3, evenWeek($C79), $C79<=$F$73), (($F$73 + 1) - $C79 ) / 14, 0)","v":0},{"$f":"IF( AND( WEEKDAY($C79,2)=5,YEAR($C79)=$N$3, NOT(evenWeek($C79)), $C79<= $F$73), (($F$73 + 1) - $C79 ) /14, 0)","v":0},{"$f":"IF( AND( WEEKDAY($C79,2)=6,YEAR($C79)=$N$3, evenWeek($C79), $C79<=$F$73), (($F$73 + 1) - $C79 ) / 14, 0)","v":0},{"$f":"IF( AND( WEEKDAY($C79,2)=6,YEAR($C79)=$N$3, NOT(evenWeek($C79)), $C79<= $F$73), (($F$73 + 1) - $C79 ) /14, 0)","v":0},{"$f":"IF( AND( WEEKDAY($C79,2)=7,YEAR($C79)=$N$3, evenWeek($C79), $C79<=$F$73), (($F$73 + 1) - $C79 ) / 14, 0)","v":0},{"$f":"IF( AND( WEEKDAY($C79,2)=7,YEAR($C79)=$N$3, NOT(evenWeek($C79)), $C79<= $F$73), (($F$73 + 1) - $C79 ) /14, 0)","v":0}]
[null,null,"1904-01-04",{"$f":"IF( AND( WEEKDAY($C80,2)=1,YEAR($C80)=$N$3, evenWeek($C80), $C80<=$F$73), (($F$73 + 1) - $C80 ) / 14, 0)","v":0},{"$f":"IF( AND( WEEKDAY($C80,2)=1,YEAR($C80)=$N$3, NOT(evenWeek($C80)), $C80<= $F$73), (($F$73 + 1) - $C80 ) /14, 0)","v":0},{"$f":"IF( AND( WEEKDAY($C80,2)=2,YEAR($C80)=$N$3, evenWeek($C80), $C80<=$F$73), (($F$73 + 1) - $C80 ) / 14, 0)","v":0},{"$f":"IF( AND( WEEKDAY($C80,2)=2,YEAR($C80)=$N$3, NOT(evenWeek($C80)), $C80<= $F$73), (($F$73 + 1) - $C80 ) /14, 0)","v":0},{"$f":"IF( AND( WEEKDAY($C80,2)=3,YEAR($C80)=$N$3, evenWeek($C80), $C80<=$F$73), (($F$73 + 1) - $C80 ) / 14, 0)","v":0},{"$f":"IF( AND( WEEKDAY($C80,2)=3,YEAR($C80)=$N$3, NOT(evenWeek($C80)), $C80<= $F$73), (($F$73 + 1) - $C80 ) /14, 0)","v":0},{"$f":"IF( AND( WEEKDAY($C80,2)=4,YEAR($C80)=$N$3, evenWeek($C80), $C80<=$F$73), (($F$73 + 1) - $C80 ) / 14, 0)","v":0},{"$f":"IF( AND( WEEKDAY($C80,2)=4,YEAR($C80)=$N$3, NOT(evenWeek($C80)), $C80<= $F$73), (($F$73 + 1) - $C80 ) /14, 0)","v":0},{"$f":"IF( AND( WEEKDAY($C80,2)=5,YEAR($C80)=$N$3, evenWeek($C80), $C80<=$F$73), (($F$73 + 1) - $C80 ) / 14, 0)","v":0},{"$f":"IF( AND( WEEKDAY($C80,2)=5,YEAR($C80)=$N$3, NOT(evenWeek($C80)), $C80<= $F$73), (($F$73 + 1) - $C80 ) /14, 0)","v":0},{"$f":"IF( AND( WEEKDAY($C80,2)=6,YEAR($C80)=$N$3, evenWeek($C80), $C80<=$F$73), (($F$73 + 1) - $C80 ) / 14, 0)","v":0},{"$f":"IF( AND( WEEKDAY($C80,2)=6,YEAR($C80)=$N$3, NOT(evenWeek($C80)), $C80<= $F$73), (($F$73 + 1) - $C80 ) /14, 0)","v":0},{"$f":"IF( AND( WEEKDAY($C80,2)=7,YEAR($C80)=$N$3, evenWeek($C80), $C80<=$F$73), (($F$73 + 1) - $C80 ) / 14, 0)","v":0},{"$f":"IF( AND( WEEKDAY($C80,2)=7,YEAR($C80)=$N$3, NOT(evenWeek($C80)), $C80<= $F$73), (($F$73 + 1) - $C80 ) /14, 0)","v":0}]
[null,null,"1904-01-05",{"$f":"IF( AND( WEEKDAY($C81,2)=1,YEAR($C81)=$N$3, evenWeek($C81), $C81<=$F$73), (($F$73 + 1) - $C81 ) / 14, 0)","v":0},{"$f":"IF( AND( WEEKDAY($C81,2)=1,YEAR($C81)=$N$3, NOT(evenWeek($C81)), $C81<= $F$73), (($F$73 + 1) - $C81 ) /14, 0)","v":0},{"$f":"IF( AND( WEEKDAY($C81,2)=2,YEAR($C81)=$N$3, evenWeek($C81), $C81<=$F$73), (($F$73 + 1) - $C81 ) / 14, 0)","v":0},{"$f":"IF( AND( WEEKDAY($C81,2)=2,YEAR($C81)=$N$3, NOT(evenWeek($C81)), $C81<= $F$73), (($F$73 + 1) - $C81 ) /14, 0)","v":0},{"$f":"IF( AND( WEEKDAY($C81,2)=3,YEAR($C81)=$N$3, evenWeek($C81), $C81<=$F$73), (($F$73 + 1) - $C81 ) / 14, 0)","v":0},{"$f":"IF( AND( WEEKDAY($C81,2)=3,YEAR($C81)=$N$3, NOT(evenWeek($C81)), $C81<= $F$73), (($F$73 + 1) - $C81 ) /14, 0)","v":0},{"$f":"IF( AND( WEEKDAY($C81,2)=4,YEAR($C81)=$N$3, evenWeek($C81), $C81<=$F$73), (($F$73 + 1) - $C81 ) / 14, 0)","v":0},{"$f":"IF( AND( WEEKDAY($C81,2)=4,YEAR($C81)=$N$3, NOT(evenWeek($C81)), $C81<= $F$73), (($F$73 + 1) - $C81 ) /14, 0)","v":0},{"$f":"IF( AND( WEEKDAY($C81,2)=5,YEAR($C81)=$N$3, evenWeek($C81), $C81<=$F$73), (($F$73 + 1) - $C81 ) / 14, 0)","v":0},{"$f":"IF( AND( WEEKDAY($C81,2)=5,YEAR($C81)=$N$3, NOT(evenWeek($C81)), $C81<= $F$73), (($F$73 + 1) - $C81 ) /14, 0)","v":0},{"$f":"IF( AND( WEEKDAY($C81,2)=6,YEAR($C81)=$N$3, evenWeek($C81), $C81<=$F$73), (($F$73 + 1) - $C81 ) / 14, 0)","v":0},{"$f":"IF( AND( WEEKDAY($C81,2)=6,YEAR($C81)=$N$3, NOT(evenWeek($C81)), $C81<= $F$73), (($F$73 + 1) - $C81 ) /14, 0)","v":0},{"$f":"IF( AND( WEEKDAY($C81,2)=7,YEAR($C81)=$N$3, evenWeek($C81), $C81<=$F$73), (($F$73 + 1) - $C81 ) / 14, 0)","v":0},{"$f":"IF( AND( WEEKDAY($C81,2)=7,YEAR($C81)=$N$3, NOT(evenWeek($C81)), $C81<= $F$73), (($F$73 + 1) - $C81 ) /14, 0)","v":0}]
[null,null,"1904-01-06",{"$f":"IF( AND( WEEKDAY($C82,2)=1,YEAR($C82)=$N$3, evenWeek($C82), $C82<=$F$73), (($F$73 + 1) - $C82 ) / 14, 0)","v":0},{"$f":"IF( AND( WEEKDAY($C82,2)=1,YEAR($C82)=$N$3, NOT(evenWeek($C82)), $C82<= $F$73), (($F$73 + 1) - $C82 ) /14, 0)","v":0},{"$f":"IF( AND( WEEKDAY($C82,2)=2,YEAR($C82)=$N$3, evenWeek($C82), $C82<=$F$73), (($F$73 + 1) - $C82 ) / 14, 0)","v":0},{"$f":"IF( AND( WEEKDAY($C82,2)=2,YEAR($C82)=$N$3, NOT(evenWeek($C82)), $C82<= $F$73), (($F$73 + 1) - $C82 ) /14, 0)","v":0},{"$f":"IF( AND( WEEKDAY($C82,2)=3,YEAR($C82)=$N$3, evenWeek($C82), $C82<=$F$73), (($F$73 + 1) - $C82 ) / 14, 0)","v":0},{"$f":"IF( AND( WEEKDAY($C82,2)=3,YEAR($C82)=$N$3, NOT(evenWeek($C82)), $C82<= $F$73), (($F$73 + 1) - $C82 ) /14, 0)","v":0},{"$f":"IF( AND( WEEKDAY($C82,2)=4,YEAR($C82)=$N$3, evenWeek($C82), $C82<=$F$73), (($F$73 + 1) - $C82 ) / 14, 0)","v":0},{"$f":"IF( AND( WEEKDAY($C82,2)=4,YEAR($C82)=$N$3, NOT(evenWeek($C82)), $C82<= $F$73), (($F$73 + 1) - $C82 ) /14, 0)","v":0},{"$f":"IF( AND( WEEKDAY($C82,2)=5,YEAR($C82)=$N$3, evenWeek($C82), $C82<=$F$73), (($F$73 + 1) - $C82 ) / 14, 0)","v":0},{"$f":"IF( AND( WEEKDAY($C82,2)=5,YEAR($C82)=$N$3, NOT(evenWeek($C82)), $C82<= $F$73), (($F$73 + 1) - $C82 ) /14, 0)","v":0},{"$f":"IF( AND( WEEKDAY($C82,2)=6,YEAR($C82)=$N$3, evenWeek($C82), $C82<=$F$73), (($F$73 + 1) - $C82 ) / 14, 0)","v":0},{"$f":"IF( AND( WEEKDAY($C82,2)=6,YEAR($C82)=$N$3, NOT(evenWeek($C82)), $C82<= $F$73), (($F$73 + 1) - $C82 ) /14, 0)","v":0},{"$f":"IF( AND( WEEKDAY($C82,2)=7,YEAR($C82)=$N$3, evenWeek($C82), $C82<=$F$73), (($F$73 + 1) - $C82 ) / 14, 0)","v":0},{"$f":"IF( AND( WEEKDAY($C82,2)=7,YEAR($C82)=$N$3, NOT(evenWeek($C82)), $C82<= $F$73), (($F$73 + 1) - $C82 ) /14, 0)","v":0}]
[null,null,"1904-01-07",{"$f":"IF( AND( WEEKDAY($C83,2)=1,YEAR($C83)=$N$3, evenWeek($C83), $C83<=$F$73), (($F$73 + 1) - $C83 ) / 14, 0)","v":0},{"$f":"IF( AND( WEEKDAY($C83,2)=1,YEAR($C83)=$N$3, NOT(evenWeek($C83)), $C83<= $F$73), (($F$73 + 1) - $C83 ) /14, 0)","v":0},{"$f":"IF( AND( WEEKDAY($C83,2)=2,YEAR($C83)=$N$3, evenWeek($C83), $C83<=$F$73), (($F$73 + 1) - $C83 ) / 14, 0)","v":0},{"$f":"IF( AND( WEEKDAY($C83,2)=2,YEAR($C83)=$N$3, NOT(evenWeek($C83)), $C83<= $F$73), (($F$73 + 1) - $C83 ) /14, 0)","v":0},{"$f":"IF( AND( WEEKDAY($C83,2)=3,YEAR($C83)=$N$3, evenWeek($C83), $C83<=$F$73), (($F$73 + 1) - $C83 ) / 14, 0)","v":0},{"$f":"IF( AND( WEEKDAY($C83,2)=3,YEAR($C83)=$N$3, NOT(evenWeek($C83)), $C83<= $F$73), (($F$73 + 1) - $C83 ) /14, 0)","v":0},{"$f":"IF( AND( WEEKDAY($C83,2)=4,YEAR($C83)=$N$3, evenWeek($C83), $C83<=$F$73), (($F$73 + 1) - $C83 ) / 14, 0)","v":0},{"$f":"IF( AND( WEEKDAY($C83,2)=4,YEAR($C83)=$N$3, NOT(evenWeek($C83)), $C83<= $F$73), (($F$73 + 1) - $C83 ) /14, 0)","v":0},{"$f":"IF( AND( WEEKDAY($C83,2)=5,YEAR($C83)=$N$3, evenWeek($C83), $C83<=$F$73), (($F$73 + 1) - $C83 ) / 14, 0)","v":0},{"$f":"IF( AND( WEEKDAY($C83,2)=5,YEAR($C83)=$N$3, NOT(evenWeek($C83)), $C83<= $F$73), (($F$73 + 1) - $C83 ) /14, 0)","v":0},{"$f":"IF( AND( WEEKDAY($C83,2)=6,YEAR($C83)=$N$3, evenWeek($C83), $C83<=$F$73), (($F$73 + 1) - $C83 ) / 14, 0)","v":0},{"$f":"IF( AND( WEEKDAY($C83,2)=6,YEAR($C83)=$N$3, NOT(evenWeek($C83)), $C83<= $F$73), (($F$73 + 1) - $C83 ) /14, 0)","v":0},{"$f":"IF( AND( WEEKDAY($C83,2)=7,YEAR($C83)=$N$3, evenWeek($C83), $C83<=$F$73), (($F$73 + 1) - $C83 ) / 14, 0)","v":0},{"$f":"IF( AND( WEEKDAY($C83,2)=7,YEAR($C83)=$N$3, NOT(evenWeek($C83)), $C83<= $F$73), (($F$73 + 1) - $C83 ) /14, 0)","v":0}]
[null,null,"1904-01-08",{"$f":"IF( AND( WEEKDAY($C84,2)=1,YEAR($C84)=$N$3, evenWeek($C84), $C84<=$F$73), (($F$73 + 1) - $C84 ) / 14, 0)","v":0},{"$f":"IF( AND( WEEKDAY($C84,2)=1,YEAR($C84)=$N$3, NOT(evenWeek($C84)), $C84<= $F$73), (($F$73 + 1) - $C84 ) /14, 0)","v":0},{"$f":"IF( AND( WEEKDAY($C84,2)=2,YEAR($C84)=$N$3, evenWeek($C84), $C84<=$F$73), (($F$73 + 1) - $C84 ) / 14, 0)","v":0},{"$f":"IF( AND( WEEKDAY($C84,2)=2,YEAR($C84)=$N$3, NOT(evenWeek($C84)), $C84<= $F$73), (($F$73 + 1) - $C84 ) /14, 0)","v":0},{"$f":"IF( AND( WEEKDAY($C84,2)=3,YEAR($C84)=$N$3, evenWeek($C84), $C84<=$F$73), (($F$73 + 1) - $C84 ) / 14, 0)","v":0},{"$f":"IF( AND( WEEKDAY($C84,2)=3,YEAR($C84)=$N$3, NOT(evenWeek($C84)), $C84<= $F$73), (($F$73 + 1) - $C84 ) /14, 0)","v":0},{"$f":"IF( AND( WEEKDAY($C84,2)=4,YEAR($C84)=$N$3, evenWeek($C84), $C84<=$F$73), (($F$73 + 1) - $C84 ) / 14, 0)","v":0},{"$f":"IF( AND( WEEKDAY($C84,2)=4,YEAR($C84)=$N$3, NOT(evenWeek($C84)), $C84<= $F$73), (($F$73 + 1) - $C84 ) /14, 0)","v":0},{"$f":"IF( AND( WEEKDAY($C84,2)=5,YEAR($C84)=$N$3, evenWeek($C84), $C84<=$F$73), (($F$73 + 1) - $C84 ) / 14, 0)","v":0},{"$f":"IF( AND( WEEKDAY($C84,2)=5,YEAR($C84)=$N$3, NOT(evenWeek($C84)), $C84<= $F$73), (($F$73 + 1) - $C84 ) /14, 0)","v":0},{"$f":"IF( AND( WEEKDAY($C84,2)=6,YEAR($C84)=$N$3, evenWeek($C84), $C84<=$F$73), (($F$73 + 1) - $C84 ) / 14, 0)","v":0},{"$f":"IF( AND( WEEKDAY($C84,2)=6,YEAR($C84)=$N$3, NOT(evenWeek($C84)), $C84<= $F$73), (($F$73 + 1) - $C84 ) /14, 0)","v":0},{"$f":"IF( AND( WEEKDAY($C84,2)=7,YEAR($C84)=$N$3, evenWeek($C84), $C84<=$F$73), (($F$73 + 1) - $C84 ) / 14, 0)","v":0},{"$f":"IF( AND( WEEKDAY($C84,2)=7,YEAR($C84)=$N$3, NOT(evenWeek($C84)), $C84<= $F$73), (($F$73 + 1) - $C84 ) /14, 0)","v":0}]
[null,null,"1904-01-09",{"$f":"IF( AND( WEEKDAY($C85,2)=1,YEAR($C85)=$N$3, evenWeek($C85), $C85<=$F$73), (($F$73 + 1) - $C85 ) / 14, 0)","v":0},{"$f":"IF( AND( WEEKDAY($C85,2)=1,YEAR($C85)=$N$3, NOT(evenWeek($C85)), $C85<= $F$73), (($F$73 + 1) - $C85 ) /14, 0)","v":0},{"$f":"IF( AND( WEEKDAY($C85,2)=2,YEAR($C85)=$N$3, evenWeek($C85), $C85<=$F$73), (($F$73 + 1) - $C85 ) / 14, 0)","v":0},{"$f":"IF( AND( WEEKDAY($C85,2)=2,YEAR($C85)=$N$3, NOT(evenWeek($C85)), $C85<= $F$73), (($F$73 + 1) - $C85 ) /14, 0)","v":0},{"$f":"IF( AND( WEEKDAY($C85,2)=3,YEAR($C85)=$N$3, evenWeek($C85), $C85<=$F$73), (($F$73 + 1) - $C85 ) / 14, 0)","v":0},{"$f":"IF( AND( WEEKDAY($C85,2)=3,YEAR($C85)=$N$3, NOT(evenWeek($C85)), $C85<= $F$73), (($F$73 + 1) - $C85 ) /14, 0)","v":0},{"$f":"IF( AND( WEEKDAY($C85,2)=4,YEAR($C85)=$N$3, evenWeek($C85), $C85<=$F$73), (($F$73 + 1) - $C85 ) / 14, 0)","v":0},{"$f":"IF( AND( WEEKDAY($C85,2)=4,YEAR($C85)=$N$3, NOT(evenWeek($C85)), $C85<= $F$73), (($F$73 + 1) - $C85 ) /14, 0)","v":0},{"$f":"IF( AND( WEEKDAY($C85,2)=5,YEAR($C85)=$N$3, evenWeek($C85), $C85<=$F$73), (($F$73 + 1) - $C85 ) / 14, 0)","v":0},{"$f":"IF( AND( WEEKDAY($C85,2)=5,YEAR($C85)=$N$3, NOT(evenWeek($C85)), $C85<= $F$73), (($F$73 + 1) - $C85 ) /14, 0)","v":0},{"$f":"IF( AND( WEEKDAY($C85,2)=6,YEAR($C85)=$N$3, evenWeek($C85), $C85<=$F$73), (($F$73 + 1) - $C85 ) / 14, 0)","v":0},{"$f":"IF( AND( WEEKDAY($C85,2)=6,YEAR($C85)=$N$3, NOT(evenWeek($C85)), $C85<= $F$73), (($F$73 + 1) - $C85 ) /14, 0)","v":0},{"$f":"IF( AND( WEEKDAY($C85,2)=7,YEAR($C85)=$N$3, evenWeek($C85), $C85<=$F$73), (($F$73 + 1) - $C85 ) / 14, 0)","v":0},{"$f":"IF( AND( WEEKDAY($C85,2)=7,YEAR($C85)=$N$3, NOT(evenWeek($C85)), $C85<= $F$73), (($F$73 + 1) - $C85 ) /14, 0)","v":0}]
[null,null,"1904-01-10",{"$f":"IF( AND( WEEKDAY($C86,2)=1,YEAR($C86)=$N$3, evenWeek($C86), $C86<=$F$73), (($F$73 + 1) - $C86 ) / 14, 0)","v":0},{"$f":"IF( AND( WEEKDAY($C86,2)=1,YEAR($C86)=$N$3, NOT(evenWeek($C86)), $C86<= $F$73), (($F$73 + 1) - $C86 ) /14, 0)","v":0},{"$f":"IF( AND( WEEKDAY($C86,2)=2,YEAR($C86)=$N$3, evenWeek($C86), $C86<=$F$73), (($F$73 + 1) - $C86 ) / 14, 0)","v":0},{"$f":"IF( AND( WEEKDAY($C86,2)=2,YEAR($C86)=$N$3, NOT(evenWeek($C86)), $C86<= $F$73), (($F$73 + 1) - $C86 ) /14, 0)","v":0},{"$f":"IF( AND( WEEKDAY($C86,2)=3,YEAR($C86)=$N$3, evenWeek($C86), $C86<=$F$73), (($F$73 + 1) - $C86 ) / 14, 0)","v":0},{"$f":"IF( AND( WEEKDAY($C86,2)=3,YEAR($C86)=$N$3, NOT(evenWeek($C86)), $C86<= $F$73), (($F$73 + 1) - $C86 ) /14, 0)","v":0},{"$f":"IF( AND( WEEKDAY($C86,2)=4,YEAR($C86)=$N$3, evenWeek($C86), $C86<=$F$73), (($F$73 + 1) - $C86 ) / 14, 0)","v":0},{"$f":"IF( AND( WEEKDAY($C86,2)=4,YEAR($C86)=$N$3, NOT(evenWeek($C86)), $C86<= $F$73), (($F$73 + 1) - $C86 ) /14, 0)","v":0},{"$f":"IF( AND( WEEKDAY($C86,2)=5,YEAR($C86)=$N$3, evenWeek($C86), $C86<=$F$73), (($F$73 + 1) - $C86 ) / 14, 0)","v":0},{"$f":"IF( AND( WEEKDAY($C86,2)=5,YEAR($C86)=$N$3, NOT(evenWeek($C86)), $C86<= $F$73), (($F$73 + 1) - $C86 ) /14, 0)","v":0},{"$f":"IF( AND( WEEKDAY($C86,2)=6,YEAR($C86)=$N$3, evenWeek($C86), $C86<=$F$73), (($F$73 + 1) - $C86 ) / 14, 0)","v":0},{"$f":"IF( AND( WEEKDAY($C86,2)=6,YEAR($C86)=$N$3, NOT(evenWeek($C86)), $C86<= $F$73), (($F$73 + 1) - $C86 ) /14, 0)","v":0},{"$f":"IF( AND( WEEKDAY($C86,2)=7,YEAR($C86)=$N$3, evenWeek($C86), $C86<=$F$73), (($F$73 + 1) - $C86 ) / 14, 0)","v":0},{"$f":"IF( AND( WEEKDAY($C86,2)=7,YEAR($C86)=$N$3, NOT(evenWeek($C86)), $C86<= $F$73), (($F$73 + 1) - $C86 ) /14, 0)","v":0}]
[null,null,{"$f":"C86+1","v":"1904-01-11"},{"$f":"IF( AND( WEEKDAY($C87,2)=1,YEAR($C87)=$N$3, evenWeek($C87), $C87<=$F$73), (($F$73 + 1) - $C87 ) / 14, 0)","v":0},{"$f":"IF( AND( WEEKDAY($C87,2)=1,YEAR($C87)=$N$3, NOT(evenWeek($C87)), $C87<= $F$73), (($F$73 + 1) - $C87 ) /14, 0)","v":0},{"$f":"IF( AND( WEEKDAY($C87,2)=2,YEAR($C87)=$N$3, evenWeek($C87), $C87<=$F$73), (($F$73 + 1) - $C87 ) / 14, 0)","v":0},{"$f":"IF( AND( WEEKDAY($C87,2)=2,YEAR($C87)=$N$3, NOT(evenWeek($C87)), $C87<= $F$73), (($F$73 + 1) - $C87 ) /14, 0)","v":0},{"$f":"IF( AND( WEEKDAY($C87,2)=3,YEAR($C87)=$N$3, evenWeek($C87), $C87<=$F$73), (($F$73 + 1) - $C87 ) / 14, 0)","v":0},{"$f":"IF( AND( WEEKDAY($C87,2)=3,YEAR($C87)=$N$3, NOT(evenWeek($C87)), $C87<= $F$73), (($F$73 + 1) - $C87 ) /14, 0)","v":0},{"$f":"IF( AND( WEEKDAY($C87,2)=4,YEAR($C87)=$N$3, evenWeek($C87), $C87<=$F$73), (($F$73 + 1) - $C87 ) / 14, 0)","v":0},{"$f":"IF( AND( WEEKDAY($C87,2)=4,YEAR($C87)=$N$3, NOT(evenWeek($C87)), $C87<= $F$73), (($F$73 + 1) - $C87 ) /14, 0)","v":0},{"$f":"IF( AND( WEEKDAY($C87,2)=5,YEAR($C87)=$N$3, evenWeek($C87), $C87<=$F$73), (($F$73 + 1) - $C87 ) / 14, 0)","v":0},{"$f":"IF( AND( WEEKDAY($C87,2)=5,YEAR($C87)=$N$3, NOT(evenWeek($C87)), $C87<= $F$73), (($F$73 + 1) - $C87 ) /14, 0)","v":0},{"$f":"IF( AND( WEEKDAY($C87,2)=6,YEAR($C87)=$N$3, evenWeek($C87), $C87<=$F$73), (($F$73 + 1) - $C87 ) / 14, 0)","v":0},{"$f":"IF( AND( WEEKDAY($C87,2)=6,YEAR($C87)=$N$3, NOT(evenWeek($C87)), $C87<= $F$73), (($F$73 + 1) - $C87 ) /14, 0)","v":0},{"$f":"IF( AND( WEEKDAY($C87,2)=7,YEAR($C87)=$N$3, evenWeek($C87), $C87<=$F$73), (($F$73 + 1) - $C87 ) / 14, 0)","v":0},{"$f":"IF( AND( WEEKDAY($C87,2)=7,YEAR($C87)=$N$3, NOT(evenWeek($C87)), $C87<= $F$73), (($F$73 + 1) - $C87 ) /14, 0)","v":0}]
[null,null,"1904-01-12",{"$f":"IF( AND( WEEKDAY($C88,2)=1,YEAR($C88)=$N$3, evenWeek($C88), $C88<=$F$73), (($F$73 + 1) - $C88 ) / 14, 0)","v":0},{"$f":"IF( AND( WEEKDAY($C88,2)=1,YEAR($C88)=$N$3, NOT(evenWeek($C88)), $C88<= $F$73), (($F$73 + 1) - $C88 ) /14, 0)","v":0},{"$f":"IF( AND( WEEKDAY($C88,2)=2,YEAR($C88)=$N$3, evenWeek($C88), $C88<=$F$73), (($F$73 + 1) - $C88 ) / 14, 0)","v":0},{"$f":"IF( AND( WEEKDAY($C88,2)=2,YEAR($C88)=$N$3, NOT(evenWeek($C88)), $C88<= $F$73), (($F$73 + 1) - $C88 ) /14, 0)","v":0},{"$f":"IF( AND( WEEKDAY($C88,2)=3,YEAR($C88)=$N$3, evenWeek($C88), $C88<=$F$73), (($F$73 + 1) - $C88 ) / 14, 0)","v":0},{"$f":"IF( AND( WEEKDAY($C88,2)=3,YEAR($C88)=$N$3, NOT(evenWeek($C88)), $C88<= $F$73), (($F$73 + 1) - $C88 ) /14, 0)","v":0},{"$f":"IF( AND( WEEKDAY($C88,2)=4,YEAR($C88)=$N$3, evenWeek($C88), $C88<=$F$73), (($F$73 + 1) - $C88 ) / 14, 0)","v":0},{"$f":"IF( AND( WEEKDAY($C88,2)=4,YEAR($C88)=$N$3, NOT(evenWeek($C88)), $C88<= $F$73), (($F$73 + 1) - $C88 ) /14, 0)","v":0},{"$f":"IF( AND( WEEKDAY($C88,2)=5,YEAR($C88)=$N$3, evenWeek($C88), $C88<=$F$73), (($F$73 + 1) - $C88 ) / 14, 0)","v":0},{"$f":"IF( AND( WEEKDAY($C88,2)=5,YEAR($C88)=$N$3, NOT(evenWeek($C88)), $C88<= $F$73), (($F$73 + 1) - $C88 ) /14, 0)","v":0},{"$f":"IF( AND( WEEKDAY($C88,2)=6,YEAR($C88)=$N$3, evenWeek($C88), $C88<=$F$73), (($F$73 + 1) - $C88 ) / 14, 0)","v":0},{"$f":"IF( AND( WEEKDAY($C88,2)=6,YEAR($C88)=$N$3, NOT(evenWeek($C88)), $C88<= $F$73), (($F$73 + 1) - $C88 ) /14, 0)","v":0},{"$f":"IF( AND( WEEKDAY($C88,2)=7,YEAR($C88)=$N$3, evenWeek($C88), $C88<=$F$73), (($F$73 + 1) - $C88 ) / 14, 0)","v":0},{"$f":"IF( AND( WEEKDAY($C88,2)=7,YEAR($C88)=$N$3, NOT(evenWeek($C88)), $C88<= $F$73), (($F$73 + 1) - $C88 ) /14, 0)","v":0}]
[null,null,{"$f":"C88+1","v":"1904-01-13"},{"$f":"IF( AND( WEEKDAY($C89,2)=1,YEAR($C89)=$N$3, evenWeek($C89), $C89<=$F$73), (($F$73 + 1) - $C89 ) / 14, 0)","v":0},{"$f":"IF( AND( WEEKDAY($C89,2)=1,YEAR($C89)=$N$3, NOT(evenWeek($C89)), $C89<= $F$73), (($F$73 + 1) - $C89 ) /14, 0)","v":0},{"$f":"IF( AND( WEEKDAY($C89,2)=2,YEAR($C89)=$N$3, evenWeek($C89), $C89<=$F$73), (($F$73 + 1) - $C89 ) / 14, 0)","v":0},{"$f":"IF( AND( WEEKDAY($C89,2)=2,YEAR($C89)=$N$3, NOT(evenWeek($C89)), $C89<= $F$73), (($F$73 + 1) - $C89 ) /14, 0)","v":0},{"$f":"IF( AND( WEEKDAY($C89,2)=3,YEAR($C89)=$N$3, evenWeek($C89), $C89<=$F$73), (($F$73 + 1) - $C89 ) / 14, 0)","v":0},{"$f":"IF( AND( WEEKDAY($C89,2)=3,YEAR($C89)=$N$3, NOT(evenWeek($C89)), $C89<= $F$73), (($F$73 + 1) - $C89 ) /14, 0)","v":0},{"$f":"IF( AND( WEEKDAY($C89,2)=4,YEAR($C89)=$N$3, evenWeek($C89), $C89<=$F$73), (($F$73 + 1) - $C89 ) / 14, 0)","v":0},{"$f":"IF( AND( WEEKDAY($C89,2)=4,YEAR($C89)=$N$3, NOT(evenWeek($C89)), $C89<= $F$73), (($F$73 + 1) - $C89 ) /14, 0)","v":0},{"$f":"IF( AND( WEEKDAY($C89,2)=5,YEAR($C89)=$N$3, evenWeek($C89), $C89<=$F$73), (($F$73 + 1) - $C89 ) / 14, 0)","v":0},{"$f":"IF( AND( WEEKDAY($C89,2)=5,YEAR($C89)=$N$3, NOT(evenWeek($C89)), $C89<= $F$73), (($F$73 + 1) - $C89 ) /14, 0)","v":0},{"$f":"IF( AND( WEEKDAY($C89,2)=6,YEAR($C89)=$N$3, evenWeek($C89), $C89<=$F$73), (($F$73 + 1) - $C89 ) / 14, 0)","v":0},{"$f":"IF( AND( WEEKDAY($C89,2)=6,YEAR($C89)=$N$3, NOT(evenWeek($C89)), $C89<= $F$73), (($F$73 + 1) - $C89 ) /14, 0)","v":0},{"$f":"IF( AND( WEEKDAY($C89,2)=7,YEAR($C89)=$N$3, evenWeek($C89), $C89<=$F$73), (($F$73 + 1) - $C89 ) / 14, 0)","v":0},{"$f":"IF( AND( WEEKDAY($C89,2)=7,YEAR($C89)=$N$3, NOT(evenWeek($C89)), $C89<= $F$73), (($F$73 + 1) - $C89 ) /14, 0)","v":0}]
[null,null,"1904-01-14",{"$f":"IF( AND( WEEKDAY($C90,2)=1,YEAR($C90)=$N$3, evenWeek($C90), $C90<=$F$73), (($F$73 + 1) - $C90 ) / 14, 0)","v":0},{"$f":"IF( AND( WEEKDAY($C90,2)=1,YEAR($C90)=$N$3, NOT(evenWeek($C90)), $C90<= $F$73), (($F$73 + 1) - $C90 ) /14, 0)","v":0},{"$f":"IF( AND( WEEKDAY($C90,2)=2,YEAR($C90)=$N$3, evenWeek($C90), $C90<=$F$73), (($F$73 + 1) - $C90 ) / 14, 0)","v":0},{"$f":"IF( AND( WEEKDAY($C90,2)=2,YEAR($C90)=$N$3, NOT(evenWeek($C90)), $C90<= $F$73), (($F$73 + 1) - $C90 ) /14, 0)","v":0},{"$f":"IF( AND( WEEKDAY($C90,2)=3,YEAR($C90)=$N$3, evenWeek($C90), $C90<=$F$73), (($F$73 + 1) - $C90 ) / 14, 0)","v":0},{"$f":"IF( AND( WEEKDAY($C90,2)=3,YEAR($C90)=$N$3, NOT(evenWeek($C90)), $C90<= $F$73), (($F$73 + 1) - $C90 ) /14, 0)","v":0},{"$f":"IF( AND( WEEKDAY($C90,2)=4,YEAR($C90)=$N$3, evenWeek($C90), $C90<=$F$73), (($F$73 + 1) - $C90 ) / 14, 0)","v":0},{"$f":"IF( AND( WEEKDAY($C90,2)=4,YEAR($C90)=$N$3, NOT(evenWeek($C90)), $C90<= $F$73), (($F$73 + 1) - $C90 ) /14, 0)","v":0},{"$f":"IF( AND( WEEKDAY($C90,2)=5,YEAR($C90)=$N$3, evenWeek($C90), $C90<=$F$73), (($F$73 + 1) - $C90 ) / 14, 0)","v":0},{"$f":"IF( AND( WEEKDAY($C90,2)=5,YEAR($C90)=$N$3, NOT(evenWeek($C90)), $C90<= $F$73), (($F$73 + 1) - $C90 ) /14, 0)","v":0},{"$f":"IF( AND( WEEKDAY($C90,2)=6,YEAR($C90)=$N$3, evenWeek($C90), $C90<=$F$73), (($F$73 + 1) - $C90 ) / 14, 0)","v":0},{"$f":"IF( AND( WEEKDAY($C90,2)=6,YEAR($C90)=$N$3, NOT(evenWeek($C90)), $C90<= $F$73), (($F$73 + 1) - $C90 ) /14, 0)","v":0},{"$f":"IF( AND( WEEKDAY($C90,2)=7,YEAR($C90)=$N$3, evenWeek($C90), $C90<=$F$73), (($F$73 + 1) - $C90 ) / 14, 0)","v":0},{"$f":"IF( AND( WEEKDAY($C90,2)=7,YEAR($C90)=$N$3, NOT(evenWeek($C90)), $C90<= $F$73), (($F$73 + 1) - $C90 ) /14, 0)","v":0}]
[null,null,"# dagen: ",{"$f":"ROUNDUP(SUM(D77:D90),0)","v":0},{"$f":"ROUNDUP(SUM(E77:E90),0)","v":0},0,0,0,0,0,0,0,0,{"$f":"ROUNDUP(SUM(N77:N90),0)","v":0},{"$f":"ROUNDUP(SUM(O77:O90),0)","v":0},{"$f":"ROUNDUP(SUM(P77:P90),0)","v":0},{"$f":"ROUNDUP(SUM(Q77:Q90),0)","v":0}]
[]
[]
[null,null,"NCF dagen","ma even","ma oneven","di even","di oneven","wo even","wo oneven","do even","do oneven","vr even","vr oneven","za even","za oneven","zo even","zo oneven","totaal"]
[null,{"$f":"B25","v":"Nieuwjaarsdag"},"2024-01-01",{"$f":"IF( AND($C95>($D$73-1),$C95<($F$73+1),WEEKDAY($C95,2)=1, evenWeek($C95) ),-1,\"\")","v":""},{"$f":"IF( AND($C95>($D$73-1),$C95<($F$73+1),WEEKDAY($C95,2)=1, NOT(evenWeek($C95)) ),-1,\"\")","v":""},{"$f":"IF( AND($C95>($D$73-1),$C95<($F$73+1),WEEKDAY($C95,2)=2, evenWeek($C95) ),-1,\"\")","v":""},{"$f":"IF( AND($C95>($D$73-1),$C95<($F$73+1),WEEKDAY($C95,2)=2, NOT(evenWeek($C95)) ),-1,\"\")","v":""},{"$f":"IF( AND($C95>($D$73-1),$C95<($F$73+1),WEEKDAY($C95,2)=3, evenWeek($C95) ),-1,\"\")","v":""},{"$f":"IF( AND($C95>($D$73-1),$C95<($F$73+1),WEEKDAY($C95,2)=3, NOT(evenWeek($C95)) ),-1,\"\")","v":""},{"$f":"IF( AND($C95>($D$73-1),$C95<($F$73+1),WEEKDAY($C95,2)=4, evenWeek($C95) ),-1,\"\")","v":""},{"$f":"IF( AND($C95>($D$73-1),$C95<($F$73+1),WEEKDAY($C95,2)=4, NOT(evenWeek($C95)) ),-1,\"\")","v":""},{"$f":"IF( AND($C95>($D$73-1),$C95<($F$73+1),WEEKDAY($C95,2)=5, evenWeek($C95) ),-1,\"\")","v":""},{"$f":"IF( AND($C95>($D$73-1),$C95<($F$73+1),WEEKDAY($C95,2)=5, NOT(evenWeek($C95)) ),-1,\"\")","v":""},{"$f":"IF( AND($C95>($D$73-1),$C95<($F$73+1),WEEKDAY($C95,2)=6, evenWeek($C95) ),-1,\"\")","v":""},{"$f":"IF( AND($C95>($D$73-1),$C95<($F$73+1),WEEKDAY($C95,2)=6, NOT(evenWeek($C95)) ),-1,\"\")","v":""},{"$f":"IF( AND($C95>($D$73-1),$C95<($F$73+1),WEEKDAY($C95,2)=7, evenWeek($C95) ),-1,\"\")","v":""},{"$f":"IF( AND($C95>($D$73-1),$C95<($F$73+1),WEEKDAY($C95,2)=7, NOT(evenWeek($C95)) ),-1,\"\")","v":""}]
[null,"Goede vrijdag","2024-03-29",null,null,null,null,null,null,null,null,{"$f":"IF( AND($C96>($D$73-1),$C96<($F$73+1), evenWeek($C96) ),-1,\"\")","v":""},{"$f":"IF( AND($C96>($D$73-1),$C96<($F$73+1), NOT(evenWeek($C96)) ),-1,\"\")","v":""}]
[null,"2e paasdag","2024-04-01",{"$f":"IF( AND($C97>($D$73-1),$C97<($F$73+1), evenWeek($C97) ),-1,\"\")","v":""},{"$f":"IF( AND($C97>($D$73-1),$C97<($F$73+1), NOT(evenWeek($C97)) ),-1,\"\")","v":""}]
[null,"Koningsdag","2024-04-27",{"$f":"IF( AND($C98>($D$73-1),$C98<($F$73+1),WEEKDAY($C98,2)=1, evenWeek($C98) ),-1,\"\")","v":""},{"$f":"IF( AND($C98>($D$73-1),$C98<($F$73+1),WEEKDAY($C98,2)=1, NOT(evenWeek($C98)) ),-1,\"\")","v":""},{"$f":"IF( AND($C98>($D$73-1),$C98<($F$73+1),WEEKDAY($C98,2)=2, evenWeek($C98) ),-1,\"\")","v":""},{"$f":"IF( AND($C98>($D$73-1),$C98<($F$73+1),WEEKDAY($C98,2)=2, NOT(evenWeek($C98)) ),-1,\"\")","v":""},{"$f":"IF( AND($C98>($D$73-1),$C98<($F$73+1),WEEKDAY($C98,2)=3, evenWeek($C98) ),-1,\"\")","v":""},{"$f":"IF( AND($C98>($D$73-1),$C98<($F$73+1),WEEKDAY($C98,2)=3, NOT(evenWeek($C98)) ),-1,\"\")","v":""},{"$f":"IF( AND($C98>($D$73-1),$C98<($F$73+1),WEEKDAY($C98,2)=4, evenWeek($C98) ),-1,\"\")","v":""},{"$f":"IF( AND($C98>($D$73-1),$C98<($F$73+1),WEEKDAY($C98,2)=4, NOT(evenWeek($C98)) ),-1,\"\")","v":""},{"$f":"IF( AND($C98>($D$73-1),$C98<($F$73+1),WEEKDAY($C98,2)=5, evenWeek($C98) ),-1,\"\")","v":""},{"$f":"IF( AND($C98>($D$73-1),$C98<($F$73+1),WEEKDAY($C98,2)=5, NOT(evenWeek($C98)) ),-1,\"\")","v":""},{"$f":"IF( AND($C98>($D$73-1),$C98<($F$73+1),WEEKDAY($C98,2)=6, evenWeek($C98) ),-1,\"\")","v":""},{"$f":"IF( AND($C98>($D$73-1),$C98<($F$73+1),WEEKDAY($C98,2)=6, NOT(evenWeek($C98)) ),-1,\"\")","v":""},{"$f":"IF( AND($C98>($D$73-1),$C98<($F$73+1),WEEKDAY($C98,2)=7, evenWeek($C98) ),-1,\"\")","v":""},{"$f":"IF( AND($C98>($D$73-1),$C98<($F$73+1),WEEKDAY($C98,2)=7, NOT(evenWeek($C98)) ),-1,\"\")","v":""}]
[null,"Bevrijdingsdag","2024-05-05",{"$f":"IF( AND($C99>($D$73-1),$C99<($F$73+1),WEEKDAY($C99,2)=1, evenWeek($C99) ),-1,\"\")","v":""},{"$f":"IF( AND($C99>($D$73-1),$C99<($F$73+1),WEEKDAY($C99,2)=1, NOT(evenWeek($C99)) ),-1,\"\")","v":""},{"$f":"IF( AND($C99>($D$73-1),$C99<($F$73+1),WEEKDAY($C99,2)=2, evenWeek($C99) ),-1,\"\")","v":""},{"$f":"IF( AND($C99>($D$73-1),$C99<($F$73+1),WEEKDAY($C99,2)=2, NOT(evenWeek($C99)) ),-1,\"\")","v":""},{"$f":"IF( AND($C99>($D$73-1),$C99<($F$73+1),WEEKDAY($C99,2)=3, evenWeek($C99) ),-1,\"\")","v":""},{"$f":"IF( AND($C99>($D$73-1),$C99<($F$73+1),WEEKDAY($C99,2)=3, NOT(evenWeek($C99)) ),-1,\"\")","v":""},{"$f":"IF( AND($C99>($D$73-1),$C99<($F$73+1),WEEKDAY($C99,2)=4, evenWeek($C99) ),-1,\"\")","v":""},{"$f":"IF( AND($C99>($D$73-1),$C99<($F$73+1),WEEKDAY($C99,2)=4, NOT(evenWeek($C99)) ),-1,\"\")","v":""},{"$f":"IF( AND($C99>($D$73-1),$C99<($F$73+1),WEEKDAY($C99,2)=5, evenWeek($C99) ),-1,\"\")","v":""},{"$f":"IF( AND($C99>($D$73-1),$C99<($F$73+1),WEEKDAY($C99,2)=5, NOT(evenWeek($C99)) ),-1,\"\")","v":""},{"$f":"IF( AND($C99>($D$73-1),$C99<($F$73+1),WEEKDAY($C99,2)=6, evenWeek($C99) ),-1,\"\")","v":""},{"$f":"IF( AND($C99>($D$73-1),$C99<($F$73+1),WEEKDAY($C99,2)=6, NOT(evenWeek($C99)) ),-1,\"\")","v":""},{"$f":"IF( AND($C99>($D$73-1),$C99<($F$73+1),WEEKDAY($C99,2)=7, evenWeek($C99) ),-1,\"\")","v":""},{"$f":"IF( AND($C99>($D$73-1),$C99<($F$73+1),WEEKDAY($C99,2)=7, NOT(evenWeek($C99)) ),-1,\"\")","v":""}]
[null,"Hemelvaart","2024-05-09",null,null,null,null,null,null,{"$f":"IF( AND($C100>($D$73-1),$C100<($F$73+1), evenWeek($C100) ),-1,\"\")","v":""},{"$f":"IF( AND($C100>($D$73-1),$C100<($F$73+1), NOT(evenWeek($C100)) ),-1,\"\")","v":""}]
[null,"2e Pinksterdag","2024-05-20",{"$f":"IF( AND($C101>($D$73-1),$C101<($F$73+1), evenWeek($C101) ),-1,\"\")","v":""},{"$f":"IF( AND($C101>($D$73-1),$C101<($F$73+1), NOT(evenWeek($C101)) ),-1,\"\")","v":""}]
[null,"1e Kerstdag","2024-12-25",{"$f":"IF( AND($C102>($D$73-1),$C102<($F$73+1),WEEKDAY($C102,2)=1, evenWeek($C102) ),-1,\"\")","v":""},{"$f":"IF( AND($C102>($D$73-1),$C102<($F$73+1),WEEKDAY($C102,2)=1, NOT(evenWeek($C102)) ),-1,\"\")","v":""},{"$f":"IF( AND($C102>($D$73-1),$C102<($F$73+1),WEEKDAY($C102,2)=2, evenWeek($C102) ),-1,\"\")","v":""},{"$f":"IF( AND($C102>($D$73-1),$C102<($F$73+1),WEEKDAY($C102,2)=2, NOT(evenWeek($C102)) ),-1,\"\")","v":""},{"$f":"IF( AND($C102>($D$73-1),$C102<($F$73+1),WEEKDAY($C102,2)=3, evenWeek($C102) ),-1,\"\")","v":""},{"$f":"IF( AND($C102>($D$73-1),$C102<($F$73+1),WEEKDAY($C102,2)=3, NOT(evenWeek($C102)) ),-1,\"\")","v":""},{"$f":"IF( AND($C102>($D$73-1),$C102<($F$73+1),WEEKDAY($C102,2)=4, evenWeek($C102) ),-1,\"\")","v":""},{"$f":"IF( AND($C102>($D$73-1),$C102<($F$73+1),WEEKDAY($C102,2)=4, NOT(evenWeek($C102)) ),-1,\"\")","v":""},{"$f":"IF( AND($C102>($D$73-1),$C102<($F$73+1),WEEKDAY($C102,2)=5, evenWeek($C102) ),-1,\"\")","v":""},{"$f":"IF( AND($C102>($D$73-1),$C102<($F$73+1),WEEKDAY($C102,2)=5, NOT(evenWeek($C102)) ),-1,\"\")","v":""},{"$f":"IF( AND($C102>($D$73-1),$C102<($F$73+1),WEEKDAY($C102,2)=6, evenWeek($C102) ),-1,\"\")","v":""},{"$f":"IF( AND($C102>($D$73-1),$C102<($F$73+1),WEEKDAY($C102,2)=6, NOT(evenWeek($C102)) ),-1,\"\")","v":""},{"$f":"IF( AND($C102>($D$73-1),$C102<($F$73+1),WEEKDAY($C102,2)=7, evenWeek($C102) ),-1,\"\")","v":""},{"$f":"IF( AND($C102>($D$73-1),$C102<($F$73+1),WEEKDAY($C102,2)=7, NOT(evenWeek($C102)) ),-1,\"\")","v":""}]
[null,"2e Kerstdag","2024-12-26",{"$f":"IF( AND($C103>($D$73-1),$C103<($F$73+1),WEEKDAY($C103,2)=1, evenWeek($C103) ),-1,\"\")","v":""},{"$f":"IF( AND($C103>($D$73-1),$C103<($F$73+1),WEEKDAY($C103,2)=1, NOT(evenWeek($C103)) ),-1,\"\")","v":""},{"$f":"IF( AND($C103>($D$73-1),$C103<($F$73+1),WEEKDAY($C103,2)=2, evenWeek($C103) ),-1,\"\")","v":""},{"$f":"IF( AND($C103>($D$73-1),$C103<($F$73+1),WEEKDAY($C103,2)=2, NOT(evenWeek($C103)) ),-1,\"\")","v":""},{"$f":"IF( AND($C103>($D$73-1),$C103<($F$73+1),WEEKDAY($C103,2)=3, evenWeek($C103) ),-1,\"\")","v":""},{"$f":"IF( AND($C103>($D$73-1),$C103<($F$73+1),WEEKDAY($C103,2)=3, NOT(evenWeek($C103)) ),-1,\"\")","v":""},{"$f":"IF( AND($C103>($D$73-1),$C103<($F$73+1),WEEKDAY($C103,2)=4, evenWeek($C103) ),-1,\"\")","v":""},{"$f":"IF( AND($C103>($D$73-1),$C103<($F$73+1),WEEKDAY($C103,2)=4, NOT(evenWeek($C103)) ),-1,\"\")","v":""},{"$f":"IF( AND($C103>($D$73-1),$C103<($F$73+1),WEEKDAY($C103,2)=5, evenWeek($C103) ),-1,\"\")","v":""},{"$f":"IF( AND($C103>($D$73-1),$C103<($F$73+1),WEEKDAY($C103,2)=5, NOT(evenWeek($C103)) ),-1,\"\")","v":""},{"$f":"IF( AND($C103>($D$73-1),$C103<($F$73+1),WEEKDAY($C103,2)=6, evenWeek($C103) ),-1,\"\")","v":""},{"$f":"IF( AND($C103>($D$73-1),$C103<($F$73+1),WEEKDAY($C103,2)=6, NOT(evenWeek($C103)) ),-1,\"\")","v":""},{"$f":"IF( AND($C103>($D$73-1),$C103<($F$73+1),WEEKDAY($C103,2)=7, evenWeek($C103) ),-1,\"\")","v":""},{"$f":"IF( AND($C103>($D$73-1),$C103<($F$73+1),WEEKDAY($C103,2)=7, NOT(evenWeek($C103)) ),-1,\"\")","v":""}]
[null,"Verplicht1","2024-05-10","","","","","","","","","","","","","",""]
[null,"Verplicht2","2024-12-27","","","","","","","","","","","","","",""]
[null,"Verplicht3","2024-12-30","","","","","","","","","","","","","",""]
[null,"Verplicht4","2024-12-31","","","","","","","","","","","","","",""]
[null,"Verplicht5","1904-01-01","","","","","","","","",-1,"","","","",""]
[null,"werkbare dagen",null,{"$f":"IF(OR(YEAR($D$73)<>$N$3,YEAR($F$73)<>$N$3),0,SUM(D91,D95:D108))","v":0},0,0,0,0,0,0,0,0,0,0,0,0,0,{"$f":"SUM(D109:O109)","v":0}]
[]
[null,"standaard werkweek",null,40,38,36]
[null,"bijbehorend verlofsaldo",null,{"$f":"D42","v":428},{"$f":"E42","v":323},{"$f":"F42","v":219}]
[null,"# werkdagen in jaar",{"$f":"C43","v":302}]
[]
[null,"(Z) Periodefactor werkbare dagen per volledig kalenderjaar",null,null,null,null,null,null,null,null,{"$f":"IF(AND(D73>0,F73>0),R109/C113,0)","v":0}]
[]
[null,"(A) Omvang aanstelling in fulltime equivalenten (fte's)",null,null,null,null,null,null,null,null,{"$f":"DIENSTVERBANDGEGEVENS!J28","v":1}]
[null,null,null,null,null,null,null,null,"keuzerondje"]
[null,"(B) Standaard werkweek bij volledige aanstelling, vul in 36, 38 of 40",null,null,null,null,null,null,3,null,{"$f":"IF(I119=1,36,IF(I119=2,38,IF(I119=3,40,0)))","v":40}]
[]
[null,"(C) Totaal aantal netto werkbare uren in periode 2 ( A * 1659 * Z )",null,null,null,null,null,null,null,null,{"$f":"IF($N$4,K117*$K$42*K115,0)","v":0}]
[]
[null,"(D) Bruto aantal werkbare uren bij aanstellingsomvang ( A * B )",null,null,null,null,null,null,null,null,{"$f":"K117*K119","v":40}]
[]
[null,"(E) Keuze tijdsbesteding",null,"maandag","dinsdag","woensdag","donderdag","vrijdag","zaterdag",null,"gemiddeld"]
[null,null,"even week",{"$f":"DIENSTVERBANDGEGEVENS!D37","v":0},{"$f":"DIENSTVERBANDGEGEVENS!E37","v":0},{"$f":"DIENSTVERBANDGEGEVENS!F37","v":0},{"$f":"DIENSTVERBANDGEGEVENS!G37","v":0},{"$f":"DIENSTVERBANDGEGEVENS!H37","v":0},{"$f":"DIENSTVERBANDGEGEVENS!I37","v":0},null,"totaal"]
[null,"totaal even",null,{"$f":"D126*D109","v":0},{"$f":"E126*F109","v":0},{"$f":"F126*H109","v":0},{"$f":"G126*J109","v":0},{"$f":"H126*L109","v":0},{"$f":"I126*N109","v":0}]
[null,null,"oneven week",{"$f":"DIENSTVERBANDGEGEVENS!D39","v":0},{"$f":"DIENSTVERBANDGEGEVENS!E39","v":0},{"$f":"DIENSTVERBANDGEGEVENS!F39","v":0},{"$f":"DIENSTVERBANDGEGEVENS!G39","v":0},{"$f":"DIENSTVERBANDGEGEVENS!H39","v":0},{"$f":"DIENSTVERBANDGEGEVENS!I39","v":0},null,{"$f":"SUM(D126:I126,D128:I128)/2","v":0}]
[null,"totaal oneven",null,{"$f":"D128*E109","v":0},{"$f":"E128*G109","v":0},{"$f":"F128*I109","v":0},{"$f":"G128*K109","v":0},{"$f":"H128*M109","v":0},{"$f":"I128*O109","v":0}]
[null,"(F) werkbare uren (gecorrigeerd voor feestdagen en overige niet-werkbare dagen)",null,null,null,null,null,null,null,null,{"$f":"IF(AND(D73>0,F73>0,$N$4),SUM(D127:I127,D129:I129),0)","v":0}]
[]
[null,"(G) Bruto CAO verlofuren in periode 2   ( A * verlofsaldo * Z )",null,null,null,null,null,null,null,null,{"$f":"(SUM(K117*IF(K119=0,0,IF(K119=D111,D112,IF(K119=E111,E112,IF(K119=F111,F112,\"\")))))*K115)","v":0}]
[]
[null,"(H) Werkbare uren gecorrigeerd voor bruto verlofuren  ( F - G )",null,null,null,null,null,null,null,null,{"$f":"IF(K123=0,0,K130-K132)","v":0}]
[]
[null,"(I) teveel (+) / te weinig (-) gewerkte uren  ( H - C )",null,null,null,null,null,null,null,null,{"$f":"K134-K121","v":0}]
[]
[null,"(J) Opgebouwde netto CAO verlofuren  ( G + I )",null,null,null,null,null,null,null,null,{"$f":"K132+K136","v":0}]
[]
[]
[]
[null,null,null,{"$f":"IF(D144,\"datum !\",IF(OR(D143=0,YEAR(D143)=$N$3),\"\",\"datum !\"))","v":""},null,{"$f":"IF(AND(D143>0,F143>0,F143<D143),\"datum !\",IF(OR(F144, AND(F143>0,YEAR(F143)<>$N$3)),\"datum !\",\"\"))","v":""},null,"p1","p2","p4","p5",null,null,null,null,null," PERIODE 3"]
[null," PERIODE 3","van",{"$f":"IF(ISNUMBER(DIENSTVERBANDGEGEVENS!D45),DIENSTVERBANDGEGEVENS!D45,0)","v":"1904-01-01"},"t/m",{"$f":"IF(ISNUMBER(DIENSTVERBANDGEGEVENS!F45),DIENSTVERBANDGEGEVENS!F45,0)","v":"1904-01-01"},{"$f":"IF(AND(H143:K143),\"\",\"  periode-overlapping\")","v":""},{"$f":"OR( D143=0,F143=0,D3=0,F3=0, AND($D$143>D3,$D$143>F3),AND($D$143<D3,$F$143<D3))","v":true},{"$f":"OR( D143=0,F143=0,D73=0,F73=0, AND($D$143>D73,$D$143>F73),AND($D$143<D73,$F$143<D73))","v":true},{"$f":"OR( D143=0,F143=0,D213=0,F213=0, AND($D$143>D213,$D$143>F213),AND($D$143<D213,$F$143<D213))","v":true},{"$f":"OR( D143=0,F143=0,D283=0,F283=0, AND($D$143>D283,$D$143>F283),AND($D$143<D283,$F$143<D283))","v":true}]
[null,null,"tekst in datumcel",{"$f":"TYPE(DIENSTVERBANDGEGEVENS!D45)=2","v":false},null,{"$f":"TYPE(DIENSTVERBANDGEGEVENS!F45)=2","v":false}]
[]
[null,null,null,"ma even","ma oneven","di even","di oneven","wo even","wo oneven","do even","do oneven","vr even","vr oneven","za even","za oneven","zo even","zo oneven"]
[null,null,{"$f":"D143","v":"1904-01-01"},{"$f":"IF( AND( WEEKDAY($C147,2)=1,YEAR($C147)=$N$3, evenWeek($C147), $C147<=$F$143), (($F$143 + 1) - $C147 ) / 14, 0)","v":0},{"$f":"IF( AND( WEEKDAY($C147,2)=1,YEAR($C147)=$N$3, NOT(evenWeek($C147)), $C147<= $F$143), (($F$143 + 1) - $C147 ) /14, 0)","v":0},{"$f":"IF( AND( WEEKDAY($C147,2)=2,YEAR($C147)=$N$3, evenWeek($C147), $C147<=$F$143), (($F$143 + 1) - $C147 ) / 14, 0)","v":0},{"$f":"IF( AND( WEEKDAY($C147,2)=2,YEAR($C147)=$N$3, NOT(evenWeek($C147)), $C147<= $F$143), (($F$143 + 1) - $C147 ) /14, 0)","v":0},{"$f":"IF( AND( WEEKDAY($C147,2)=3,YEAR($C147)=$N$3, evenWeek($C147), $C147<=$F$143), (($F$143 + 1) - $C147 ) / 14, 0)","v":0},{"$f":"IF( AND( WEEKDAY($C147,2)=3,YEAR($C147)=$N$3, NOT(evenWeek($C147)), $C147<= $F$143), (($F$143 + 1) - $C147 ) /14, 0)","v":0},{"$f":"IF( AND( WEEKDAY($C147,2)=4,YEAR($C147)=$N$3, evenWeek($C147), $C147<=$F$143), (($F$143 + 1) - $C147 ) / 14, 0)","v":0},{"$f":"IF( AND( WEEKDAY($C147,2)=4,YEAR($C147)=$N$3, NOT(evenWeek($C147)), $C147<= $F$143), (($F$143 + 1) - $C147 ) /14, 0)","v":0},{"$f":"IF( AND( WEEKDAY($C147,2)=5,YEAR($C147)=$N$3, evenWeek($C147), $C147<=$F$143), (($F$143 + 1) - $C147 ) / 14, 0)","v":0},{"$f":"IF( AND( WEEKDAY($C147,2)=5,YEAR($C147)=$N$3, NOT(evenWeek($C147)), $C147<= $F$143), (($F$143 + 1) - $C147 ) /14, 0)","v":0},{"$f":"IF( AND( WEEKDAY($C147,2)=6,YEAR($C147)=$N$3, evenWeek($C147), $C147<=$F$143), (($F$143 + 1) - $C147 ) / 14, 0)","v":0},{"$f":"IF( AND( WEEKDAY($C147,2)=6,YEAR($C147)=$N$3, NOT(evenWeek($C147)), $C147<= $F$143), (($F$143 + 1) - $C147 ) /14, 0)","v":0},{"$f":"IF( AND( WEEKDAY($C147,2)=7,YEAR($C147)=$N$3, evenWeek($C147), $C147<=$F$143), (($F$143 + 1) - $C147 ) / 14, 0)","v":0},{"$f":"IF( AND( WEEKDAY($C147,2)=7,YEAR($C147)=$N$3, NOT(evenWeek($C147)), $C147<= $F$143), (($F$143 + 1) - $C147 ) /14, 0)","v":0}]
[null,null,{"$f":"C147+1","v":"1904-01-02"},{"$f":"IF( AND( WEEKDAY($C148,2)=1,YEAR($C148)=$N$3, evenWeek($C148), $C148<=$F$143), (($F$143 + 1) - $C148 ) / 14, 0)","v":0},{"$f":"IF( AND( WEEKDAY($C148,2)=1,YEAR($C148)=$N$3, NOT(evenWeek($C148)), $C148<= $F$143), (($F$143 + 1) - $C148 ) /14, 0)","v":0},{"$f":"IF( AND( WEEKDAY($C148,2)=2,YEAR($C148)=$N$3, evenWeek($C148), $C148<=$F$143), (($F$143 + 1) - $C148 ) / 14, 0)","v":0},{"$f":"IF( AND( WEEKDAY($C148,2)=2,YEAR($C148)=$N$3, NOT(evenWeek($C148)), $C148<= $F$143), (($F$143 + 1) - $C148 ) /14, 0)","v":0},{"$f":"IF( AND( WEEKDAY($C148,2)=3,YEAR($C148)=$N$3, evenWeek($C148), $C148<=$F$143), (($F$143 + 1) - $C148 ) / 14, 0)","v":0},{"$f":"IF( AND( WEEKDAY($C148,2)=3,YEAR($C148)=$N$3, NOT(evenWeek($C148)), $C148<= $F$143), (($F$143 + 1) - $C148 ) /14, 0)","v":0},{"$f":"IF( AND( WEEKDAY($C148,2)=4,YEAR($C148)=$N$3, evenWeek($C148), $C148<=$F$143), (($F$143 + 1) - $C148 ) / 14, 0)","v":0},{"$f":"IF( AND( WEEKDAY($C148,2)=4,YEAR($C148)=$N$3, NOT(evenWeek($C148)), $C148<= $F$143), (($F$143 + 1) - $C148 ) /14, 0)","v":0},{"$f":"IF( AND( WEEKDAY($C148,2)=5,YEAR($C148)=$N$3, evenWeek($C148), $C148<=$F$143), (($F$143 + 1) - $C148 ) / 14, 0)","v":0},{"$f":"IF( AND( WEEKDAY($C148,2)=5,YEAR($C148)=$N$3, NOT(evenWeek($C148)), $C148<= $F$143), (($F$143 + 1) - $C148 ) /14, 0)","v":0},{"$f":"IF( AND( WEEKDAY($C148,2)=6,YEAR($C148)=$N$3, evenWeek($C148), $C148<=$F$143), (($F$143 + 1) - $C148 ) / 14, 0)","v":0},{"$f":"IF( AND( WEEKDAY($C148,2)=6,YEAR($C148)=$N$3, NOT(evenWeek($C148)), $C148<= $F$143), (($F$143 + 1) - $C148 ) /14, 0)","v":0},{"$f":"IF( AND( WEEKDAY($C148,2)=7,YEAR($C148)=$N$3, evenWeek($C148), $C148<=$F$143), (($F$143 + 1) - $C148 ) / 14, 0)","v":0},{"$f":"IF( AND( WEEKDAY($C148,2)=7,YEAR($C148)=$N$3, NOT(evenWeek($C148)), $C148<= $F$143), (($F$143 + 1) - $C148 ) /14, 0)","v":0}]
[null,null,{"$f":"C148+1","v":"1904-01-03"},{"$f":"IF( AND( WEEKDAY($C149,2)=1,YEAR($C149)=$N$3, evenWeek($C149), $C149<=$F$143), (($F$143 + 1) - $C149 ) / 14, 0)","v":0},{"$f":"IF( AND( WEEKDAY($C149,2)=1,YEAR($C149)=$N$3, NOT(evenWeek($C149)), $C149<= $F$143), (($F$143 + 1) - $C149 ) /14, 0)","v":0},{"$f":"IF( AND( WEEKDAY($C149,2)=2,YEAR($C149)=$N$3, evenWeek($C149), $C149<=$F$143), (($F$143 + 1) - $C149 ) / 14, 0)","v":0},{"$f":"IF( AND( WEEKDAY($C149,2)=2,YEAR($C149)=$N$3, NOT(evenWeek($C149)), $C149<= $F$143), (($F$143 + 1) - $C149 ) /14, 0)","v":0},{"$f":"IF( AND( WEEKDAY($C149,2)=3,YEAR($C149)=$N$3, evenWeek($C149), $C149<=$F$143), (($F$143 + 1) - $C149 ) / 14, 0)","v":0},{"$f":"IF( AND( WEEKDAY($C149,2)=3,YEAR($C149)=$N$3, NOT(evenWeek($C149)), $C149<= $F$143), (($F$143 + 1) - $C149 ) /14, 0)","v":0},{"$f":"IF( AND( WEEKDAY($C149,2)=4,YEAR($C149)=$N$3, evenWeek($C149), $C149<=$F$143), (($F$143 + 1) - $C149 ) / 14, 0)","v":0},{"$f":"IF( AND( WEEKDAY($C149,2)=4,YEAR($C149)=$N$3, NOT(evenWeek($C149)), $C149<= $F$143), (($F$143 + 1) - $C149 ) /14, 0)","v":0},{"$f":"IF( AND( WEEKDAY($C149,2)=5,YEAR($C149)=$N$3, evenWeek($C149), $C149<=$F$143), (($F$143 + 1) - $C149 ) / 14, 0)","v":0},{"$f":"IF( AND( WEEKDAY($C149,2)=5,YEAR($C149)=$N$3, NOT(evenWeek($C149)), $C149<= $F$143), (($F$143 + 1) - $C149 ) /14, 0)","v":0},{"$f":"IF( AND( WEEKDAY($C149,2)=6,YEAR($C149)=$N$3, evenWeek($C149), $C149<=$F$143), (($F$143 + 1) - $C149 ) / 14, 0)","v":0},{"$f":"IF( AND( WEEKDAY($C149,2)=6,YEAR($C149)=$N$3, NOT(evenWeek($C149)), $C149<= $F$143), (($F$143 + 1) - $C149 ) /14, 0)","v":0},{"$f":"IF( AND( WEEKDAY($C149,2)=7,YEAR($C149)=$N$3, evenWeek($C149), $C149<=$F$143), (($F$143 + 1) - $C149 ) / 14, 0)","v":0},{"$f":"IF( AND( WEEKDAY($C149,2)=7,YEAR($C149)=$N$3, NOT(evenWeek($C149)), $C149<= $F$143), (($F$143 + 1) - $C149 ) /14, 0)","v":0}]
[null,null,"1904-01-04",{"$f":"IF( AND( WEEKDAY($C150,2)=1,YEAR($C150)=$N$3, evenWeek($C150), $C150<=$F$143), (($F$143 + 1) - $C150 ) / 14, 0)","v":0},{"$f":"IF( AND( WEEKDAY($C150,2)=1,YEAR($C150)=$N$3, NOT(evenWeek($C150)), $C150<= $F$143), (($F$143 + 1) - $C150 ) /14, 0)","v":0},{"$f":"IF( AND( WEEKDAY($C150,2)=2,YEAR($C150)=$N$3, evenWeek($C150), $C150<=$F$143), (($F$143 + 1) - $C150 ) / 14, 0)","v":0},{"$f":"IF( AND( WEEKDAY($C150,2)=2,YEAR($C150)=$N$3, NOT(evenWeek($C150)), $C150<= $F$143), (($F$143 + 1) - $C150 ) /14, 0)","v":0},{"$f":"IF( AND( WEEKDAY($C150,2)=3,YEAR($C150)=$N$3, evenWeek($C150), $C150<=$F$143), (($F$143 + 1) - $C150 ) / 14, 0)","v":0},{"$f":"IF( AND( WEEKDAY($C150,2)=3,YEAR($C150)=$N$3, NOT(evenWeek($C150)), $C150<= $F$143), (($F$143 + 1) - $C150 ) /14, 0)","v":0},{"$f":"IF( AND( WEEKDAY($C150,2)=4,YEAR($C150)=$N$3, evenWeek($C150), $C150<=$F$143), (($F$143 + 1) - $C150 ) / 14, 0)","v":0},{"$f":"IF( AND( WEEKDAY($C150,2)=4,YEAR($C150)=$N$3, NOT(evenWeek($C150)), $C150<= $F$143), (($F$143 + 1) - $C150 ) /14, 0)","v":0},{"$f":"IF( AND( WEEKDAY($C150,2)=5,YEAR($C150)=$N$3, evenWeek($C150), $C150<=$F$143), (($F$143 + 1) - $C150 ) / 14, 0)","v":0},{"$f":"IF( AND( WEEKDAY($C150,2)=5,YEAR($C150)=$N$3, NOT(evenWeek($C150)), $C150<= $F$143), (($F$143 + 1) - $C150 ) /14, 0)","v":0},{"$f":"IF( AND( WEEKDAY($C150,2)=6,YEAR($C150)=$N$3, evenWeek($C150), $C150<=$F$143), (($F$143 + 1) - $C150 ) / 14, 0)","v":0},{"$f":"IF( AND( WEEKDAY($C150,2)=6,YEAR($C150)=$N$3, NOT(evenWeek($C150)), $C150<= $F$143), (($F$143 + 1) - $C150 ) /14, 0)","v":0},{"$f":"IF( AND( WEEKDAY($C150,2)=7,YEAR($C150)=$N$3, evenWeek($C150), $C150<=$F$143), (($F$143 + 1) - $C150 ) / 14, 0)","v":0},{"$f":"IF( AND( WEEKDAY($C150,2)=7,YEAR($C150)=$N$3, NOT(evenWeek($C150)), $C150<= $F$143), (($F$143 + 1) - $C150 ) /14, 0)","v":0}]
[null,null,"1904-01-05",{"$f":"IF( AND( WEEKDAY($C151,2)=1,YEAR($C151)=$N$3, evenWeek($C151), $C151<=$F$143), (($F$143 + 1) - $C151 ) / 14, 0)","v":0},{"$f":"IF( AND( WEEKDAY($C151,2)=1,YEAR($C151)=$N$3, NOT(evenWeek($C151)), $C151<= $F$143), (($F$143 + 1) - $C151 ) /14, 0)","v":0},{"$f":"IF( AND( WEEKDAY($C151,2)=2,YEAR($C151)=$N$3, evenWeek($C151), $C151<=$F$143), (($F$143 + 1) - $C151 ) / 14, 0)","v":0},{"$f":"IF( AND( WEEKDAY($C151,2)=2,YEAR($C151)=$N$3, NOT(evenWeek($C151)), $C151<= $F$143), (($F$143 + 1) - $C151 ) /14, 0)","v":0},{"$f":"IF( AND( WEEKDAY($C151,2)=3,YEAR($C151)=$N$3, evenWeek($C151), $C151<=$F$143), (($F$143 + 1) - $C151 ) / 14, 0)","v":0},{"$f":"IF( AND( WEEKDAY($C151,2)=3,YEAR($C151)=$N$3, NOT(evenWeek($C151)), $C151<= $F$143), (($F$143 + 1) - $C151 ) /14, 0)","v":0},{"$f":"IF( AND( WEEKDAY($C151,2)=4,YEAR($C151)=$N$3, evenWeek($C151), $C151<=$F$143), (($F$143 + 1) - $C151 ) / 14, 0)","v":0},{"$f":"IF( AND( WEEKDAY($C151,2)=4,YEAR($C151)=$N$3, NOT(evenWeek($C151)), $C151<= $F$143), (($F$143 + 1) - $C151 ) /14, 0)","v":0},{"$f":"IF( AND( WEEKDAY($C151,2)=5,YEAR($C151)=$N$3, evenWeek($C151), $C151<=$F$143), (($F$143 + 1) - $C151 ) / 14, 0)","v":0},{"$f":"IF( AND( WEEKDAY($C151,2)=5,YEAR($C151)=$N$3, NOT(evenWeek($C151)), $C151<= $F$143), (($F$143 + 1) - $C151 ) /14, 0)","v":0},{"$f":"IF( AND( WEEKDAY($C151,2)=6,YEAR($C151)=$N$3, evenWeek($C151), $C151<=$F$143), (($F$143 + 1) - $C151 ) / 14, 0)","v":0},{"$f":"IF( AND( WEEKDAY($C151,2)=6,YEAR($C151)=$N$3, NOT(evenWeek($C151)), $C151<= $F$143), (($F$143 + 1) - $C151 ) /14, 0)","v":0},{"$f":"IF( AND( WEEKDAY($C151,2)=7,YEAR($C151)=$N$3, evenWeek($C151), $C151<=$F$143), (($F$143 + 1) - $C151 ) / 14, 0)","v":0},{"$f":"IF( AND( WEEKDAY($C151,2)=7,YEAR($C151)=$N$3, NOT(evenWeek($C151)), $C151<= $F$143), (($F$143 + 1) - $C151 ) /14, 0)","v":0}]
[null,null,"1904-01-06",{"$f":"IF( AND( WEEKDAY($C152,2)=1,YEAR($C152)=$N$3, evenWeek($C152), $C152<=$F$143), (($F$143 + 1) - $C152 ) / 14, 0)","v":0},{"$f":"IF( AND( WEEKDAY($C152,2)=1,YEAR($C152)=$N$3, NOT(evenWeek($C152)), $C152<= $F$143), (($F$143 + 1) - $C152 ) /14, 0)","v":0},{"$f":"IF( AND( WEEKDAY($C152,2)=2,YEAR($C152)=$N$3, evenWeek($C152), $C152<=$F$143), (($F$143 + 1) - $C152 ) / 14, 0)","v":0},{"$f":"IF( AND( WEEKDAY($C152,2)=2,YEAR($C152)=$N$3, NOT(evenWeek($C152)), $C152<= $F$143), (($F$143 + 1) - $C152 ) /14, 0)","v":0},{"$f":"IF( AND( WEEKDAY($C152,2)=3,YEAR($C152)=$N$3, evenWeek($C152), $C152<=$F$143), (($F$143 + 1) - $C152 ) / 14, 0)","v":0},{"$f":"IF( AND( WEEKDAY($C152,2)=3,YEAR($C152)=$N$3, NOT(evenWeek($C152)), $C152<= $F$143), (($F$143 + 1) - $C152 ) /14, 0)","v":0},{"$f":"IF( AND( WEEKDAY($C152,2)=4,YEAR($C152)=$N$3, evenWeek($C152), $C152<=$F$143), (($F$143 + 1) - $C152 ) / 14, 0)","v":0},{"$f":"IF( AND( WEEKDAY($C152,2)=4,YEAR($C152)=$N$3, NOT(evenWeek($C152)), $C152<= $F$143), (($F$143 + 1) - $C152 ) /14, 0)","v":0},{"$f":"IF( AND( WEEKDAY($C152,2)=5,YEAR($C152)=$N$3, evenWeek($C152), $C152<=$F$143), (($F$143 + 1) - $C152 ) / 14, 0)","v":0},{"$f":"IF( AND( WEEKDAY($C152,2)=5,YEAR($C152)=$N$3, NOT(evenWeek($C152)), $C152<= $F$143), (($F$143 + 1) - $C152 ) /14, 0)","v":0},{"$f":"IF( AND( WEEKDAY($C152,2)=6,YEAR($C152)=$N$3, evenWeek($C152), $C152<=$F$143), (($F$143 + 1) - $C152 ) / 14, 0)","v":0},{"$f":"IF( AND( WEEKDAY($C152,2)=6,YEAR($C152)=$N$3, NOT(evenWeek($C152)), $C152<= $F$143), (($F$143 + 1) - $C152 ) /14, 0)","v":0},{"$f":"IF( AND( WEEKDAY($C152,2)=7,YEAR($C152)=$N$3, evenWeek($C152), $C152<=$F$143), (($F$143 + 1) - $C152 ) / 14, 0)","v":0},{"$f":"IF( AND( WEEKDAY($C152,2)=7,YEAR($C152)=$N$3, NOT(evenWeek($C152)), $C152<= $F$143), (($F$143 + 1) - $C152 ) /14, 0)","v":0}]
[null,null,"1904-01-07",{"$f":"IF( AND( WEEKDAY($C153,2)=1,YEAR($C153)=$N$3, evenWeek($C153), $C153<=$F$143), (($F$143 + 1) - $C153 ) / 14, 0)","v":0},{"$f":"IF( AND( WEEKDAY($C153,2)=1,YEAR($C153)=$N$3, NOT(evenWeek($C153)), $C153<= $F$143), (($F$143 + 1) - $C153 ) /14, 0)","v":0},{"$f":"IF( AND( WEEKDAY($C153,2)=2,YEAR($C153)=$N$3, evenWeek($C153), $C153<=$F$143), (($F$143 + 1) - $C153 ) / 14, 0)","v":0},{"$f":"IF( AND( WEEKDAY($C153,2)=2,YEAR($C153)=$N$3, NOT(evenWeek($C153)), $C153<= $F$143), (($F$143 + 1) - $C153 ) /14, 0)","v":0},{"$f":"IF( AND( WEEKDAY($C153,2)=3,YEAR($C153)=$N$3, evenWeek($C153), $C153<=$F$143), (($F$143 + 1) - $C153 ) / 14, 0)","v":0},{"$f":"IF( AND( WEEKDAY($C153,2)=3,YEAR($C153)=$N$3, NOT(evenWeek($C153)), $C153<= $F$143), (($F$143 + 1) - $C153 ) /14, 0)","v":0},{"$f":"IF( AND( WEEKDAY($C153,2)=4,YEAR($C153)=$N$3, evenWeek($C153), $C153<=$F$143), (($F$143 + 1) - $C153 ) / 14, 0)","v":0},{"$f":"IF( AND( WEEKDAY($C153,2)=4,YEAR($C153)=$N$3, NOT(evenWeek($C153)), $C153<= $F$143), (($F$143 + 1) - $C153 ) /14, 0)","v":0},{"$f":"IF( AND( WEEKDAY($C153,2)=5,YEAR($C153)=$N$3, evenWeek($C153), $C153<=$F$143), (($F$143 + 1) - $C153 ) / 14, 0)","v":0},{"$f":"IF( AND( WEEKDAY($C153,2)=5,YEAR($C153)=$N$3, NOT(evenWeek($C153)), $C153<= $F$143), (($F$143 + 1) - $C153 ) /14, 0)","v":0},{"$f":"IF( AND( WEEKDAY($C153,2)=6,YEAR($C153)=$N$3, evenWeek($C153), $C153<=$F$143), (($F$143 + 1) - $C153 ) / 14, 0)","v":0},{"$f":"IF( AND( WEEKDAY($C153,2)=6,YEAR($C153)=$N$3, NOT(evenWeek($C153)), $C153<= $F$143), (($F$143 + 1) - $C153 ) /14, 0)","v":0},{"$f":"IF( AND( WEEKDAY($C153,2)=7,YEAR($C153)=$N$3, evenWeek($C153), $C153<=$F$143), (($F$143 + 1) - $C153 ) / 14, 0)","v":0},{"$f":"IF( AND( WEEKDAY($C153,2)=7,YEAR($C153)=$N$3, NOT(evenWeek($C153)), $C153<= $F$143), (($F$143 + 1) - $C153 ) /14, 0)","v":0}]
[null,null,"1904-01-08",{"$f":"IF( AND( WEEKDAY($C154,2)=1,YEAR($C154)=$N$3, evenWeek($C154), $C154<=$F$143), (($F$143 + 1) - $C154 ) / 14, 0)","v":0},{"$f":"IF( AND( WEEKDAY($C154,2)=1,YEAR($C154)=$N$3, NOT(evenWeek($C154)), $C154<= $F$143), (($F$143 + 1) - $C154 ) /14, 0)","v":0},{"$f":"IF( AND( WEEKDAY($C154,2)=2,YEAR($C154)=$N$3, evenWeek($C154), $C154<=$F$143), (($F$143 + 1) - $C154 ) / 14, 0)","v":0},{"$f":"IF( AND( WEEKDAY($C154,2)=2,YEAR($C154)=$N$3, NOT(evenWeek($C154)), $C154<= $F$143), (($F$143 + 1) - $C154 ) /14, 0)","v":0},{"$f":"IF( AND( WEEKDAY($C154,2)=3,YEAR($C154)=$N$3, evenWeek($C154), $C154<=$F$143), (($F$143 + 1) - $C154 ) / 14, 0)","v":0},{"$f":"IF( AND( WEEKDAY($C154,2)=3,YEAR($C154)=$N$3, NOT(evenWeek($C154)), $C154<= $F$143), (($F$143 + 1) - $C154 ) /14, 0)","v":0},{"$f":"IF( AND( WEEKDAY($C154,2)=4,YEAR($C154)=$N$3, evenWeek($C154), $C154<=$F$143), (($F$143 + 1) - $C154 ) / 14, 0)","v":0},{"$f":"IF( AND( WEEKDAY($C154,2)=4,YEAR($C154)=$N$3, NOT(evenWeek($C154)), $C154<= $F$143), (($F$143 + 1) - $C154 ) /14, 0)","v":0},{"$f":"IF( AND( WEEKDAY($C154,2)=5,YEAR($C154)=$N$3, evenWeek($C154), $C154<=$F$143), (($F$143 + 1) - $C154 ) / 14, 0)","v":0},{"$f":"IF( AND( WEEKDAY($C154,2)=5,YEAR($C154)=$N$3, NOT(evenWeek($C154)), $C154<= $F$143), (($F$143 + 1) - $C154 ) /14, 0)","v":0},{"$f":"IF( AND( WEEKDAY($C154,2)=6,YEAR($C154)=$N$3, evenWeek($C154), $C154<=$F$143), (($F$143 + 1) - $C154 ) / 14, 0)","v":0},{"$f":"IF( AND( WEEKDAY($C154,2)=6,YEAR($C154)=$N$3, NOT(evenWeek($C154)), $C154<= $F$143), (($F$143 + 1) - $C154 ) /14, 0)","v":0},{"$f":"IF( AND( WEEKDAY($C154,2)=7,YEAR($C154)=$N$3, evenWeek($C154), $C154<=$F$143), (($F$143 + 1) - $C154 ) / 14, 0)","v":0},{"$f":"IF( AND( WEEKDAY($C154,2)=7,YEAR($C154)=$N$3, NOT(evenWeek($C154)), $C154<= $F$143), (($F$143 + 1) - $C154 ) /14, 0)","v":0}]
[null,null,"1904-01-09",{"$f":"IF( AND( WEEKDAY($C155,2)=1,YEAR($C155)=$N$3, evenWeek($C155), $C155<=$F$143), (($F$143 + 1) - $C155 ) / 14, 0)","v":0},{"$f":"IF( AND( WEEKDAY($C155,2)=1,YEAR($C155)=$N$3, NOT(evenWeek($C155)), $C155<= $F$143), (($F$143 + 1) - $C155 ) /14, 0)","v":0},{"$f":"IF( AND( WEEKDAY($C155,2)=2,YEAR($C155)=$N$3, evenWeek($C155), $C155<=$F$143), (($F$143 + 1) - $C155 ) / 14, 0)","v":0},{"$f":"IF( AND( WEEKDAY($C155,2)=2,YEAR($C155)=$N$3, NOT(evenWeek($C155)), $C155<= $F$143), (($F$143 + 1) - $C155 ) /14, 0)","v":0},{"$f":"IF( AND( WEEKDAY($C155,2)=3,YEAR($C155)=$N$3, evenWeek($C155), $C155<=$F$143), (($F$143 + 1) - $C155 ) / 14, 0)","v":0},{"$f":"IF( AND( WEEKDAY($C155,2)=3,YEAR($C155)=$N$3, NOT(evenWeek($C155)), $C155<= $F$143), (($F$143 + 1) - $C155 ) /14, 0)","v":0},{"$f":"IF( AND( WEEKDAY($C155,2)=4,YEAR($C155)=$N$3, evenWeek($C155), $C155<=$F$143), (($F$143 + 1) - $C155 ) / 14, 0)","v":0},{"$f":"IF( AND( WEEKDAY($C155,2)=4,YEAR($C155)=$N$3, NOT(evenWeek($C155)), $C155<= $F$143), (($F$143 + 1) - $C155 ) /14, 0)","v":0},{"$f":"IF( AND( WEEKDAY($C155,2)=5,YEAR($C155)=$N$3, evenWeek($C155), $C155<=$F$143), (($F$143 + 1) - $C155 ) / 14, 0)","v":0},{"$f":"IF( AND( WEEKDAY($C155,2)=5,YEAR($C155)=$N$3, NOT(evenWeek($C155)), $C155<= $F$143), (($F$143 + 1) - $C155 ) /14, 0)","v":0},{"$f":"IF( AND( WEEKDAY($C155,2)=6,YEAR($C155)=$N$3, evenWeek($C155), $C155<=$F$143), (($F$143 + 1) - $C155 ) / 14, 0)","v":0},{"$f":"IF( AND( WEEKDAY($C155,2)=6,YEAR($C155)=$N$3, NOT(evenWeek($C155)), $C155<= $F$143), (($F$143 + 1) - $C155 ) /14, 0)","v":0},{"$f":"IF( AND( WEEKDAY($C155,2)=7,YEAR($C155)=$N$3, evenWeek($C155), $C155<=$F$143), (($F$143 + 1) - $C155 ) / 14, 0)","v":0},{"$f":"IF( AND( WEEKDAY($C155,2)=7,YEAR($C155)=$N$3, NOT(evenWeek($C155)), $C155<= $F$143), (($F$143 + 1) - $C155 ) /14, 0)","v":0}]
[null,null,"1904-01-10",{"$f":"IF( AND( WEEKDAY($C156,2)=1,YEAR($C156)=$N$3, evenWeek($C156), $C156<=$F$143), (($F$143 + 1) - $C156 ) / 14, 0)","v":0},{"$f":"IF( AND( WEEKDAY($C156,2)=1,YEAR($C156)=$N$3, NOT(evenWeek($C156)), $C156<= $F$143), (($F$143 + 1) - $C156 ) /14, 0)","v":0},{"$f":"IF( AND( WEEKDAY($C156,2)=2,YEAR($C156)=$N$3, evenWeek($C156), $C156<=$F$143), (($F$143 + 1) - $C156 ) / 14, 0)","v":0},{"$f":"IF( AND( WEEKDAY($C156,2)=2,YEAR($C156)=$N$3, NOT(evenWeek($C156)), $C156<= $F$143), (($F$143 + 1) - $C156 ) /14, 0)","v":0},{"$f":"IF( AND( WEEKDAY($C156,2)=3,YEAR($C156)=$N$3, evenWeek($C156), $C156<=$F$143), (($F$143 + 1) - $C156 ) / 14, 0)","v":0},{"$f":"IF( AND( WEEKDAY($C156,2)=3,YEAR($C156)=$N$3, NOT(evenWeek($C156)), $C156<= $F$143), (($F$143 + 1) - $C156 ) /14, 0)","v":0},{"$f":"IF( AND( WEEKDAY($C156,2)=4,YEAR($C156)=$N$3, evenWeek($C156), $C156<=$F$143), (($F$143 + 1) - $C156 ) / 14, 0)","v":0},{"$f":"IF( AND( WEEKDAY($C156,2)=4,YEAR($C156)=$N$3, NOT(evenWeek($C156)), $C156<= $F$143), (($F$143 + 1) - $C156 ) /14, 0)","v":0},{"$f":"IF( AND( WEEKDAY($C156,2)=5,YEAR($C156)=$N$3, evenWeek($C156), $C156<=$F$143), (($F$143 + 1) - $C156 ) / 14, 0)","v":0},{"$f":"IF( AND( WEEKDAY($C156,2)=5,YEAR($C156)=$N$3, NOT(evenWeek($C156)), $C156<= $F$143), (($F$143 + 1) - $C156 ) /14, 0)","v":0},{"$f":"IF( AND( WEEKDAY($C156,2)=6,YEAR($C156)=$N$3, evenWeek($C156), $C156<=$F$143), (($F$143 + 1) - $C156 ) / 14, 0)","v":0},{"$f":"IF( AND( WEEKDAY($C156,2)=6,YEAR($C156)=$N$3, NOT(evenWeek($C156)), $C156<= $F$143), (($F$143 + 1) - $C156 ) /14, 0)","v":0},{"$f":"IF( AND( WEEKDAY($C156,2)=7,YEAR($C156)=$N$3, evenWeek($C156), $C156<=$F$143), (($F$143 + 1) - $C156 ) / 14, 0)","v":0},{"$f":"IF( AND( WEEKDAY($C156,2)=7,YEAR($C156)=$N$3, NOT(evenWeek($C156)), $C156<= $F$143), (($F$143 + 1) - $C156 ) /14, 0)","v":0}]
[null,null,{"$f":"C156+1","v":"1904-01-11"},{"$f":"IF( AND( WEEKDAY($C157,2)=1,YEAR($C157)=$N$3, evenWeek($C157), $C157<=$F$143), (($F$143 + 1) - $C157 ) / 14, 0)","v":0},{"$f":"IF( AND( WEEKDAY($C157,2)=1,YEAR($C157)=$N$3, NOT(evenWeek($C157)), $C157<= $F$143), (($F$143 + 1) - $C157 ) /14, 0)","v":0},{"$f":"IF( AND( WEEKDAY($C157,2)=2,YEAR($C157)=$N$3, evenWeek($C157), $C157<=$F$143), (($F$143 + 1) - $C157 ) / 14, 0)","v":0},{"$f":"IF( AND( WEEKDAY($C157,2)=2,YEAR($C157)=$N$3, NOT(evenWeek($C157)), $C157<= $F$143), (($F$143 + 1) - $C157 ) /14, 0)","v":0},{"$f":"IF( AND( WEEKDAY($C157,2)=3,YEAR($C157)=$N$3, evenWeek($C157), $C157<=$F$143), (($F$143 + 1) - $C157 ) / 14, 0)","v":0},{"$f":"IF( AND( WEEKDAY($C157,2)=3,YEAR($C157)=$N$3, NOT(evenWeek($C157)), $C157<= $F$143), (($F$143 + 1) - $C157 ) /14, 0)","v":0},{"$f":"IF( AND( WEEKDAY($C157,2)=4,YEAR($C157)=$N$3, evenWeek($C157), $C157<=$F$143), (($F$143 + 1) - $C157 ) / 14, 0)","v":0},{"$f":"IF( AND( WEEKDAY($C157,2)=4,YEAR($C157)=$N$3, NOT(evenWeek($C157)), $C157<= $F$143), (($F$143 + 1) - $C157 ) /14, 0)","v":0},{"$f":"IF( AND( WEEKDAY($C157,2)=5,YEAR($C157)=$N$3, evenWeek($C157), $C157<=$F$143), (($F$143 + 1) - $C157 ) / 14, 0)","v":0},{"$f":"IF( AND( WEEKDAY($C157,2)=5,YEAR($C157)=$N$3, NOT(evenWeek($C157)), $C157<= $F$143), (($F$143 + 1) - $C157 ) /14, 0)","v":0},{"$f":"IF( AND( WEEKDAY($C157,2)=6,YEAR($C157)=$N$3, evenWeek($C157), $C157<=$F$143), (($F$143 + 1) - $C157 ) / 14, 0)","v":0},{"$f":"IF( AND( WEEKDAY($C157,2)=6,YEAR($C157)=$N$3, NOT(evenWeek($C157)), $C157<= $F$143), (($F$143 + 1) - $C157 ) /14, 0)","v":0},{"$f":"IF( AND( WEEKDAY($C157,2)=7,YEAR($C157)=$N$3, evenWeek($C157), $C157<=$F$143), (($F$143 + 1) - $C157 ) / 14, 0)","v":0},{"$f":"IF( AND( WEEKDAY($C157,2)=7,YEAR($C157)=$N$3, NOT(evenWeek($C157)), $C157<= $F$143), (($F$143 + 1) - $C157 ) /14, 0)","v":0}]
[null,null,"1904-01-12",{"$f":"IF( AND( WEEKDAY($C158,2)=1,YEAR($C158)=$N$3, evenWeek($C158), $C158<=$F$143), (($F$143 + 1) - $C158 ) / 14, 0)","v":0},{"$f":"IF( AND( WEEKDAY($C158,2)=1,YEAR($C158)=$N$3, NOT(evenWeek($C158)), $C158<= $F$143), (($F$143 + 1) - $C158 ) /14, 0)","v":0},{"$f":"IF( AND( WEEKDAY($C158,2)=2,YEAR($C158)=$N$3, evenWeek($C158), $C158<=$F$143), (($F$143 + 1) - $C158 ) / 14, 0)","v":0},{"$f":"IF( AND( WEEKDAY($C158,2)=2,YEAR($C158)=$N$3, NOT(evenWeek($C158)), $C158<= $F$143), (($F$143 + 1) - $C158 ) /14, 0)","v":0},{"$f":"IF( AND( WEEKDAY($C158,2)=3,YEAR($C158)=$N$3, evenWeek($C158), $C158<=$F$143), (($F$143 + 1) - $C158 ) / 14, 0)","v":0},{"$f":"IF( AND( WEEKDAY($C158,2)=3,YEAR($C158)=$N$3, NOT(evenWeek($C158)), $C158<= $F$143), (($F$143 + 1) - $C158 ) /14, 0)","v":0},{"$f":"IF( AND( WEEKDAY($C158,2)=4,YEAR($C158)=$N$3, evenWeek($C158), $C158<=$F$143), (($F$143 + 1) - $C158 ) / 14, 0)","v":0},{"$f":"IF( AND( WEEKDAY($C158,2)=4,YEAR($C158)=$N$3, NOT(evenWeek($C158)), $C158<= $F$143), (($F$143 + 1) - $C158 ) /14, 0)","v":0},{"$f":"IF( AND( WEEKDAY($C158,2)=5,YEAR($C158)=$N$3, evenWeek($C158), $C158<=$F$143), (($F$143 + 1) - $C158 ) / 14, 0)","v":0},{"$f":"IF( AND( WEEKDAY($C158,2)=5,YEAR($C158)=$N$3, NOT(evenWeek($C158)), $C158<= $F$143), (($F$143 + 1) - $C158 ) /14, 0)","v":0},{"$f":"IF( AND( WEEKDAY($C158,2)=6,YEAR($C158)=$N$3, evenWeek($C158), $C158<=$F$143), (($F$143 + 1) - $C158 ) / 14, 0)","v":0},{"$f":"IF( AND( WEEKDAY($C158,2)=6,YEAR($C158)=$N$3, NOT(evenWeek($C158)), $C158<= $F$143), (($F$143 + 1) - $C158 ) /14, 0)","v":0},{"$f":"IF( AND( WEEKDAY($C158,2)=7,YEAR($C158)=$N$3, evenWeek($C158), $C158<=$F$143), (($F$143 + 1) - $C158 ) / 14, 0)","v":0},{"$f":"IF( AND( WEEKDAY($C158,2)=7,YEAR($C158)=$N$3, NOT(evenWeek($C158)), $C158<= $F$143), (($F$143 + 1) - $C158 ) /14, 0)","v":0}]
[null,null,"1904-01-13",{"$f":"IF( AND( WEEKDAY($C159,2)=1,YEAR($C159)=$N$3, evenWeek($C159), $C159<=$F$143), (($F$143 + 1) - $C159 ) / 14, 0)","v":0},{"$f":"IF( AND( WEEKDAY($C159,2)=1,YEAR($C159)=$N$3, NOT(evenWeek($C159)), $C159<= $F$143), (($F$143 + 1) - $C159 ) /14, 0)","v":0},{"$f":"IF( AND( WEEKDAY($C159,2)=2,YEAR($C159)=$N$3, evenWeek($C159), $C159<=$F$143), (($F$143 + 1) - $C159 ) / 14, 0)","v":0},{"$f":"IF( AND( WEEKDAY($C159,2)=2,YEAR($C159)=$N$3, NOT(evenWeek($C159)), $C159<= $F$143), (($F$143 + 1) - $C159 ) /14, 0)","v":0},{"$f":"IF( AND( WEEKDAY($C159,2)=3,YEAR($C159)=$N$3, evenWeek($C159), $C159<=$F$143), (($F$143 + 1) - $C159 ) / 14, 0)","v":0},{"$f":"IF( AND( WEEKDAY($C159,2)=3,YEAR($C159)=$N$3, NOT(evenWeek($C159)), $C159<= $F$143), (($F$143 + 1) - $C159 ) /14, 0)","v":0},{"$f":"IF( AND( WEEKDAY($C159,2)=4,YEAR($C159)=$N$3, evenWeek($C159), $C159<=$F$143), (($F$143 + 1) - $C159 ) / 14, 0)","v":0},{"$f":"IF( AND( WEEKDAY($C159,2)=4,YEAR($C159)=$N$3, NOT(evenWeek($C159)), $C159<= $F$143), (($F$143 + 1) - $C159 ) /14, 0)","v":0},{"$f":"IF( AND( WEEKDAY($C159,2)=5,YEAR($C159)=$N$3, evenWeek($C159), $C159<=$F$143), (($F$143 + 1) - $C159 ) / 14, 0)","v":0},{"$f":"IF( AND( WEEKDAY($C159,2)=5,YEAR($C159)=$N$3, NOT(evenWeek($C159)), $C159<= $F$143), (($F$143 + 1) - $C159 ) /14, 0)","v":0},{"$f":"IF( AND( WEEKDAY($C159,2)=6,YEAR($C159)=$N$3, evenWeek($C159), $C159<=$F$143), (($F$143 + 1) - $C159 ) / 14, 0)","v":0},{"$f":"IF( AND( WEEKDAY($C159,2)=6,YEAR($C159)=$N$3, NOT(evenWeek($C159)), $C159<= $F$143), (($F$143 + 1) - $C159 ) /14, 0)","v":0},{"$f":"IF( AND( WEEKDAY($C159,2)=7,YEAR($C159)=$N$3, evenWeek($C159), $C159<=$F$143), (($F$143 + 1) - $C159 ) / 14, 0)","v":0},{"$f":"IF( AND( WEEKDAY($C159,2)=7,YEAR($C159)=$N$3, NOT(evenWeek($C159)), $C159<= $F$143), (($F$143 + 1) - $C159 ) /14, 0)","v":0}]
[null,null,{"$f":"C159+1","v":"1904-01-14"},{"$f":"IF( AND( WEEKDAY($C160,2)=1,YEAR($C160)=$N$3, evenWeek($C160), $C160<=$F$143), (($F$143 + 1) - $C160 ) / 14, 0)","v":0},{"$f":"IF( AND( WEEKDAY($C160,2)=1,YEAR($C160)=$N$3, NOT(evenWeek($C160)), $C160<= $F$143), (($F$143 + 1) - $C160 ) /14, 0)","v":0},{"$f":"IF( AND( WEEKDAY($C160,2)=2,YEAR($C160)=$N$3, evenWeek($C160), $C160<=$F$143), (($F$143 + 1) - $C160 ) / 14, 0)","v":0},{"$f":"IF( AND( WEEKDAY($C160,2)=2,YEAR($C160)=$N$3, NOT(evenWeek($C160)), $C160<= $F$143), (($F$143 + 1) - $C160 ) /14, 0)","v":0},{"$f":"IF( AND( WEEKDAY($C160,2)=3,YEAR($C160)=$N$3, evenWeek($C160), $C160<=$F$143), (($F$143 + 1) - $C160 ) / 14, 0)","v":0},{"$f":"IF( AND( WEEKDAY($C160,2)=3,YEAR($C160)=$N$3, NOT(evenWeek($C160)), $C160<= $F$143), (($F$143 + 1) - $C160 ) /14, 0)","v":0},{"$f":"IF( AND( WEEKDAY($C160,2)=4,YEAR($C160)=$N$3, evenWeek($C160), $C160<=$F$143), (($F$143 + 1) - $C160 ) / 14, 0)","v":0},{"$f":"IF( AND( WEEKDAY($C160,2)=4,YEAR($C160)=$N$3, NOT(evenWeek($C160)), $C160<= $F$143), (($F$143 + 1) - $C160 ) /14, 0)","v":0},{"$f":"IF( AND( WEEKDAY($C160,2)=5,YEAR($C160)=$N$3, evenWeek($C160), $C160<=$F$143), (($F$143 + 1) - $C160 ) / 14, 0)","v":0},{"$f":"IF( AND( WEEKDAY($C160,2)=5,YEAR($C160)=$N$3, NOT(evenWeek($C160)), $C160<= $F$143), (($F$143 + 1) - $C160 ) /14, 0)","v":0},{"$f":"IF( AND( WEEKDAY($C160,2)=6,YEAR($C160)=$N$3, evenWeek($C160), $C160<=$F$143), (($F$143 + 1) - $C160 ) / 14, 0)","v":0},{"$f":"IF( AND( WEEKDAY($C160,2)=6,YEAR($C160)=$N$3, NOT(evenWeek($C160)), $C160<= $F$143), (($F$143 + 1) - $C160 ) /14, 0)","v":0},{"$f":"IF( AND( WEEKDAY($C160,2)=7,YEAR($C160)=$N$3, evenWeek($C160), $C160<=$F$143), (($F$143 + 1) - $C160 ) / 14, 0)","v":0},{"$f":"IF( AND( WEEKDAY($C160,2)=7,YEAR($C160)=$N$3, NOT(evenWeek($C160)), $C160<= $F$143), (($F$143 + 1) - $C160 ) /14, 0)","v":0}]
[null,null,"# dagen: ",{"$f":"ROUNDUP(SUM(D147:D160),0)","v":0},0,0,0,0,0,0,0,0,0,{"$f":"ROUNDUP(SUM(N147:N160),0)","v":0},{"$f":"ROUNDUP(SUM(O147:O160),0)","v":0},{"$f":"ROUNDUP(SUM(P147:P160),0)","v":0},{"$f":"ROUNDUP(SUM(Q147:Q160),0)","v":0}]
[]
[]
[null,null,"NCF dagen","ma even","ma oneven","di even","di oneven","wo even","wo oneven","do even","do oneven","vr even","vr oneven","za even","za oneven","zo even","zo oneven","totaal"]
[null,{"$f":"B25","v":"Nieuwjaarsdag"},"2024-01-01",{"$f":"IF( AND($C165>($D$143-1),$C165<($F$143+1),WEEKDAY($C165,2)=1, evenWeek($C165) ),-1,\"\")","v":""},{"$f":"IF( AND($C165>($D$143-1),$C165<($F$143+1),WEEKDAY($C165,2)=1, NOT(evenWeek($C165)) ),-1,\"\")","v":""},{"$f":"IF( AND($C165>($D$143-1),$C165<($F$143+1),WEEKDAY($C165,2)=2, evenWeek($C165) ),-1,\"\")","v":""},{"$f":"IF( AND($C165>($D$143-1),$C165<($F$143+1),WEEKDAY($C165,2)=2, NOT(evenWeek($C165)) ),-1,\"\")","v":""},{"$f":"IF( AND($C165>($D$143-1),$C165<($F$143+1),WEEKDAY($C165,2)=3, evenWeek($C165) ),-1,\"\")","v":""},{"$f":"IF( AND($C165>($D$143-1),$C165<($F$143+1),WEEKDAY($C165,2)=3, NOT(evenWeek($C165)) ),-1,\"\")","v":""},{"$f":"IF( AND($C165>($D$143-1),$C165<($F$143+1),WEEKDAY($C165,2)=4, evenWeek($C165) ),-1,\"\")","v":""},{"$f":"IF( AND($C165>($D$143-1),$C165<($F$143+1),WEEKDAY($C165,2)=4, NOT(evenWeek($C165)) ),-1,\"\")","v":""},{"$f":"IF( AND($C165>($D$143-1),$C165<($F$143+1),WEEKDAY($C165,2)=5, evenWeek($C165) ),-1,\"\")","v":""},{"$f":"IF( AND($C165>($D$143-1),$C165<($F$143+1),WEEKDAY($C165,2)=5, NOT(evenWeek($C165)) ),-1,\"\")","v":""},{"$f":"IF( AND($C165>($D$143-1),$C165<($F$143+1),WEEKDAY($C165,2)=6, evenWeek($C165) ),-1,\"\")","v":""},{"$f":"IF( AND($C165>($D$143-1),$C165<($F$143+1),WEEKDAY($C165,2)=6, NOT(evenWeek($C165)) ),-1,\"\")","v":""},{"$f":"IF( AND($C165>($D$143-1),$C165<($F$143+1),WEEKDAY($C165,2)=7, evenWeek($C165) ),-1,\"\")","v":""},{"$f":"IF( AND($C165>($D$143-1),$C165<($F$143+1),WEEKDAY($C165,2)=7, NOT(evenWeek($C165)) ),-1,\"\")","v":""}]
[null,"Goede vrijdag","2024-03-29",null,null,null,null,null,null,null,null,{"$f":"IF( AND($C166>($D$143-1),$C166<($F$143+1), evenWeek($C166) ),-1,\"\")","v":""},{"$f":"IF( AND($C166>($D$143-1),$C166<($F$143+1), NOT(evenWeek($C166))),-1,\"\")","v":""}]
[null,"2e paasdag","2024-04-01",{"$f":"IF( AND($C167>($D$143-1),$C167<($F$143+1), evenWeek($C167) ),-1,\"\")","v":""},{"$f":"IF( AND($C167>($D$143-1),$C167<($F$143+1), NOT(evenWeek($C167))),-1,\"\")","v":""}]
[null,"Koningsdag","2024-04-27",{"$f":"IF( AND($C168>($D$143-1),$C168<($F$143+1),WEEKDAY($C168,2)=1, evenWeek($C168) ),-1,\"\")","v":""},{"$f":"IF( AND($C168>($D$143-1),$C168<($F$143+1),WEEKDAY($C168,2)=1, NOT(evenWeek($C168)) ),-1,\"\")","v":""},{"$f":"IF( AND($C168>($D$143-1),$C168<($F$143+1),WEEKDAY($C168,2)=2, evenWeek($C168) ),-1,\"\")","v":""},{"$f":"IF( AND($C168>($D$143-1),$C168<($F$143+1),WEEKDAY($C168,2)=2, NOT(evenWeek($C168)) ),-1,\"\")","v":""},{"$f":"IF( AND($C168>($D$143-1),$C168<($F$143+1),WEEKDAY($C168,2)=3, evenWeek($C168) ),-1,\"\")","v":""},{"$f":"IF( AND($C168>($D$143-1),$C168<($F$143+1),WEEKDAY($C168,2)=3, NOT(evenWeek($C168)) ),-1,\"\")","v":""},{"$f":"IF( AND($C168>($D$143-1),$C168<($F$143+1),WEEKDAY($C168,2)=4, evenWeek($C168) ),-1,\"\")","v":""},{"$f":"IF( AND($C168>($D$143-1),$C168<($F$143+1),WEEKDAY($C168,2)=4, NOT(evenWeek($C168)) ),-1,\"\")","v":""},{"$f":"IF( AND($C168>($D$143-1),$C168<($F$143+1),WEEKDAY($C168,2)=5, evenWeek($C168) ),-1,\"\")","v":""},{"$f":"IF( AND($C168>($D$143-1),$C168<($F$143+1),WEEKDAY($C168,2)=5, NOT(evenWeek($C168)) ),-1,\"\")","v":""},{"$f":"IF( AND($C168>($D$143-1),$C168<($F$143+1),WEEKDAY($C168,2)=6, evenWeek($C168) ),-1,\"\")","v":""},{"$f":"IF( AND($C168>($D$143-1),$C168<($F$143+1),WEEKDAY($C168,2)=6, NOT(evenWeek($C168)) ),-1,\"\")","v":""},{"$f":"IF( AND($C168>($D$143-1),$C168<($F$143+1),WEEKDAY($C168,2)=7, evenWeek($C168) ),-1,\"\")","v":""},{"$f":"IF( AND($C168>($D$143-1),$C168<($F$143+1),WEEKDAY($C168,2)=7, NOT(evenWeek($C168)) ),-1,\"\")","v":""}]
[null,"Bevrijdingsdag","2024-05-05",{"$f":"IF( AND($C169>($D$143-1),$C169<($F$143+1),WEEKDAY($C169,2)=1, evenWeek($C169) ),-1,\"\")","v":""},{"$f":"IF( AND($C169>($D$143-1),$C169<($F$143+1),WEEKDAY($C169,2)=1, NOT(evenWeek($C169)) ),-1,\"\")","v":""},{"$f":"IF( AND($C169>($D$143-1),$C169<($F$143+1),WEEKDAY($C169,2)=2, evenWeek($C169) ),-1,\"\")","v":""},{"$f":"IF( AND($C169>($D$143-1),$C169<($F$143+1),WEEKDAY($C169,2)=2, NOT(evenWeek($C169)) ),-1,\"\")","v":""},{"$f":"IF( AND($C169>($D$143-1),$C169<($F$143+1),WEEKDAY($C169,2)=3, evenWeek($C169) ),-1,\"\")","v":""},{"$f":"IF( AND($C169>($D$143-1),$C169<($F$143+1),WEEKDAY($C169,2)=3, NOT(evenWeek($C169)) ),-1,\"\")","v":""},{"$f":"IF( AND($C169>($D$143-1),$C169<($F$143+1),WEEKDAY($C169,2)=4, evenWeek($C169) ),-1,\"\")","v":""},{"$f":"IF( AND($C169>($D$143-1),$C169<($F$143+1),WEEKDAY($C169,2)=4, NOT(evenWeek($C169)) ),-1,\"\")","v":""},{"$f":"IF( AND($C169>($D$143-1),$C169<($F$143+1),WEEKDAY($C169,2)=5, evenWeek($C169) ),-1,\"\")","v":""},{"$f":"IF( AND($C169>($D$143-1),$C169<($F$143+1),WEEKDAY($C169,2)=5, NOT(evenWeek($C169)) ),-1,\"\")","v":""},{"$f":"IF( AND($C169>($D$143-1),$C169<($F$143+1),WEEKDAY($C169,2)=6, evenWeek($C169) ),-1,\"\")","v":""},{"$f":"IF( AND($C169>($D$143-1),$C169<($F$143+1),WEEKDAY($C169,2)=6, NOT(evenWeek($C169)) ),-1,\"\")","v":""},{"$f":"IF( AND($C169>($D$143-1),$C169<($F$143+1),WEEKDAY($C169,2)=7, evenWeek($C169) ),-1,\"\")","v":""},{"$f":"IF( AND($C169>($D$143-1),$C169<($F$143+1),WEEKDAY($C169,2)=7, NOT(evenWeek($C169)) ),-1,\"\")","v":""}]
[null,"Hemelvaart","2024-05-09",null,null,null,null,null,null,{"$f":"IF( AND($C170>($D$143-1),$C170<($F$143+1), evenWeek($C170) ),-1,\"\")","v":""},{"$f":"IF( AND($C170>($D$143-1),$C170<($F$143+1), NOT(evenWeek($C170))),-1,\"\")","v":""}]
[null,"2e Pinksterdag","2024-05-20",{"$f":"IF( AND($C171>($D$143-1),$C171<($F$143+1), evenWeek($C171) ),-1,\"\")","v":""},{"$f":"IF( AND($C171>($D$143-1),$C171<($F$143+1), NOT(evenWeek($C171))),-1,\"\")","v":""}]
[null,"1e Kerstdag","2024-12-25",{"$f":"IF( AND($C172>($D$143-1),$C172<($F$143+1),WEEKDAY($C172,2)=1, evenWeek($C172) ),-1,\"\")","v":""},{"$f":"IF( AND($C172>($D$143-1),$C172<($F$143+1),WEEKDAY($C172,2)=1, NOT(evenWeek($C172)) ),-1,\"\")","v":""},{"$f":"IF( AND($C172>($D$143-1),$C172<($F$143+1),WEEKDAY($C172,2)=2, evenWeek($C172) ),-1,\"\")","v":""},{"$f":"IF( AND($C172>($D$143-1),$C172<($F$143+1),WEEKDAY($C172,2)=2, NOT(evenWeek($C172)) ),-1,\"\")","v":""},{"$f":"IF( AND($C172>($D$143-1),$C172<($F$143+1),WEEKDAY($C172,2)=3, evenWeek($C172) ),-1,\"\")","v":""},{"$f":"IF( AND($C172>($D$143-1),$C172<($F$143+1),WEEKDAY($C172,2)=3, NOT(evenWeek($C172)) ),-1,\"\")","v":""},{"$f":"IF( AND($C172>($D$143-1),$C172<($F$143+1),WEEKDAY($C172,2)=4, evenWeek($C172) ),-1,\"\")","v":""},{"$f":"IF( AND($C172>($D$143-1),$C172<($F$143+1),WEEKDAY($C172,2)=4, NOT(evenWeek($C172)) ),-1,\"\")","v":""},{"$f":"IF( AND($C172>($D$143-1),$C172<($F$143+1),WEEKDAY($C172,2)=5, evenWeek($C172) ),-1,\"\")","v":""},{"$f":"IF( AND($C172>($D$143-1),$C172<($F$143+1),WEEKDAY($C172,2)=5, NOT(evenWeek($C172)) ),-1,\"\")","v":""},{"$f":"IF( AND($C172>($D$143-1),$C172<($F$143+1),WEEKDAY($C172,2)=6, evenWeek($C172) ),-1,\"\")","v":""},{"$f":"IF( AND($C172>($D$143-1),$C172<($F$143+1),WEEKDAY($C172,2)=6, NOT(evenWeek($C172)) ),-1,\"\")","v":""},{"$f":"IF( AND($C172>($D$143-1),$C172<($F$143+1),WEEKDAY($C172,2)=7, evenWeek($C172) ),-1,\"\")","v":""},{"$f":"IF( AND($C172>($D$143-1),$C172<($F$143+1),WEEKDAY($C172,2)=7, NOT(evenWeek($C172)) ),-1,\"\")","v":""}]
[null,"2e Kerstdag","2024-12-26",{"$f":"IF( AND($C173>($D$143-1),$C173<($F$143+1),WEEKDAY($C173,2)=1, evenWeek($C173) ),-1,\"\")","v":""},{"$f":"IF( AND($C173>($D$143-1),$C173<($F$143+1),WEEKDAY($C173,2)=1, NOT(evenWeek($C173)) ),-1,\"\")","v":""},{"$f":"IF( AND($C173>($D$143-1),$C173<($F$143+1),WEEKDAY($C173,2)=2, evenWeek($C173) ),-1,\"\")","v":""},{"$f":"IF( AND($C173>($D$143-1),$C173<($F$143+1),WEEKDAY($C173,2)=2, NOT(evenWeek($C173)) ),-1,\"\")","v":""},{"$f":"IF( AND($C173>($D$143-1),$C173<($F$143+1),WEEKDAY($C173,2)=3, evenWeek($C173) ),-1,\"\")","v":""},{"$f":"IF( AND($C173>($D$143-1),$C173<($F$143+1),WEEKDAY($C173,2)=3, NOT(evenWeek($C173)) ),-1,\"\")","v":""},{"$f":"IF( AND($C173>($D$143-1),$C173<($F$143+1),WEEKDAY($C173,2)=4, evenWeek($C173) ),-1,\"\")","v":""},{"$f":"IF( AND($C173>($D$143-1),$C173<($F$143+1),WEEKDAY($C173,2)=4, NOT(evenWeek($C173)) ),-1,\"\")","v":""},{"$f":"IF( AND($C173>($D$143-1),$C173<($F$143+1),WEEKDAY($C173,2)=5, evenWeek($C173) ),-1,\"\")","v":""},{"$f":"IF( AND($C173>($D$143-1),$C173<($F$143+1),WEEKDAY($C173,2)=5, NOT(evenWeek($C173)) ),-1,\"\")","v":""},{"$f":"IF( AND($C173>($D$143-1),$C173<($F$143+1),WEEKDAY($C173,2)=6, evenWeek($C173) ),-1,\"\")","v":""},{"$f":"IF( AND($C173>($D$143-1),$C173<($F$143+1),WEEKDAY($C173,2)=6, NOT(evenWeek($C173)) ),-1,\"\")","v":""},{"$f":"IF( AND($C173>($D$143-1),$C173<($F$143+1),WEEKDAY($C173,2)=7, evenWeek($C173) ),-1,\"\")","v":""},{"$f":"IF( AND($C173>($D$143-1),$C173<($F$143+1),WEEKDAY($C173,2)=7, NOT(evenWeek($C173)) ),-1,\"\")","v":""}]
[null,"Verplicht1","2024-05-10","","","","","","","","","","","","","",""]
[null,"Verplicht2","2024-12-27","","","","","","","","","","","","","",""]
[null,"Verplicht3","2024-12-30","","","","","","","","","","","","","",""]
[null,"Verplicht4","2024-12-31","","","","","","","","","","","","","",""]
[null,"Verplicht5","1904-01-01","","","","","","","","",-1,"","","","",""]
[null,"werkbare dagen",null,{"$f":"IF(OR(YEAR($D$143)<>$N$3,YEAR($F$143)<>$N$3),0,SUM(D161,D165:D178))","v":0},0,0,0,0,0,0,0,0,0,0,0,0,0,{"$f":"SUM(D179:O179)","v":0}]
[]
[null,"standaard werkweek",null,40,38,36]
[null,"bijbehorend verlofsaldo",null,{"$f":"D42","v":428},{"$f":"E42","v":323},{"$f":"F42","v":219}]
[null,"# werkdagen in jaar",{"$f":"C43","v":302}]
[]
[null,"(Z) Periodefactor werkbare dagen per volledig kalenderjaar",null,null,null,null,null,null,null,null,{"$f":"IF(AND(D143>0,F143>0),R179/C183,0)","v":0}]
[]
[null,"(A) Omvang aanstelling in fulltime equivalenten (fte's)",null,null,null,null,null,null,null,null,{"$f":"DIENSTVERBANDGEGEVENS!J47","v":0}]
[null,null,null,null,null,null,null,null,"keuzerondje"]
[null,"(B) Standaard werkweek bij volledige aanstelling, vul in 36, 38 of 40",null,null,null,null,null,null,3,null,{"$f":"IF(I189=1,36,IF(I189=2,38,IF(I189=3,40,0)))","v":40}]
[]
[null,"(C) Totaal aantal netto werkbare uren in periode 3 ( A * 1659 * Z )",null,null,null,null,null,null,null,null,{"$f":"IF($N$4,K187*$K$42*K185,0)","v":0}]
[]
[null,"(D) Bruto aantal werkbare uren bij aanstellingsomvang ( A * B )",null,null,null,null,null,null,null,null,{"$f":"K187*K189","v":0}]
[]
[null,"(E) Keuze tijdsbesteding",null,"maandag","dinsdag","woensdag","donderdag","vrijdag","zaterdag",null,"gemiddeld"]
[null,null,"even week",{"$f":"DIENSTVERBANDGEGEVENS!D56","v":0},{"$f":"DIENSTVERBANDGEGEVENS!E56","v":0},{"$f":"DIENSTVERBANDGEGEVENS!F56","v":0},{"$f":"DIENSTVERBANDGEGEVENS!G56","v":0},{"$f":"DIENSTVERBANDGEGEVENS!H56","v":0},{"$f":"DIENSTVERBANDGEGEVENS!I56","v":0},null,"totaal"]
[null,"totaal even",null,{"$f":"D196*D179","v":0},{"$f":"E196*F179","v":0},{"$f":"F196*H179","v":0},{"$f":"G196*J179","v":0},{"$f":"H196*L179","v":0},{"$f":"I196*N179","v":0}]
[null,null,"oneven week",{"$f":"DIENSTVERBANDGEGEVENS!D58","v":0},{"$f":"DIENSTVERBANDGEGEVENS!E58","v":0},{"$f":"DIENSTVERBANDGEGEVENS!F58","v":0},{"$f":"DIENSTVERBANDGEGEVENS!G58","v":0},{"$f":"DIENSTVERBANDGEGEVENS!H58","v":0},{"$f":"DIENSTVERBANDGEGEVENS!I58","v":0},null,{"$f":"SUM(D196:I196,D198:I198)/2","v":0}]
[null,"totaal oneven",null,{"$f":"D198*E179","v":0},{"$f":"E198*G179","v":0},{"$f":"F198*I179","v":0},{"$f":"G198*K179","v":0},{"$f":"H198*M179","v":0},{"$f":"I198*O179","v":0}]
[null,"(F) werkbare uren (gecorrigeerd voor feestdagen en overige niet-werkbare dagen)",null,null,null,null,null,null,null,null,{"$f":"IF(AND(D143>0,F143>0,$N$4),SUM(D197:I197,D199:I199),0)","v":0}]
[]
[null,"(G) Bruto CAO verlofuren in periode 3   ( A * verlofsaldo * Z )",null,null,null,null,null,null,null,null,{"$f":"(SUM(K187*IF(K189=0,0,IF(K189=D181,D182,IF(K189=E181,E182,IF(K189=F181,F182,\"\")))))*K185)","v":0}]
[]
[null,"(H) Werkbare uren gecorrigeerd voor bruto verlofuren  ( F - G )",null,null,null,null,null,null,null,null,{"$f":"IF(K193=0,0,K200-K202)","v":0}]
[]
[null,"(I) teveel (+) / te weinig (-) gewerkte uren  ( H - C )",null,null,null,null,null,null,null,null,{"$f":"K204-K191","v":0}]
[]
[null,"(J) Opgebouwde netto CAO verlofuren  ( G + I )",null,null,null,null,null,null,null,null,{"$f":"K202+K206","v":0}]
[]
[]
[]
[null,null,null,{"$f":"IF(D214,\"datum !\",IF(OR(D213=0,YEAR(D213)=$N$3),\"\",\"datum !\"))","v":""},null,{"$f":"IF(AND(D213>0,F213>0,F213<D213),\"datum !\",IF(OR(F214, AND(F213>0,YEAR(F213)<>$N$3)),\"datum !\",\"\"))","v":""},null,"p1","p2","p3","p5",null,null,null,null,null," PERIODE 4"]
[null," PERIODE 4","van",{"$f":"IF(ISNUMBER(DIENSTVERBANDGEGEVENS!D64),DIENSTVERBANDGEGEVENS!D64,0)","v":"1904-01-01"},"t/m",{"$f":"IF(ISNUMBER(DIENSTVERBANDGEGEVENS!F64),DIENSTVERBANDGEGEVENS!F64,0)","v":"1904-01-01"},{"$f":"IF(AND(H213:K213),\"\",\"  periode-overlapping\")","v":""},{"$f":"OR( D213=0,F213=0,D3=0,F3=0, AND($D$213>D3,$D$213>F3),AND($D$213<D3,$F$213<D3))","v":true},{"$f":"OR( D213=0,F213=0,D73=0,F73=0, AND($D$213>D73,$D$213>F73),AND($D$213<D73,$F$213<D73))","v":true},{"$f":"OR( D213=0,F213=0,D143=0,F143=0, AND($D$213>D143,$D$213>F143),AND($D$213<D143,$F$213<D143))","v":true},{"$f":"OR( D213=0,F213=0,D283=0,F283=0, AND($D$213>D283,$D$213>F283),AND($D$213<D283,$F$213<D283))","v":true}]
[null,null,"tekst in datumcel",{"$f":"TYPE(DIENSTVERBANDGEGEVENS!D64)=2","v":false},null,{"$f":"TYPE(DIENSTVERBANDGEGEVENS!F64)=2","v":false}]
[]
[null,null,null,"ma even","ma oneven","di even","di oneven","wo even","wo oneven","do even","do oneven","vr even","vr oneven","za even","za oneven","zo even","zo oneven"]
[null,null,{"$f":"D213","v":"1904-01-01"},{"$f":"IF( AND( WEEKDAY($C217,2)=1,YEAR($C217)=$N$3, evenWeek($C217), $C217<=$F$213), (($F$213 + 1) - $C217 ) / 14, 0)","v":0},{"$f":"IF( AND( WEEKDAY($C217,2)=1,YEAR($C217)=$N$3, NOT(evenWeek($C217)), $C217<= $F$213), (($F$213 + 1) - $C217 ) /14, 0)","v":0},{"$f":"IF( AND( WEEKDAY($C217,2)=2,YEAR($C217)=$N$3, evenWeek($C217), $C217<=$F$213), (($F$213 + 1) - $C217 ) / 14, 0)","v":0},{"$f":"IF( AND( WEEKDAY($C217,2)=2,YEAR($C217)=$N$3, NOT(evenWeek($C217)), $C217<= $F$213), (($F$213 + 1) - $C217 ) /14, 0)","v":0},{"$f":"IF( AND( WEEKDAY($C217,2)=3,YEAR($C217)=$N$3, evenWeek($C217), $C217<=$F$213), (($F$213 + 1) - $C217 ) / 14, 0)","v":0},{"$f":"IF( AND( WEEKDAY($C217,2)=3,YEAR($C217)=$N$3, NOT(evenWeek($C217)), $C217<= $F$213), (($F$213 + 1) - $C217 ) /14, 0)","v":0},{"$f":"IF( AND( WEEKDAY($C217,2)=4,YEAR($C217)=$N$3, evenWeek($C217), $C217<=$F$213), (($F$213 + 1) - $C217 ) / 14, 0)","v":0},{"$f":"IF( AND( WEEKDAY($C217,2)=4,YEAR($C217)=$N$3, NOT(evenWeek($C217)), $C217<= $F$213), (($F$213 + 1) - $C217 ) /14, 0)","v":0},{"$f":"IF( AND( WEEKDAY($C217,2)=5,YEAR($C217)=$N$3, evenWeek($C217), $C217<=$F$213), (($F$213 + 1) - $C217 ) / 14, 0)","v":0},{"$f":"IF( AND( WEEKDAY($C217,2)=5,YEAR($C217)=$N$3, NOT(evenWeek($C217)), $C217<= $F$213), (($F$213 + 1) - $C217 ) /14, 0)","v":0},{"$f":"IF( AND( WEEKDAY($C217,2)=6,YEAR($C217)=$N$3, evenWeek($C217), $C217<=$F$213), (($F$213 + 1) - $C217 ) / 14, 0)","v":0},{"$f":"IF( AND( WEEKDAY($C217,2)=6,YEAR($C217)=$N$3, NOT(evenWeek($C217)), $C217<= $F$213), (($F$213 + 1) - $C217 ) /14, 0)","v":0},{"$f":"IF( AND( WEEKDAY($C217,2)=7,YEAR($C217)=$N$3, evenWeek($C217), $C217<=$F$213), (($F$213 + 1) - $C217 ) / 14, 0)","v":0},{"$f":"IF( AND( WEEKDAY($C217,2)=7,YEAR($C217)=$N$3, NOT(evenWeek($C217)), $C217<= $F$213), (($F$213 + 1) - $C217 ) /14, 0)","v":0}]
[null,null,{"$f":"C217+1","v":"1904-01-02"},{"$f":"IF( AND( WEEKDAY($C218,2)=1,YEAR($C218)=$N$3, evenWeek($C218), $C218<=$F$213), (($F$213 + 1) - $C218 ) / 14, 0)","v":0},{"$f":"IF( AND( WEEKDAY($C218,2)=1,YEAR($C218)=$N$3, NOT(evenWeek($C218)), $C218<= $F$213), (($F$213 + 1) - $C218 ) /14, 0)","v":0},{"$f":"IF( AND( WEEKDAY($C218,2)=2,YEAR($C218)=$N$3, evenWeek($C218), $C218<=$F$213), (($F$213 + 1) - $C218 ) / 14, 0)","v":0},{"$f":"IF( AND( WEEKDAY($C218,2)=2,YEAR($C218)=$N$3, NOT(evenWeek($C218)), $C218<= $F$213), (($F$213 + 1) - $C218 ) /14, 0)","v":0},{"$f":"IF( AND( WEEKDAY($C218,2)=3,YEAR($C218)=$N$3, evenWeek($C218), $C218<=$F$213), (($F$213 + 1) - $C218 ) / 14, 0)","v":0},{"$f":"IF( AND( WEEKDAY($C218,2)=3,YEAR($C218)=$N$3, NOT(evenWeek($C218)), $C218<= $F$213), (($F$213 + 1) - $C218 ) /14, 0)","v":0},{"$f":"IF( AND( WEEKDAY($C218,2)=4,YEAR($C218)=$N$3, evenWeek($C218), $C218<=$F$213), (($F$213 + 1) - $C218 ) / 14, 0)","v":0},{"$f":"IF( AND( WEEKDAY($C218,2)=4,YEAR($C218)=$N$3, NOT(evenWeek($C218)), $C218<= $F$213), (($F$213 + 1) - $C218 ) /14, 0)","v":0},{"$f":"IF( AND( WEEKDAY($C218,2)=5,YEAR($C218)=$N$3, evenWeek($C218), $C218<=$F$213), (($F$213 + 1) - $C218 ) / 14, 0)","v":0},{"$f":"IF( AND( WEEKDAY($C218,2)=5,YEAR($C218)=$N$3, NOT(evenWeek($C218)), $C218<= $F$213), (($F$213 + 1) - $C218 ) /14, 0)","v":0},{"$f":"IF( AND( WEEKDAY($C218,2)=6,YEAR($C218)=$N$3, evenWeek($C218), $C218<=$F$213), (($F$213 + 1) - $C218 ) / 14, 0)","v":0},{"$f":"IF( AND( WEEKDAY($C218,2)=6,YEAR($C218)=$N$3, NOT(evenWeek($C218)), $C218<= $F$213), (($F$213 + 1) - $C218 ) /14, 0)","v":0},{"$f":"IF( AND( WEEKDAY($C218,2)=7,YEAR($C218)=$N$3, evenWeek($C218), $C218<=$F$213), (($F$213 + 1) - $C218 ) / 14, 0)","v":0},{"$f":"IF( AND( WEEKDAY($C218,2)=7,YEAR($C218)=$N$3, NOT(evenWeek($C218)), $C218<= $F$213), (($F$213 + 1) - $C218 ) /14, 0)","v":0}]
[null,null,{"$f":"C218+1","v":"1904-01-03"},{"$f":"IF( AND( WEEKDAY($C219,2)=1,YEAR($C219)=$N$3, evenWeek($C219), $C219<=$F$213), (($F$213 + 1) - $C219 ) / 14, 0)","v":0},{"$f":"IF( AND( WEEKDAY($C219,2)=1,YEAR($C219)=$N$3, NOT(evenWeek($C219)), $C219<= $F$213), (($F$213 + 1) - $C219 ) /14, 0)","v":0},{"$f":"IF( AND( WEEKDAY($C219,2)=2,YEAR($C219)=$N$3, evenWeek($C219), $C219<=$F$213), (($F$213 + 1) - $C219 ) / 14, 0)","v":0},{"$f":"IF( AND( WEEKDAY($C219,2)=2,YEAR($C219)=$N$3, NOT(evenWeek($C219)), $C219<= $F$213), (($F$213 + 1) - $C219 ) /14, 0)","v":0},{"$f":"IF( AND( WEEKDAY($C219,2)=3,YEAR($C219)=$N$3, evenWeek($C219), $C219<=$F$213), (($F$213 + 1) - $C219 ) / 14, 0)","v":0},{"$f":"IF( AND( WEEKDAY($C219,2)=3,YEAR($C219)=$N$3, NOT(evenWeek($C219)), $C219<= $F$213), (($F$213 + 1) - $C219 ) /14, 0)","v":0},{"$f":"IF( AND( WEEKDAY($C219,2)=4,YEAR($C219)=$N$3, evenWeek($C219), $C219<=$F$213), (($F$213 + 1) - $C219 ) / 14, 0)","v":0},{"$f":"IF( AND( WEEKDAY($C219,2)=4,YEAR($C219)=$N$3, NOT(evenWeek($C219)), $C219<= $F$213), (($F$213 + 1) - $C219 ) /14, 0)","v":0},{"$f":"IF( AND( WEEKDAY($C219,2)=5,YEAR($C219)=$N$3, evenWeek($C219), $C219<=$F$213), (($F$213 + 1) - $C219 ) / 14, 0)","v":0},{"$f":"IF( AND( WEEKDAY($C219,2)=5,YEAR($C219)=$N$3, NOT(evenWeek($C219)), $C219<= $F$213), (($F$213 + 1) - $C219 ) /14, 0)","v":0},{"$f":"IF( AND( WEEKDAY($C219,2)=6,YEAR($C219)=$N$3, evenWeek($C219), $C219<=$F$213), (($F$213 + 1) - $C219 ) / 14, 0)","v":0},{"$f":"IF( AND( WEEKDAY($C219,2)=6,YEAR($C219)=$N$3, NOT(evenWeek($C219)), $C219<= $F$213), (($F$213 + 1) - $C219 ) /14, 0)","v":0},{"$f":"IF( AND( WEEKDAY($C219,2)=7,YEAR($C219)=$N$3, evenWeek($C219), $C219<=$F$213), (($F$213 + 1) - $C219 ) / 14, 0)","v":0},{"$f":"IF( AND( WEEKDAY($C219,2)=7,YEAR($C219)=$N$3, NOT(evenWeek($C219)), $C219<= $F$213), (($F$213 + 1) - $C219 ) /14, 0)","v":0}]
[null,null,"1904-01-04",{"$f":"IF( AND( WEEKDAY($C220,2)=1,YEAR($C220)=$N$3, evenWeek($C220), $C220<=$F$213), (($F$213 + 1) - $C220 ) / 14, 0)","v":0},{"$f":"IF( AND( WEEKDAY($C220,2)=1,YEAR($C220)=$N$3, NOT(evenWeek($C220)), $C220<= $F$213), (($F$213 + 1) - $C220 ) /14, 0)","v":0},{"$f":"IF( AND( WEEKDAY($C220,2)=2,YEAR($C220)=$N$3, evenWeek($C220), $C220<=$F$213), (($F$213 + 1) - $C220 ) / 14, 0)","v":0},{"$f":"IF( AND( WEEKDAY($C220,2)=2,YEAR($C220)=$N$3, NOT(evenWeek($C220)), $C220<= $F$213), (($F$213 + 1) - $C220 ) /14, 0)","v":0},{"$f":"IF( AND( WEEKDAY($C220,2)=3,YEAR($C220)=$N$3, evenWeek($C220), $C220<=$F$213), (($F$213 + 1) - $C220 ) / 14, 0)","v":0},{"$f":"IF( AND( WEEKDAY($C220,2)=3,YEAR($C220)=$N$3, NOT(evenWeek($C220)), $C220<= $F$213), (($F$213 + 1) - $C220 ) /14, 0)","v":0},{"$f":"IF( AND( WEEKDAY($C220,2)=4,YEAR($C220)=$N$3, evenWeek($C220), $C220<=$F$213), (($F$213 + 1) - $C220 ) / 14, 0)","v":0},{"$f":"IF( AND( WEEKDAY($C220,2)=4,YEAR($C220)=$N$3, NOT(evenWeek($C220)), $C220<= $F$213), (($F$213 + 1) - $C220 ) /14, 0)","v":0},{"$f":"IF( AND( WEEKDAY($C220,2)=5,YEAR($C220)=$N$3, evenWeek($C220), $C220<=$F$213), (($F$213 + 1) - $C220 ) / 14, 0)","v":0},{"$f":"IF( AND( WEEKDAY($C220,2)=5,YEAR($C220)=$N$3, NOT(evenWeek($C220)), $C220<= $F$213), (($F$213 + 1) - $C220 ) /14, 0)","v":0},{"$f":"IF( AND( WEEKDAY($C220,2)=6,YEAR($C220)=$N$3, evenWeek($C220), $C220<=$F$213), (($F$213 + 1) - $C220 ) / 14, 0)","v":0},{"$f":"IF( AND( WEEKDAY($C220,2)=6,YEAR($C220)=$N$3, NOT(evenWeek($C220)), $C220<= $F$213), (($F$213 + 1) - $C220 ) /14, 0)","v":0},{"$f":"IF( AND( WEEKDAY($C220,2)=7,YEAR($C220)=$N$3, evenWeek($C220), $C220<=$F$213), (($F$213 + 1) - $C220 ) / 14, 0)","v":0},{"$f":"IF( AND( WEEKDAY($C220,2)=7,YEAR($C220)=$N$3, NOT(evenWeek($C220)), $C220<= $F$213), (($F$213 + 1) - $C220 ) /14, 0)","v":0}]
[null,null,"1904-01-05",{"$f":"IF( AND( WEEKDAY($C221,2)=1,YEAR($C221)=$N$3, evenWeek($C221), $C221<=$F$213), (($F$213 + 1) - $C221 ) / 14, 0)","v":0},{"$f":"IF( AND( WEEKDAY($C221,2)=1,YEAR($C221)=$N$3, NOT(evenWeek($C221)), $C221<= $F$213), (($F$213 + 1) - $C221 ) /14, 0)","v":0},{"$f":"IF( AND( WEEKDAY($C221,2)=2,YEAR($C221)=$N$3, evenWeek($C221), $C221<=$F$213), (($F$213 + 1) - $C221 ) / 14, 0)","v":0},{"$f":"IF( AND( WEEKDAY($C221,2)=2,YEAR($C221)=$N$3, NOT(evenWeek($C221)), $C221<= $F$213), (($F$213 + 1) - $C221 ) /14, 0)","v":0},{"$f":"IF( AND( WEEKDAY($C221,2)=3,YEAR($C221)=$N$3, evenWeek($C221), $C221<=$F$213), (($F$213 + 1) - $C221 ) / 14, 0)","v":0},{"$f":"IF( AND( WEEKDAY($C221,2)=3,YEAR($C221)=$N$3, NOT(evenWeek($C221)), $C221<= $F$213), (($F$213 + 1) - $C221 ) /14, 0)","v":0},{"$f":"IF( AND( WEEKDAY($C221,2)=4,YEAR($C221)=$N$3, evenWeek($C221), $C221<=$F$213), (($F$213 + 1) - $C221 ) / 14, 0)","v":0},{"$f":"IF( AND( WEEKDAY($C221,2)=4,YEAR($C221)=$N$3, NOT(evenWeek($C221)), $C221<= $F$213), (($F$213 + 1) - $C221 ) /14, 0)","v":0},{"$f":"IF( AND( WEEKDAY($C221,2)=5,YEAR($C221)=$N$3, evenWeek($C221), $C221<=$F$213), (($F$213 + 1) - $C221 ) / 14, 0)","v":0},{"$f":"IF( AND( WEEKDAY($C221,2)=5,YEAR($C221)=$N$3, NOT(evenWeek($C221)), $C221<= $F$213), (($F$213 + 1) - $C221 ) /14, 0)","v":0},{"$f":"IF( AND( WEEKDAY($C221,2)=6,YEAR($C221)=$N$3, evenWeek($C221), $C221<=$F$213), (($F$213 + 1) - $C221 ) / 14, 0)","v":0},{"$f":"IF( AND( WEEKDAY($C221,2)=6,YEAR($C221)=$N$3, NOT(evenWeek($C221)), $C221<= $F$213), (($F$213 + 1) - $C221 ) /14, 0)","v":0},{"$f":"IF( AND( WEEKDAY($C221,2)=7,YEAR($C221)=$N$3, evenWeek($C221), $C221<=$F$213), (($F$213 + 1) - $C221 ) / 14, 0)","v":0},{"$f":"IF( AND( WEEKDAY($C221,2)=7,YEAR($C221)=$N$3, NOT(evenWeek($C221)), $C221<= $F$213), (($F$213 + 1) - $C221 ) /14, 0)","v":0}]
[null,null,"1904-01-06",{"$f":"IF( AND( WEEKDAY($C222,2)=1,YEAR($C222)=$N$3, evenWeek($C222), $C222<=$F$213), (($F$213 + 1) - $C222 ) / 14, 0)","v":0},{"$f":"IF( AND( WEEKDAY($C222,2)=1,YEAR($C222)=$N$3, NOT(evenWeek($C222)), $C222<= $F$213), (($F$213 + 1) - $C222 ) /14, 0)","v":0},{"$f":"IF( AND( WEEKDAY($C222,2)=2,YEAR($C222)=$N$3, evenWeek($C222), $C222<=$F$213), (($F$213 + 1) - $C222 ) / 14, 0)","v":0},{"$f":"IF( AND( WEEKDAY($C222,2)=2,YEAR($C222)=$N$3, NOT(evenWeek($C222)), $C222<= $F$213), (($F$213 + 1) - $C222 ) /14, 0)","v":0},{"$f":"IF( AND( WEEKDAY($C222,2)=3,YEAR($C222)=$N$3, evenWeek($C222), $C222<=$F$213), (($F$213 + 1) - $C222 ) / 14, 0)","v":0},{"$f":"IF( AND( WEEKDAY($C222,2)=3,YEAR($C222)=$N$3, NOT(evenWeek($C222)), $C222<= $F$213), (($F$213 + 1) - $C222 ) /14, 0)","v":0},{"$f":"IF( AND( WEEKDAY($C222,2)=4,YEAR($C222)=$N$3, evenWeek($C222), $C222<=$F$213), (($F$213 + 1) - $C222 ) / 14, 0)","v":0},{"$f":"IF( AND( WEEKDAY($C222,2)=4,YEAR($C222)=$N$3, NOT(evenWeek($C222)), $C222<= $F$213), (($F$213 + 1) - $C222 ) /14, 0)","v":0},{"$f":"IF( AND( WEEKDAY($C222,2)=5,YEAR($C222)=$N$3, evenWeek($C222), $C222<=$F$213), (($F$213 + 1) - $C222 ) / 14, 0)","v":0},{"$f":"IF( AND( WEEKDAY($C222,2)=5,YEAR($C222)=$N$3, NOT(evenWeek($C222)), $C222<= $F$213), (($F$213 + 1) - $C222 ) /14, 0)","v":0},{"$f":"IF( AND( WEEKDAY($C222,2)=6,YEAR($C222)=$N$3, evenWeek($C222), $C222<=$F$213), (($F$213 + 1) - $C222 ) / 14, 0)","v":0},{"$f":"IF( AND( WEEKDAY($C222,2)=6,YEAR($C222)=$N$3, NOT(evenWeek($C222)), $C222<= $F$213), (($F$213 + 1) - $C222 ) /14, 0)","v":0},{"$f":"IF( AND( WEEKDAY($C222,2)=7,YEAR($C222)=$N$3, evenWeek($C222), $C222<=$F$213), (($F$213 + 1) - $C222 ) / 14, 0)","v":0},{"$f":"IF( AND( WEEKDAY($C222,2)=7,YEAR($C222)=$N$3, NOT(evenWeek($C222)), $C222<= $F$213), (($F$213 + 1) - $C222 ) /14, 0)","v":0}]
[null,null,"1904-01-07",{"$f":"IF( AND( WEEKDAY($C223,2)=1,YEAR($C223)=$N$3, evenWeek($C223), $C223<=$F$213), (($F$213 + 1) - $C223 ) / 14, 0)","v":0},{"$f":"IF( AND( WEEKDAY($C223,2)=1,YEAR($C223)=$N$3, NOT(evenWeek($C223)), $C223<= $F$213), (($F$213 + 1) - $C223 ) /14, 0)","v":0},{"$f":"IF( AND( WEEKDAY($C223,2)=2,YEAR($C223)=$N$3, evenWeek($C223), $C223<=$F$213), (($F$213 + 1) - $C223 ) / 14, 0)","v":0},{"$f":"IF( AND( WEEKDAY($C223,2)=2,YEAR($C223)=$N$3, NOT(evenWeek($C223)), $C223<= $F$213), (($F$213 + 1) - $C223 ) /14, 0)","v":0},{"$f":"IF( AND( WEEKDAY($C223,2)=3,YEAR($C223)=$N$3, evenWeek($C223), $C223<=$F$213), (($F$213 + 1) - $C223 ) / 14, 0)","v":0},{"$f":"IF( AND( WEEKDAY($C223,2)=3,YEAR($C223)=$N$3, NOT(evenWeek($C223)), $C223<= $F$213), (($F$213 + 1) - $C223 ) /14, 0)","v":0},{"$f":"IF( AND( WEEKDAY($C223,2)=4,YEAR($C223)=$N$3, evenWeek($C223), $C223<=$F$213), (($F$213 + 1) - $C223 ) / 14, 0)","v":0},{"$f":"IF( AND( WEEKDAY($C223,2)=4,YEAR($C223)=$N$3, NOT(evenWeek($C223)), $C223<= $F$213), (($F$213 + 1) - $C223 ) /14, 0)","v":0},{"$f":"IF( AND( WEEKDAY($C223,2)=5,YEAR($C223)=$N$3, evenWeek($C223), $C223<=$F$213), (($F$213 + 1) - $C223 ) / 14, 0)","v":0},{"$f":"IF( AND( WEEKDAY($C223,2)=5,YEAR($C223)=$N$3, NOT(evenWeek($C223)), $C223<= $F$213), (($F$213 + 1) - $C223 ) /14, 0)","v":0},{"$f":"IF( AND( WEEKDAY($C223,2)=6,YEAR($C223)=$N$3, evenWeek($C223), $C223<=$F$213), (($F$213 + 1) - $C223 ) / 14, 0)","v":0},{"$f":"IF( AND( WEEKDAY($C223,2)=6,YEAR($C223)=$N$3, NOT(evenWeek($C223)), $C223<= $F$213), (($F$213 + 1) - $C223 ) /14, 0)","v":0},{"$f":"IF( AND( WEEKDAY($C223,2)=7,YEAR($C223)=$N$3, evenWeek($C223), $C223<=$F$213), (($F$213 + 1) - $C223 ) / 14, 0)","v":0},{"$f":"IF( AND( WEEKDAY($C223,2)=7,YEAR($C223)=$N$3, NOT(evenWeek($C223)), $C223<= $F$213), (($F$213 + 1) - $C223 ) /14, 0)","v":0}]
[null,null,"1904-01-08",{"$f":"IF( AND( WEEKDAY($C224,2)=1,YEAR($C224)=$N$3, evenWeek($C224), $C224<=$F$213), (($F$213 + 1) - $C224 ) / 14, 0)","v":0},{"$f":"IF( AND( WEEKDAY($C224,2)=1,YEAR($C224)=$N$3, NOT(evenWeek($C224)), $C224<= $F$213), (($F$213 + 1) - $C224 ) /14, 0)","v":0},{"$f":"IF( AND( WEEKDAY($C224,2)=2,YEAR($C224)=$N$3, evenWeek($C224), $C224<=$F$213), (($F$213 + 1) - $C224 ) / 14, 0)","v":0},{"$f":"IF( AND( WEEKDAY($C224,2)=2,YEAR($C224)=$N$3, NOT(evenWeek($C224)), $C224<= $F$213), (($F$213 + 1) - $C224 ) /14, 0)","v":0},{"$f":"IF( AND( WEEKDAY($C224,2)=3,YEAR($C224)=$N$3, evenWeek($C224), $C224<=$F$213), (($F$213 + 1) - $C224 ) / 14, 0)","v":0},{"$f":"IF( AND( WEEKDAY($C224,2)=3,YEAR($C224)=$N$3, NOT(evenWeek($C224)), $C224<= $F$213), (($F$213 + 1) - $C224 ) /14, 0)","v":0},{"$f":"IF( AND( WEEKDAY($C224,2)=4,YEAR($C224)=$N$3, evenWeek($C224), $C224<=$F$213), (($F$213 + 1) - $C224 ) / 14, 0)","v":0},{"$f":"IF( AND( WEEKDAY($C224,2)=4,YEAR($C224)=$N$3, NOT(evenWeek($C224)), $C224<= $F$213), (($F$213 + 1) - $C224 ) /14, 0)","v":0},{"$f":"IF( AND( WEEKDAY($C224,2)=5,YEAR($C224)=$N$3, evenWeek($C224), $C224<=$F$213), (($F$213 + 1) - $C224 ) / 14, 0)","v":0},{"$f":"IF( AND( WEEKDAY($C224,2)=5,YEAR($C224)=$N$3, NOT(evenWeek($C224)), $C224<= $F$213), (($F$213 + 1) - $C224 ) /14, 0)","v":0},{"$f":"IF( AND( WEEKDAY($C224,2)=6,YEAR($C224)=$N$3, evenWeek($C224), $C224<=$F$213), (($F$213 + 1) - $C224 ) / 14, 0)","v":0},{"$f":"IF( AND( WEEKDAY($C224,2)=6,YEAR($C224)=$N$3, NOT(evenWeek($C224)), $C224<= $F$213), (($F$213 + 1) - $C224 ) /14, 0)","v":0},{"$f":"IF( AND( WEEKDAY($C224,2)=7,YEAR($C224)=$N$3, evenWeek($C224), $C224<=$F$213), (($F$213 + 1) - $C224 ) / 14, 0)","v":0},{"$f":"IF( AND( WEEKDAY($C224,2)=7,YEAR($C224)=$N$3, NOT(evenWeek($C224)), $C224<= $F$213), (($F$213 + 1) - $C224 ) /14, 0)","v":0}]
[null,null,"1904-01-09",{"$f":"IF( AND( WEEKDAY($C225,2)=1,YEAR($C225)=$N$3, evenWeek($C225), $C225<=$F$213), (($F$213 + 1) - $C225 ) / 14, 0)","v":0},{"$f":"IF( AND( WEEKDAY($C225,2)=1,YEAR($C225)=$N$3, NOT(evenWeek($C225)), $C225<= $F$213), (($F$213 + 1) - $C225 ) /14, 0)","v":0},{"$f":"IF( AND( WEEKDAY($C225,2)=2,YEAR($C225)=$N$3, evenWeek($C225), $C225<=$F$213), (($F$213 + 1) - $C225 ) / 14, 0)","v":0},{"$f":"IF( AND( WEEKDAY($C225,2)=2,YEAR($C225)=$N$3, NOT(evenWeek($C225)), $C225<= $F$213), (($F$213 + 1) - $C225 ) /14, 0)","v":0},{"$f":"IF( AND( WEEKDAY($C225,2)=3,YEAR($C225)=$N$3, evenWeek($C225), $C225<=$F$213), (($F$213 + 1) - $C225 ) / 14, 0)","v":0},{"$f":"IF( AND( WEEKDAY($C225,2)=3,YEAR($C225)=$N$3, NOT(evenWeek($C225)), $C225<= $F$213), (($F$213 + 1) - $C225 ) /14, 0)","v":0},{"$f":"IF( AND( WEEKDAY($C225,2)=4,YEAR($C225)=$N$3, evenWeek($C225), $C225<=$F$213), (($F$213 + 1) - $C225 ) / 14, 0)","v":0},{"$f":"IF( AND( WEEKDAY($C225,2)=4,YEAR($C225)=$N$3, NOT(evenWeek($C225)), $C225<= $F$213), (($F$213 + 1) - $C225 ) /14, 0)","v":0},{"$f":"IF( AND( WEEKDAY($C225,2)=5,YEAR($C225)=$N$3, evenWeek($C225), $C225<=$F$213), (($F$213 + 1) - $C225 ) / 14, 0)","v":0},{"$f":"IF( AND( WEEKDAY($C225,2)=5,YEAR($C225)=$N$3, NOT(evenWeek($C225)), $C225<= $F$213), (($F$213 + 1) - $C225 ) /14, 0)","v":0},{"$f":"IF( AND( WEEKDAY($C225,2)=6,YEAR($C225)=$N$3, evenWeek($C225), $C225<=$F$213), (($F$213 + 1) - $C225 ) / 14, 0)","v":0},{"$f":"IF( AND( WEEKDAY($C225,2)=6,YEAR($C225)=$N$3, NOT(evenWeek($C225)), $C225<= $F$213), (($F$213 + 1) - $C225 ) /14, 0)","v":0},{"$f":"IF( AND( WEEKDAY($C225,2)=7,YEAR($C225)=$N$3, evenWeek($C225), $C225<=$F$213), (($F$213 + 1) - $C225 ) / 14, 0)","v":0},{"$f":"IF( AND( WEEKDAY($C225,2)=7,YEAR($C225)=$N$3, NOT(evenWeek($C225)), $C225<= $F$213), (($F$213 + 1) - $C225 ) /14, 0)","v":0}]
[null,null,"1904-01-10",{"$f":"IF( AND( WEEKDAY($C226,2)=1,YEAR($C226)=$N$3, evenWeek($C226), $C226<=$F$213), (($F$213 + 1) - $C226 ) / 14, 0)","v":0},{"$f":"IF( AND( WEEKDAY($C226,2)=1,YEAR($C226)=$N$3, NOT(evenWeek($C226)), $C226<= $F$213), (($F$213 + 1) - $C226 ) /14, 0)","v":0},{"$f":"IF( AND( WEEKDAY($C226,2)=2,YEAR($C226)=$N$3, evenWeek($C226), $C226<=$F$213), (($F$213 + 1) - $C226 ) / 14, 0)","v":0},{"$f":"IF( AND( WEEKDAY($C226,2)=2,YEAR($C226)=$N$3, NOT(evenWeek($C226)), $C226<= $F$213), (($F$213 + 1) - $C226 ) /14, 0)","v":0},{"$f":"IF( AND( WEEKDAY($C226,2)=3,YEAR($C226)=$N$3, evenWeek($C226), $C226<=$F$213), (($F$213 + 1) - $C226 ) / 14, 0)","v":0},{"$f":"IF( AND( WEEKDAY($C226,2)=3,YEAR($C226)=$N$3, NOT(evenWeek($C226)), $C226<= $F$213), (($F$213 + 1) - $C226 ) /14, 0)","v":0},{"$f":"IF( AND( WEEKDAY($C226,2)=4,YEAR($C226)=$N$3, evenWeek($C226), $C226<=$F$213), (($F$213 + 1) - $C226 ) / 14, 0)","v":0},{"$f":"IF( AND( WEEKDAY($C226,2)=4,YEAR($C226)=$N$3, NOT(evenWeek($C226)), $C226<= $F$213), (($F$213 + 1) - $C226 ) /14, 0)","v":0},{"$f":"IF( AND( WEEKDAY($C226,2)=5,YEAR($C226)=$N$3, evenWeek($C226), $C226<=$F$213), (($F$213 + 1) - $C226 ) / 14, 0)","v":0},{"$f":"IF( AND( WEEKDAY($C226,2)=5,YEAR($C226)=$N$3, NOT(evenWeek($C226)), $C226<= $F$213), (($F$213 + 1) - $C226 ) /14, 0)","v":0},{"$f":"IF( AND( WEEKDAY($C226,2)=6,YEAR($C226)=$N$3, evenWeek($C226), $C226<=$F$213), (($F$213 + 1) - $C226 ) / 14, 0)","v":0},{"$f":"IF( AND( WEEKDAY($C226,2)=6,YEAR($C226)=$N$3, NOT(evenWeek($C226)), $C226<= $F$213), (($F$213 + 1) - $C226 ) /14, 0)","v":0},{"$f":"IF( AND( WEEKDAY($C226,2)=7,YEAR($C226)=$N$3, evenWeek($C226), $C226<=$F$213), (($F$213 + 1) - $C226 ) / 14, 0)","v":0},{"$f":"IF( AND( WEEKDAY($C226,2)=7,YEAR($C226)=$N$3, NOT(evenWeek($C226)), $C226<= $F$213), (($F$213 + 1) - $C226 ) /14, 0)","v":0}]
[null,null,"1904-01-11",{"$f":"IF( AND( WEEKDAY($C227,2)=1,YEAR($C227)=$N$3, evenWeek($C227), $C227<=$F$213), (($F$213 + 1) - $C227 ) / 14, 0)","v":0},{"$f":"IF( AND( WEEKDAY($C227,2)=1,YEAR($C227)=$N$3, NOT(evenWeek($C227)), $C227<= $F$213), (($F$213 + 1) - $C227 ) /14, 0)","v":0},{"$f":"IF( AND( WEEKDAY($C227,2)=2,YEAR($C227)=$N$3, evenWeek($C227), $C227<=$F$213), (($F$213 + 1) - $C227 ) / 14, 0)","v":0},{"$f":"IF( AND( WEEKDAY($C227,2)=2,YEAR($C227)=$N$3, NOT(evenWeek($C227)), $C227<= $F$213), (($F$213 + 1) - $C227 ) /14, 0)","v":0},{"$f":"IF( AND( WEEKDAY($C227,2)=3,YEAR($C227)=$N$3, evenWeek($C227), $C227<=$F$213), (($F$213 + 1) - $C227 ) / 14, 0)","v":0},{"$f":"IF( AND( WEEKDAY($C227,2)=3,YEAR($C227)=$N$3, NOT(evenWeek($C227)), $C227<= $F$213), (($F$213 + 1) - $C227 ) /14, 0)","v":0},{"$f":"IF( AND( WEEKDAY($C227,2)=4,YEAR($C227)=$N$3, evenWeek($C227), $C227<=$F$213), (($F$213 + 1) - $C227 ) / 14, 0)","v":0},{"$f":"IF( AND( WEEKDAY($C227,2)=4,YEAR($C227)=$N$3, NOT(evenWeek($C227)), $C227<= $F$213), (($F$213 + 1) - $C227 ) /14, 0)","v":0},{"$f":"IF( AND( WEEKDAY($C227,2)=5,YEAR($C227)=$N$3, evenWeek($C227), $C227<=$F$213), (($F$213 + 1) - $C227 ) / 14, 0)","v":0},{"$f":"IF( AND( WEEKDAY($C227,2)=5,YEAR($C227)=$N$3, NOT(evenWeek($C227)), $C227<= $F$213), (($F$213 + 1) - $C227 ) /14, 0)","v":0},{"$f":"IF( AND( WEEKDAY($C227,2)=6,YEAR($C227)=$N$3, evenWeek($C227), $C227<=$F$213), (($F$213 + 1) - $C227 ) / 14, 0)","v":0},{"$f":"IF( AND( WEEKDAY($C227,2)=6,YEAR($C227)=$N$3, NOT(evenWeek($C227)), $C227<= $F$213), (($F$213 + 1) - $C227 ) /14, 0)","v":0},{"$f":"IF( AND( WEEKDAY($C227,2)=7,YEAR($C227)=$N$3, evenWeek($C227), $C227<=$F$213), (($F$213 + 1) - $C227 ) / 14, 0)","v":0},{"$f":"IF( AND( WEEKDAY($C227,2)=7,YEAR($C227)=$N$3, NOT(evenWeek($C227)), $C227<= $F$213), (($F$213 + 1) - $C227 ) /14, 0)","v":0}]
[null,null,"1904-01-12",{"$f":"IF( AND( WEEKDAY($C228,2)=1,YEAR($C228)=$N$3, evenWeek($C228), $C228<=$F$213), (($F$213 + 1) - $C228 ) / 14, 0)","v":0},{"$f":"IF( AND( WEEKDAY($C228,2)=1,YEAR($C228)=$N$3, NOT(evenWeek($C228)), $C228<= $F$213), (($F$213 + 1) - $C228 ) /14, 0)","v":0},{"$f":"IF( AND( WEEKDAY($C228,2)=2,YEAR($C228)=$N$3, evenWeek($C228), $C228<=$F$213), (($F$213 + 1) - $C228 ) / 14, 0)","v":0},{"$f":"IF( AND( WEEKDAY($C228,2)=2,YEAR($C228)=$N$3, NOT(evenWeek($C228)), $C228<= $F$213), (($F$213 + 1) - $C228 ) /14, 0)","v":0},{"$f":"IF( AND( WEEKDAY($C228,2)=3,YEAR($C228)=$N$3, evenWeek($C228), $C228<=$F$213), (($F$213 + 1) - $C228 ) / 14, 0)","v":0},{"$f":"IF( AND( WEEKDAY($C228,2)=3,YEAR($C228)=$N$3, NOT(evenWeek($C228)), $C228<= $F$213), (($F$213 + 1) - $C228 ) /14, 0)","v":0},{"$f":"IF( AND( WEEKDAY($C228,2)=4,YEAR($C228)=$N$3, evenWeek($C228), $C228<=$F$213), (($F$213 + 1) - $C228 ) / 14, 0)","v":0},{"$f":"IF( AND( WEEKDAY($C228,2)=4,YEAR($C228)=$N$3, NOT(evenWeek($C228)), $C228<= $F$213), (($F$213 + 1) - $C228 ) /14, 0)","v":0},{"$f":"IF( AND( WEEKDAY($C228,2)=5,YEAR($C228)=$N$3, evenWeek($C228), $C228<=$F$213), (($F$213 + 1) - $C228 ) / 14, 0)","v":0},{"$f":"IF( AND( WEEKDAY($C228,2)=5,YEAR($C228)=$N$3, NOT(evenWeek($C228)), $C228<= $F$213), (($F$213 + 1) - $C228 ) /14, 0)","v":0},{"$f":"IF( AND( WEEKDAY($C228,2)=6,YEAR($C228)=$N$3, evenWeek($C228), $C228<=$F$213), (($F$213 + 1) - $C228 ) / 14, 0)","v":0},{"$f":"IF( AND( WEEKDAY($C228,2)=6,YEAR($C228)=$N$3, NOT(evenWeek($C228)), $C228<= $F$213), (($F$213 + 1) - $C228 ) /14, 0)","v":0},{"$f":"IF( AND( WEEKDAY($C228,2)=7,YEAR($C228)=$N$3, evenWeek($C228), $C228<=$F$213), (($F$213 + 1) - $C228 ) / 14, 0)","v":0},{"$f":"IF( AND( WEEKDAY($C228,2)=7,YEAR($C228)=$N$3, NOT(evenWeek($C228)), $C228<= $F$213), (($F$213 + 1) - $C228 ) /14, 0)","v":0}]
[null,null,"1904-01-13",{"$f":"IF( AND( WEEKDAY($C229,2)=1,YEAR($C229)=$N$3, evenWeek($C229), $C229<=$F$213), (($F$213 + 1) - $C229 ) / 14, 0)","v":0},{"$f":"IF( AND( WEEKDAY($C229,2)=1,YEAR($C229)=$N$3, NOT(evenWeek($C229)), $C229<= $F$213), (($F$213 + 1) - $C229 ) /14, 0)","v":0},{"$f":"IF( AND( WEEKDAY($C229,2)=2,YEAR($C229)=$N$3, evenWeek($C229), $C229<=$F$213), (($F$213 + 1) - $C229 ) / 14, 0)","v":0},{"$f":"IF( AND( WEEKDAY($C229,2)=2,YEAR($C229)=$N$3, NOT(evenWeek($C229)), $C229<= $F$213), (($F$213 + 1) - $C229 ) /14, 0)","v":0},{"$f":"IF( AND( WEEKDAY($C229,2)=3,YEAR($C229)=$N$3, evenWeek($C229), $C229<=$F$213), (($F$213 + 1) - $C229 ) / 14, 0)","v":0},{"$f":"IF( AND( WEEKDAY($C229,2)=3,YEAR($C229)=$N$3, NOT(evenWeek($C229)), $C229<= $F$213), (($F$213 + 1) - $C229 ) /14, 0)","v":0},{"$f":"IF( AND( WEEKDAY($C229,2)=4,YEAR($C229)=$N$3, evenWeek($C229), $C229<=$F$213), (($F$213 + 1) - $C229 ) / 14, 0)","v":0},{"$f":"IF( AND( WEEKDAY($C229,2)=4,YEAR($C229)=$N$3, NOT(evenWeek($C229)), $C229<= $F$213), (($F$213 + 1) - $C229 ) /14, 0)","v":0},{"$f":"IF( AND( WEEKDAY($C229,2)=5,YEAR($C229)=$N$3, evenWeek($C229), $C229<=$F$213), (($F$213 + 1) - $C229 ) / 14, 0)","v":0},{"$f":"IF( AND( WEEKDAY($C229,2)=5,YEAR($C229)=$N$3, NOT(evenWeek($C229)), $C229<= $F$213), (($F$213 + 1) - $C229 ) /14, 0)","v":0},{"$f":"IF( AND( WEEKDAY($C229,2)=6,YEAR($C229)=$N$3, evenWeek($C229), $C229<=$F$213), (($F$213 + 1) - $C229 ) / 14, 0)","v":0},{"$f":"IF( AND( WEEKDAY($C229,2)=6,YEAR($C229)=$N$3, NOT(evenWeek($C229)), $C229<= $F$213), (($F$213 + 1) - $C229 ) /14, 0)","v":0},{"$f":"IF( AND( WEEKDAY($C229,2)=7,YEAR($C229)=$N$3, evenWeek($C229), $C229<=$F$213), (($F$213 + 1) - $C229 ) / 14, 0)","v":0},{"$f":"IF( AND( WEEKDAY($C229,2)=7,YEAR($C229)=$N$3, NOT(evenWeek($C229)), $C229<= $F$213), (($F$213 + 1) - $C229 ) /14, 0)","v":0}]
[null,null,"1904-01-14",{"$f":"IF( AND( WEEKDAY($C230,2)=1,YEAR($C230)=$N$3, evenWeek($C230), $C230<=$F$213), (($F$213 + 1) - $C230 ) / 14, 0)","v":0},{"$f":"IF( AND( WEEKDAY($C230,2)=1,YEAR($C230)=$N$3, NOT(evenWeek($C230)), $C230<= $F$213), (($F$213 + 1) - $C230 ) /14, 0)","v":0},{"$f":"IF( AND( WEEKDAY($C230,2)=2,YEAR($C230)=$N$3, evenWeek($C230), $C230<=$F$213), (($F$213 + 1) - $C230 ) / 14, 0)","v":0},{"$f":"IF( AND( WEEKDAY($C230,2)=2,YEAR($C230)=$N$3, NOT(evenWeek($C230)), $C230<= $F$213), (($F$213 + 1) - $C230 ) /14, 0)","v":0},{"$f":"IF( AND( WEEKDAY($C230,2)=3,YEAR($C230)=$N$3, evenWeek($C230), $C230<=$F$213), (($F$213 + 1) - $C230 ) / 14, 0)","v":0},{"$f":"IF( AND( WEEKDAY($C230,2)=3,YEAR($C230)=$N$3, NOT(evenWeek($C230)), $C230<= $F$213), (($F$213 + 1) - $C230 ) /14, 0)","v":0},{"$f":"IF( AND( WEEKDAY($C230,2)=4,YEAR($C230)=$N$3, evenWeek($C230), $C230<=$F$213), (($F$213 + 1) - $C230 ) / 14, 0)","v":0},{"$f":"IF( AND( WEEKDAY($C230,2)=4,YEAR($C230)=$N$3, NOT(evenWeek($C230)), $C230<= $F$213), (($F$213 + 1) - $C230 ) /14, 0)","v":0},{"$f":"IF( AND( WEEKDAY($C230,2)=5,YEAR($C230)=$N$3, evenWeek($C230), $C230<=$F$213), (($F$213 + 1) - $C230 ) / 14, 0)","v":0},{"$f":"IF( AND( WEEKDAY($C230,2)=5,YEAR($C230)=$N$3, NOT(evenWeek($C230)), $C230<= $F$213), (($F$213 + 1) - $C230 ) /14, 0)","v":0},{"$f":"IF( AND( WEEKDAY($C230,2)=6,YEAR($C230)=$N$3, evenWeek($C230), $C230<=$F$213), (($F$213 + 1) - $C230 ) / 14, 0)","v":0},{"$f":"IF( AND( WEEKDAY($C230,2)=6,YEAR($C230)=$N$3, NOT(evenWeek($C230)), $C230<= $F$213), (($F$213 + 1) - $C230 ) /14, 0)","v":0},{"$f":"IF( AND( WEEKDAY($C230,2)=7,YEAR($C230)=$N$3, evenWeek($C230), $C230<=$F$213), (($F$213 + 1) - $C230 ) / 14, 0)","v":0},{"$f":"IF( AND( WEEKDAY($C230,2)=7,YEAR($C230)=$N$3, NOT(evenWeek($C230)), $C230<= $F$213), (($F$213 + 1) - $C230 ) /14, 0)","v":0}]
[null,null,"# dagen: ",{"$f":"ROUNDUP(SUM(D217:D230),0)","v":0},{"$f":"ROUNDUP(SUM(E217:E230),0)","v":0},0,0,0,0,0,0,0,0,{"$f":"ROUNDUP(SUM(N217:N230),0)","v":0},{"$f":"ROUNDUP(SUM(O217:O230),0)","v":0},{"$f":"ROUNDUP(SUM(P217:P230),0)","v":0},{"$f":"ROUNDUP(SUM(Q217:Q230),0)","v":0}]
[]
[]
[null,null,"NCF dagen","ma even","ma oneven","di even","di oneven","wo even","wo oneven","do even","do oneven","vr even","vr oneven","za even","za oneven","zo even","zo oneven","totaal"]
[null,{"$f":"B25","v":"Nieuwjaarsdag"},"2024-01-01",{"$f":"IF( AND($C235>($D$213-1),$C235<($F$213+1),WEEKDAY($C235,2)=1, evenWeek($C235) ),-1,\"\")","v":""},{"$f":"IF( AND($C235>($D$213-1),$C235<($F$213+1),WEEKDAY($C235,2)=1, NOT(evenWeek($C235)) ),-1,\"\")","v":""},{"$f":"IF( AND($C235>($D$213-1),$C235<($F$213+1),WEEKDAY($C235,2)=2, evenWeek($C235) ),-1,\"\")","v":""},{"$f":"IF( AND($C235>($D$213-1),$C235<($F$213+1),WEEKDAY($C235,2)=2, NOT(evenWeek($C235)) ),-1,\"\")","v":""},{"$f":"IF( AND($C235>($D$213-1),$C235<($F$213+1),WEEKDAY($C235,2)=3, evenWeek($C235) ),-1,\"\")","v":""},{"$f":"IF( AND($C235>($D$213-1),$C235<($F$213+1),WEEKDAY($C235,2)=3, NOT(evenWeek($C235)) ),-1,\"\")","v":""},{"$f":"IF( AND($C235>($D$213-1),$C235<($F$213+1),WEEKDAY($C235,2)=4, evenWeek($C235) ),-1,\"\")","v":""},{"$f":"IF( AND($C235>($D$213-1),$C235<($F$213+1),WEEKDAY($C235,2)=4, NOT(evenWeek($C235)) ),-1,\"\")","v":""},{"$f":"IF( AND($C235>($D$213-1),$C235<($F$213+1),WEEKDAY($C235,2)=5, evenWeek($C235) ),-1,\"\")","v":""},{"$f":"IF( AND($C235>($D$213-1),$C235<($F$213+1),WEEKDAY($C235,2)=5, NOT(evenWeek($C235)) ),-1,\"\")","v":""},{"$f":"IF( AND($C235>($D$213-1),$C235<($F$213+1),WEEKDAY($C235,2)=6, evenWeek($C235) ),-1,\"\")","v":""},{"$f":"IF( AND($C235>($D$213-1),$C235<($F$213+1),WEEKDAY($C235,2)=6, NOT(evenWeek($C235)) ),-1,\"\")","v":""},{"$f":"IF( AND($C235>($D$213-1),$C235<($F$213+1),WEEKDAY($C235,2)=7, evenWeek($C235) ),-1,\"\")","v":""},{"$f":"IF( AND($C235>($D$213-1),$C235<($F$213+1),WEEKDAY($C235,2)=7, NOT(evenWeek($C235)) ),-1,\"\")","v":""}]
[null,"Goede vrijdag","2024-03-29",null,null,null,null,null,null,null,null,{"$f":"IF( AND($C236>($D$213-1),$C236<($F$213+1), evenWeek($C236) ),-1,\"\")","v":""},{"$f":"IF( AND($C236>($D$213-1),$C236<($F$213+1), NOT(evenWeek($C236)) ),-1,\"\")","v":""}]
[null,"2e paasdag","2024-04-01",{"$f":"IF( AND($C237>($D$213-1),$C237<($F$213+1), evenWeek($C237) ),-1,\"\")","v":""},{"$f":"IF( AND($C237>($D$213-1),$C237<($F$213+1), NOT(evenWeek($C237)) ),-1,\"\")","v":""}]
[null,"Koningsdag","2024-04-27",{"$f":"IF( AND($C238>($D$213-1),$C238<($F$213+1),WEEKDAY($C238,2)=1, evenWeek($C238) ),-1,\"\")","v":""},{"$f":"IF( AND($C238>($D$213-1),$C238<($F$213+1),WEEKDAY($C238,2)=1, NOT(evenWeek($C238)) ),-1,\"\")","v":""},{"$f":"IF( AND($C238>($D$213-1),$C238<($F$213+1),WEEKDAY($C238,2)=2, evenWeek($C238) ),-1,\"\")","v":""},{"$f":"IF( AND($C238>($D$213-1),$C238<($F$213+1),WEEKDAY($C238,2)=2, NOT(evenWeek($C238)) ),-1,\"\")","v":""},{"$f":"IF( AND($C238>($D$213-1),$C238<($F$213+1),WEEKDAY($C238,2)=3, evenWeek($C238) ),-1,\"\")","v":""},{"$f":"IF( AND($C238>($D$213-1),$C238<($F$213+1),WEEKDAY($C238,2)=3, NOT(evenWeek($C238)) ),-1,\"\")","v":""},{"$f":"IF( AND($C238>($D$213-1),$C238<($F$213+1),WEEKDAY($C238,2)=4, evenWeek($C238) ),-1,\"\")","v":""},{"$f":"IF( AND($C238>($D$213-1),$C238<($F$213+1),WEEKDAY($C238,2)=4, NOT(evenWeek($C238)) ),-1,\"\")","v":""},{"$f":"IF( AND($C238>($D$213-1),$C238<($F$213+1),WEEKDAY($C238,2)=5, evenWeek($C238) ),-1,\"\")","v":""},{"$f":"IF( AND($C238>($D$213-1),$C238<($F$213+1),WEEKDAY($C238,2)=5, NOT(evenWeek($C238)) ),-1,\"\")","v":""},{"$f":"IF( AND($C238>($D$213-1),$C238<($F$213+1),WEEKDAY($C238,2)=6, evenWeek($C238) ),-1,\"\")","v":""},{"$f":"IF( AND($C238>($D$213-1),$C238<($F$213+1),WEEKDAY($C238,2)=6, NOT(evenWeek($C238)) ),-1,\"\")","v":""},{"$f":"IF( AND($C238>($D$213-1),$C238<($F$213+1),WEEKDAY($C238,2)=7, evenWeek($C238) ),-1,\"\")","v":""},{"$f":"IF( AND($C238>($D$213-1),$C238<($F$213+1),WEEKDAY($C238,2)=7, NOT(evenWeek($C238)) ),-1,\"\")","v":""}]
[null,"Bevrijdingsdag","2024-05-05",{"$f":"IF( AND($C239>($D$213-1),$C239<($F$213+1),WEEKDAY($C239,2)=1, evenWeek($C239) ),-1,\"\")","v":""},{"$f":"IF( AND($C239>($D$213-1),$C239<($F$213+1),WEEKDAY($C239,2)=1, NOT(evenWeek($C239)) ),-1,\"\")","v":""},{"$f":"IF( AND($C239>($D$213-1),$C239<($F$213+1),WEEKDAY($C239,2)=2, evenWeek($C239) ),-1,\"\")","v":""},{"$f":"IF( AND($C239>($D$213-1),$C239<($F$213+1),WEEKDAY($C239,2)=2, NOT(evenWeek($C239)) ),-1,\"\")","v":""},{"$f":"IF( AND($C239>($D$213-1),$C239<($F$213+1),WEEKDAY($C239,2)=3, evenWeek($C239) ),-1,\"\")","v":""},{"$f":"IF( AND($C239>($D$213-1),$C239<($F$213+1),WEEKDAY($C239,2)=3, NOT(evenWeek($C239)) ),-1,\"\")","v":""},{"$f":"IF( AND($C239>($D$213-1),$C239<($F$213+1),WEEKDAY($C239,2)=4, evenWeek($C239) ),-1,\"\")","v":""},{"$f":"IF( AND($C239>($D$213-1),$C239<($F$213+1),WEEKDAY($C239,2)=4, NOT(evenWeek($C239)) ),-1,\"\")","v":""},{"$f":"IF( AND($C239>($D$213-1),$C239<($F$213+1),WEEKDAY($C239,2)=5, evenWeek($C239) ),-1,\"\")","v":""},{"$f":"IF( AND($C239>($D$213-1),$C239<($F$213+1),WEEKDAY($C239,2)=5, NOT(evenWeek($C239)) ),-1,\"\")","v":""},{"$f":"IF( AND($C239>($D$213-1),$C239<($F$213+1),WEEKDAY($C239,2)=6, evenWeek($C239) ),-1,\"\")","v":""},{"$f":"IF( AND($C239>($D$213-1),$C239<($F$213+1),WEEKDAY($C239,2)=6, NOT(evenWeek($C239)) ),-1,\"\")","v":""},{"$f":"IF( AND($C239>($D$213-1),$C239<($F$213+1),WEEKDAY($C239,2)=7, evenWeek($C239) ),-1,\"\")","v":""},{"$f":"IF( AND($C239>($D$213-1),$C239<($F$213+1),WEEKDAY($C239,2)=7, NOT(evenWeek($C239)) ),-1,\"\")","v":""}]
[null,"Hemelvaart","2024-05-09",null,null,null,null,null,null,{"$f":"IF( AND($C240>($D$213-1),$C240<($F$213+1), evenWeek($C240) ),-1,\"\")","v":""},{"$f":"IF( AND($C240>($D$213-1),$C240<($F$213+1), NOT(evenWeek($C240)) ),-1,\"\")","v":""}]
[null,"2e Pinksterdag","2024-05-20",{"$f":"IF( AND($C241>($D$213-1),$C241<($F$213+1), evenWeek($C241) ),-1,\"\")","v":""},{"$f":"IF( AND($C241>($D$213-1),$C241<($F$213+1), NOT(evenWeek($C241)) ),-1,\"\")","v":""}]
[null,"1e Kerstdag","2024-12-25",{"$f":"IF( AND($C242>($D$213-1),$C242<($F$213+1),WEEKDAY($C242,2)=1, evenWeek($C242) ),-1,\"\")","v":""},{"$f":"IF( AND($C242>($D$213-1),$C242<($F$213+1),WEEKDAY($C242,2)=1, NOT(evenWeek($C242)) ),-1,\"\")","v":""},{"$f":"IF( AND($C242>($D$213-1),$C242<($F$213+1),WEEKDAY($C242,2)=2, evenWeek($C242) ),-1,\"\")","v":""},{"$f":"IF( AND($C242>($D$213-1),$C242<($F$213+1),WEEKDAY($C242,2)=2, NOT(evenWeek($C242)) ),-1,\"\")","v":""},{"$f":"IF( AND($C242>($D$213-1),$C242<($F$213+1),WEEKDAY($C242,2)=3, evenWeek($C242) ),-1,\"\")","v":""},{"$f":"IF( AND($C242>($D$213-1),$C242<($F$213+1),WEEKDAY($C242,2)=3, NOT(evenWeek($C242)) ),-1,\"\")","v":""},{"$f":"IF( AND($C242>($D$213-1),$C242<($F$213+1),WEEKDAY($C242,2)=4, evenWeek($C242) ),-1,\"\")","v":""},{"$f":"IF( AND($C242>($D$213-1),$C242<($F$213+1),WEEKDAY($C242,2)=4, NOT(evenWeek($C242)) ),-1,\"\")","v":""},{"$f":"IF( AND($C242>($D$213-1),$C242<($F$213+1),WEEKDAY($C242,2)=5, evenWeek($C242) ),-1,\"\")","v":""},{"$f":"IF( AND($C242>($D$213-1),$C242<($F$213+1),WEEKDAY($C242,2)=5, NOT(evenWeek($C242)) ),-1,\"\")","v":""},{"$f":"IF( AND($C242>($D$213-1),$C242<($F$213+1),WEEKDAY($C242,2)=6, evenWeek($C242) ),-1,\"\")","v":""},{"$f":"IF( AND($C242>($D$213-1),$C242<($F$213+1),WEEKDAY($C242,2)=6, NOT(evenWeek($C242)) ),-1,\"\")","v":""},{"$f":"IF( AND($C242>($D$213-1),$C242<($F$213+1),WEEKDAY($C242,2)=7, evenWeek($C242) ),-1,\"\")","v":""},{"$f":"IF( AND($C242>($D$213-1),$C242<($F$213+1),WEEKDAY($C242,2)=7, NOT(evenWeek($C242)) ),-1,\"\")","v":""}]
[null,"2e Kerstdag","2024-12-26",{"$f":"IF( AND($C243>($D$213-1),$C243<($F$213+1),WEEKDAY($C243,2)=1, evenWeek($C243) ),-1,\"\")","v":""},{"$f":"IF( AND($C243>($D$213-1),$C243<($F$213+1),WEEKDAY($C243,2)=1, NOT(evenWeek($C243)) ),-1,\"\")","v":""},{"$f":"IF( AND($C243>($D$213-1),$C243<($F$213+1),WEEKDAY($C243,2)=2, evenWeek($C243) ),-1,\"\")","v":""},{"$f":"IF( AND($C243>($D$213-1),$C243<($F$213+1),WEEKDAY($C243,2)=2, NOT(evenWeek($C243)) ),-1,\"\")","v":""},{"$f":"IF( AND($C243>($D$213-1),$C243<($F$213+1),WEEKDAY($C243,2)=3, evenWeek($C243) ),-1,\"\")","v":""},{"$f":"IF( AND($C243>($D$213-1),$C243<($F$213+1),WEEKDAY($C243,2)=3, NOT(evenWeek($C243)) ),-1,\"\")","v":""},{"$f":"IF( AND($C243>($D$213-1),$C243<($F$213+1),WEEKDAY($C243,2)=4, evenWeek($C243) ),-1,\"\")","v":""},{"$f":"IF( AND($C243>($D$213-1),$C243<($F$213+1),WEEKDAY($C243,2)=4, NOT(evenWeek($C243)) ),-1,\"\")","v":""},{"$f":"IF( AND($C243>($D$213-1),$C243<($F$213+1),WEEKDAY($C243,2)=5, evenWeek($C243) ),-1,\"\")","v":""},{"$f":"IF( AND($C243>($D$213-1),$C243<($F$213+1),WEEKDAY($C243,2)=5, NOT(evenWeek($C243)) ),-1,\"\")","v":""},{"$f":"IF( AND($C243>($D$213-1),$C243<($F$213+1),WEEKDAY($C243,2)=6, evenWeek($C243) ),-1,\"\")","v":""},{"$f":"IF( AND($C243>($D$213-1),$C243<($F$213+1),WEEKDAY($C243,2)=6, NOT(evenWeek($C243)) ),-1,\"\")","v":""},{"$f":"IF( AND($C243>($D$213-1),$C243<($F$213+1),WEEKDAY($C243,2)=7, evenWeek($C243) ),-1,\"\")","v":""},{"$f":"IF( AND($C243>($D$213-1),$C243<($F$213+1),WEEKDAY($C243,2)=7, NOT(evenWeek($C243)) ),-1,\"\")","v":""}]
[null,"Verplicht1","2024-05-10","","","","","","","","","","","","","",""]
[null,"Verplicht2","2024-12-27","","","","","","","","","","","","","",""]
[null,"Verplicht3","2024-12-30","","","","","","","","","","","","","",""]
[null,"Verplicht4","2024-12-31","","","","","","","","","","","","","",""]
[null,"Verplicht5","1904-01-01","","","","","","","","",-1,"","","","",""]
[null,"werkbare dagen",null,{"$f":"IF(OR(YEAR($D$213)<>$N$3,YEAR($F$213)<>$N$3),0,SUM(D231,D235:D248))","v":0},0,0,0,0,0,0,0,0,0,0,0,0,0,{"$f":"SUM(D249:O249)","v":0}]
[]
[null,"standaard werkweek",null,40,38,36]
[null,"bijbehorend verlofsaldo",null,{"$f":"D42","v":428},{"$f":"E42","v":323},{"$f":"F42","v":219}]
[null,"# werkdagen in jaar",{"$f":"C43","v":302}]
[]
[null,"(Z) Periodefactor werkbare dagen per volledig kalenderjaar",null,null,null,null,null,null,null,null,{"$f":"IF(AND(D213>0,F213>0),R249/C253,0)","v":0}]
[]
[null,"(A) Omvang aanstelling in fulltime equivalenten (fte's)",null,null,null,null,null,null,null,null,{"$f":"DIENSTVERBANDGEGEVENS!J66","v":0}]
[null,null,null,null,null,null,null,null,"keuzerondje"]
[null,"(B) Standaard werkweek bij volledige aanstelling, vul in 36, 38 of 40",null,null,null,null,null,null,3,null,{"$f":"IF(I259=1,36,IF(I259=2,38,IF(I259=3,40,0)))","v":40}]
[]
[null,"(C) Totaal aantal netto werkbare uren in periode 4 ( A * 1659 * Z )",null,null,null,null,null,null,null,null,{"$f":"IF($N$4,K257*$K$42*K255,0)","v":0}]
[]
[null,"(D) Bruto aantal werkbare uren bij aanstellingsomvang ( A * B )",null,null,null,null,null,null,null,null,{"$f":"K257*K259","v":0}]
[]
[null,"(E) Keuze tijdsbesteding",null,"maandag","dinsdag","woensdag","donderdag","vrijdag","zaterdag",null,"gemiddeld"]
[null,null,"even week",{"$f":"DIENSTVERBANDGEGEVENS!D75","v":0},{"$f":"DIENSTVERBANDGEGEVENS!E75","v":0},{"$f":"DIENSTVERBANDGEGEVENS!F75","v":0},{"$f":"DIENSTVERBANDGEGEVENS!G75","v":0},{"$f":"DIENSTVERBANDGEGEVENS!H75","v":0},{"$f":"DIENSTVERBANDGEGEVENS!I75","v":0},null,"totaal"]
[null,"totaal even",null,{"$f":"maandag4*D249","v":0},{"$f":"E266*F249","v":0},{"$f":"F266*H249","v":0},{"$f":"G266*J249","v":0},{"$f":"H266*L249","v":0},{"$f":"I266*N249","v":0}]
[null,null,"oneven week",{"$f":"DIENSTVERBANDGEGEVENS!D77","v":0},{"$f":"DIENSTVERBANDGEGEVENS!E77","v":0},{"$f":"DIENSTVERBANDGEGEVENS!F77","v":0},{"$f":"DIENSTVERBANDGEGEVENS!G77","v":0},{"$f":"DIENSTVERBANDGEGEVENS!H77","v":0},{"$f":"DIENSTVERBANDGEGEVENS!I77","v":0},null,{"$f":"SUM(D266:I266,D268:I268)/2","v":0}]
[null,"totaal oneven",null,{"$f":"D268*E249","v":0},{"$f":"E268*G249","v":0},{"$f":"F268*I249","v":0},{"$f":"G268*K249","v":0},{"$f":"H268*M249","v":0},{"$f":"I268*O249","v":0}]
[null,"(F) werkbare uren (gecorrigeerd voor feestdagen en overige niet-werkbare dagen)",null,null,null,null,null,null,null,null,{"$f":"IF(AND(D213>0,F213>0,$N$4),SUM(D267:I267,D269:I269),0)","v":0}]
[]
[null,"(G) Bruto CAO verlofuren in periode 4   ( A * verlofsaldo * Z )",null,null,null,null,null,null,null,null,{"$f":"(SUM(K257*IF(K259=0,0,IF(K259=D251,D252,IF(K259=E251,E252,IF(K259=F251,F252,\"\")))))*K255)","v":0}]
[]
[null,"(H) Werkbare uren gecorrigeerd voor bruto verlofuren  ( F - G )",null,null,null,null,null,null,null,null,{"$f":"IF(K263=0,0,K270-K272)","v":0}]
[]
[null,"(I) teveel (+) / te weinig (-) gewerkte uren  ( H - C )",null,null,null,null,null,null,null,null,{"$f":"K274-K261","v":0}]
[]
[null,"(J) Opgebouwde netto CAO verlofuren  ( G + I )",null,null,null,null,null,null,null,null,{"$f":"K272+K276","v":0}]
[]
[]
[]
[null,null,null,{"$f":"IF(D284,\"datum !\",IF(OR(D283=0,YEAR(D283)=$N$3),\"\",\"datum !\"))","v":""},null,{"$f":"IF(AND(D283>0,F283>0,F283<D283),\"datum !\",IF(OR(F284, AND(F283>0,YEAR(F283)<>$N$3)),\"datum !\",\"\"))","v":""},null,"p1","p2","p3","p4",null,null,null,null,null," PERIODE 5"]
[null," PERIODE 5","van",{"$f":"IF(ISNUMBER(DIENSTVERBANDGEGEVENS!D83),DIENSTVERBANDGEGEVENS!D83,0)","v":"1904-01-01"},"t/m",{"$f":"IF(ISNUMBER(DIENSTVERBANDGEGEVENS!F83),DIENSTVERBANDGEGEVENS!F83,0)","v":"1904-01-01"},{"$f":"IF(AND(H283:K283),\"\",\"  periode-overlapping\")","v":""},{"$f":"OR( D283=0,F283=0,D3=0,F3=0, AND($D$283>D3,$D$283>F3),AND($D$283<D3,$F$283<D3))","v":true},{"$f":"OR( D283=0,F283=0,D73=0,F73=0, AND($D$283>D73,$D$283>F73),AND($D$283<D73,$F$283<D73))","v":true},{"$f":"OR( D283=0,F283=0,D143=0,F143=0, AND($D$283>D143,$D$283>F143),AND($D$283<D143,$F$283<D143))","v":true},{"$f":"OR( D283=0,F283=0,D213=0,F213=0, AND($D$283>D213,$D$283>F213),AND($D$283<D213,$F$283<D213))","v":true}]
[null,null,"tekst in datumcel",{"$f":"TYPE(DIENSTVERBANDGEGEVENS!D83)=2","v":false},null,{"$f":"TYPE(DIENSTVERBANDGEGEVENS!F83)=2","v":false}]
[]
[null,null,null,"ma even","ma oneven","di even","di oneven","wo even","wo oneven","do even","do oneven","vr even","vr oneven","za even","za oneven","zo even","zo oneven"]
[null,null,{"$f":"D283","v":"1904-01-01"},{"$f":"IF( AND( WEEKDAY($C287,2)=1,YEAR($C287)=$N$3, evenWeek($C287), $C287<=$F$283), (($F$283 + 1) - $C287 ) / 14, 0)","v":0},{"$f":"IF( AND( WEEKDAY($C287,2)=1,YEAR($C287)=$N$3, NOT(evenWeek($C287)), $C287<= $F$283), (($F$283 + 1) - $C287 ) /14, 0)","v":0},{"$f":"IF( AND( WEEKDAY($C287,2)=2,YEAR($C287)=$N$3, evenWeek($C287), $C287<=$F$283), (($F$283 + 1) - $C287 ) / 14, 0)","v":0},{"$f":"IF( AND( WEEKDAY($C287,2)=2,YEAR($C287)=$N$3, NOT(evenWeek($C287)), $C287<= $F$283), (($F$283 + 1) - $C287 ) /14, 0)","v":0},{"$f":"IF( AND( WEEKDAY($C287,2)=3,YEAR($C287)=$N$3, evenWeek($C287), $C287<=$F$283), (($F$283 + 1) - $C287 ) / 14, 0)","v":0},{"$f":"IF( AND( WEEKDAY($C287,2)=3,YEAR($C287)=$N$3, NOT(evenWeek($C287)), $C287<= $F$283), (($F$283 + 1) - $C287 ) /14, 0)","v":0},{"$f":"IF( AND( WEEKDAY($C287,2)=4,YEAR($C287)=$N$3, evenWeek($C287), $C287<=$F$283), (($F$283 + 1) - $C287 ) / 14, 0)","v":0},{"$f":"IF( AND( WEEKDAY($C287,2)=4,YEAR($C287)=$N$3, NOT(evenWeek($C287)), $C287<= $F$283), (($F$283 + 1) - $C287 ) /14, 0)","v":0},{"$f":"IF( AND( WEEKDAY($C287,2)=5,YEAR($C287)=$N$3, evenWeek($C287), $C287<=$F$283), (($F$283 + 1) - $C287 ) / 14, 0)","v":0},{"$f":"IF( AND( WEEKDAY($C287,2)=5,YEAR($C287)=$N$3, NOT(evenWeek($C287)), $C287<= $F$283), (($F$283 + 1) - $C287 ) /14, 0)","v":0},{"$f":"IF( AND( WEEKDAY($C287,2)=6,YEAR($C287)=$N$3, evenWeek($C287), $C287<=$F$283), (($F$283 + 1) - $C287 ) / 14, 0)","v":0},{"$f":"IF( AND( WEEKDAY($C287,2)=6,YEAR($C287)=$N$3, NOT(evenWeek($C287)), $C287<= $F$283), (($F$283 + 1) - $C287 ) /14, 0)","v":0},{"$f":"IF( AND( WEEKDAY($C287,2)=7,YEAR($C287)=$N$3, evenWeek($C287), $C287<=$F$283), (($F$283 + 1) - $C287 ) / 14, 0)","v":0},{"$f":"IF( AND( WEEKDAY($C287,2)=7,YEAR($C287)=$N$3, NOT(evenWeek($C287)), $C287<= $F$283), (($F$283 + 1) - $C287 ) /14, 0)","v":0}]
[null,null,{"$f":"C287+1","v":"1904-01-02"},{"$f":"IF( AND( WEEKDAY($C288,2)=1,YEAR($C288)=$N$3, evenWeek($C288), $C288<=$F$283), (($F$283 + 1) - $C288 ) / 14, 0)","v":0},{"$f":"IF( AND( WEEKDAY($C288,2)=1,YEAR($C288)=$N$3, NOT(evenWeek($C288)), $C288<= $F$283), (($F$283 + 1) - $C288 ) /14, 0)","v":0},{"$f":"IF( AND( WEEKDAY($C288,2)=2,YEAR($C288)=$N$3, evenWeek($C288), $C288<=$F$283), (($F$283 + 1) - $C288 ) / 14, 0)","v":0},{"$f":"IF( AND( WEEKDAY($C288,2)=2,YEAR($C288)=$N$3, NOT(evenWeek($C288)), $C288<= $F$283), (($F$283 + 1) - $C288 ) /14, 0)","v":0},{"$f":"IF( AND( WEEKDAY($C288,2)=3,YEAR($C288)=$N$3, evenWeek($C288), $C288<=$F$283), (($F$283 + 1) - $C288 ) / 14, 0)","v":0},{"$f":"IF( AND( WEEKDAY($C288,2)=3,YEAR($C288)=$N$3, NOT(evenWeek($C288)), $C288<= $F$283), (($F$283 + 1) - $C288 ) /14, 0)","v":0},{"$f":"IF( AND( WEEKDAY($C288,2)=4,YEAR($C288)=$N$3, evenWeek($C288), $C288<=$F$283), (($F$283 + 1) - $C288 ) / 14, 0)","v":0},{"$f":"IF( AND( WEEKDAY($C288,2)=4,YEAR($C288)=$N$3, NOT(evenWeek($C288)), $C288<= $F$283), (($F$283 + 1) - $C288 ) /14, 0)","v":0},{"$f":"IF( AND( WEEKDAY($C288,2)=5,YEAR($C288)=$N$3, evenWeek($C288), $C288<=$F$283), (($F$283 + 1) - $C288 ) / 14, 0)","v":0},{"$f":"IF( AND( WEEKDAY($C288,2)=5,YEAR($C288)=$N$3, NOT(evenWeek($C288)), $C288<= $F$283), (($F$283 + 1) - $C288 ) /14, 0)","v":0},{"$f":"IF( AND( WEEKDAY($C288,2)=6,YEAR($C288)=$N$3, evenWeek($C288), $C288<=$F$283), (($F$283 + 1) - $C288 ) / 14, 0)","v":0},{"$f":"IF( AND( WEEKDAY($C288,2)=6,YEAR($C288)=$N$3, NOT(evenWeek($C288)), $C288<= $F$283), (($F$283 + 1) - $C288 ) /14, 0)","v":0},{"$f":"IF( AND( WEEKDAY($C288,2)=7,YEAR($C288)=$N$3, evenWeek($C288), $C288<=$F$283), (($F$283 + 1) - $C288 ) / 14, 0)","v":0},{"$f":"IF( AND( WEEKDAY($C288,2)=7,YEAR($C288)=$N$3, NOT(evenWeek($C288)), $C288<= $F$283), (($F$283 + 1) - $C288 ) /14, 0)","v":0}]
[null,null,{"$f":"C288+1","v":"1904-01-03"},{"$f":"IF( AND( WEEKDAY($C289,2)=1,YEAR($C289)=$N$3, evenWeek($C289), $C289<=$F$283), (($F$283 + 1) - $C289 ) / 14, 0)","v":0},{"$f":"IF( AND( WEEKDAY($C289,2)=1,YEAR($C289)=$N$3, NOT(evenWeek($C289)), $C289<= $F$283), (($F$283 + 1) - $C289 ) /14, 0)","v":0},{"$f":"IF( AND( WEEKDAY($C289,2)=2,YEAR($C289)=$N$3, evenWeek($C289), $C289<=$F$283), (($F$283 + 1) - $C289 ) / 14, 0)","v":0},{"$f":"IF( AND( WEEKDAY($C289,2)=2,YEAR($C289)=$N$3, NOT(evenWeek($C289)), $C289<= $F$283), (($F$283 + 1) - $C289 ) /14, 0)","v":0},{"$f":"IF( AND( WEEKDAY($C289,2)=3,YEAR($C289)=$N$3, evenWeek($C289), $C289<=$F$283), (($F$283 + 1) - $C289 ) / 14, 0)","v":0},{"$f":"IF( AND( WEEKDAY($C289,2)=3,YEAR($C289)=$N$3, NOT(evenWeek($C289)), $C289<= $F$283), (($F$283 + 1) - $C289 ) /14, 0)","v":0},{"$f":"IF( AND( WEEKDAY($C289,2)=4,YEAR($C289)=$N$3, evenWeek($C289), $C289<=$F$283), (($F$283 + 1) - $C289 ) / 14, 0)","v":0},{"$f":"IF( AND( WEEKDAY($C289,2)=4,YEAR($C289)=$N$3, NOT(evenWeek($C289)), $C289<= $F$283), (($F$283 + 1) - $C289 ) /14, 0)","v":0},{"$f":"IF( AND( WEEKDAY($C289,2)=5,YEAR($C289)=$N$3, evenWeek($C289), $C289<=$F$283), (($F$283 + 1) - $C289 ) / 14, 0)","v":0},{"$f":"IF( AND( WEEKDAY($C289,2)=5,YEAR($C289)=$N$3, NOT(evenWeek($C289)), $C289<= $F$283), (($F$283 + 1) - $C289 ) /14, 0)","v":0},{"$f":"IF( AND( WEEKDAY($C289,2)=6,YEAR($C289)=$N$3, evenWeek($C289), $C289<=$F$283), (($F$283 + 1) - $C289 ) / 14, 0)","v":0},{"$f":"IF( AND( WEEKDAY($C289,2)=6,YEAR($C289)=$N$3, NOT(evenWeek($C289)), $C289<= $F$283), (($F$283 + 1) - $C289 ) /14, 0)","v":0},{"$f":"IF( AND( WEEKDAY($C289,2)=7,YEAR($C289)=$N$3, evenWeek($C289), $C289<=$F$283), (($F$283 + 1) - $C289 ) / 14, 0)","v":0},{"$f":"IF( AND( WEEKDAY($C289,2)=7,YEAR($C289)=$N$3, NOT(evenWeek($C289)), $C289<= $F$283), (($F$283 + 1) - $C289 ) /14, 0)","v":0}]
[null,null,"1904-01-04",{"$f":"IF( AND( WEEKDAY($C290,2)=1,YEAR($C290)=$N$3, evenWeek($C290), $C290<=$F$283), (($F$283 + 1) - $C290 ) / 14, 0)","v":0},{"$f":"IF( AND( WEEKDAY($C290,2)=1,YEAR($C290)=$N$3, NOT(evenWeek($C290)), $C290<= $F$283), (($F$283 + 1) - $C290 ) /14, 0)","v":0},{"$f":"IF( AND( WEEKDAY($C290,2)=2,YEAR($C290)=$N$3, evenWeek($C290), $C290<=$F$283), (($F$283 + 1) - $C290 ) / 14, 0)","v":0},{"$f":"IF( AND( WEEKDAY($C290,2)=2,YEAR($C290)=$N$3, NOT(evenWeek($C290)), $C290<= $F$283), (($F$283 + 1) - $C290 ) /14, 0)","v":0},{"$f":"IF( AND( WEEKDAY($C290,2)=3,YEAR($C290)=$N$3, evenWeek($C290), $C290<=$F$283), (($F$283 + 1) - $C290 ) / 14, 0)","v":0},{"$f":"IF( AND( WEEKDAY($C290,2)=3,YEAR($C290)=$N$3, NOT(evenWeek($C290)), $C290<= $F$283), (($F$283 + 1) - $C290 ) /14, 0)","v":0},{"$f":"IF( AND( WEEKDAY($C290,2)=4,YEAR($C290)=$N$3, evenWeek($C290), $C290<=$F$283), (($F$283 + 1) - $C290 ) / 14, 0)","v":0},{"$f":"IF( AND( WEEKDAY($C290,2)=4,YEAR($C290)=$N$3, NOT(evenWeek($C290)), $C290<= $F$283), (($F$283 + 1) - $C290 ) /14, 0)","v":0},{"$f":"IF( AND( WEEKDAY($C290,2)=5,YEAR($C290)=$N$3, evenWeek($C290), $C290<=$F$283), (($F$283 + 1) - $C290 ) / 14, 0)","v":0},{"$f":"IF( AND( WEEKDAY($C290,2)=5,YEAR($C290)=$N$3, NOT(evenWeek($C290)), $C290<= $F$283), (($F$283 + 1) - $C290 ) /14, 0)","v":0},{"$f":"IF( AND( WEEKDAY($C290,2)=6,YEAR($C290)=$N$3, evenWeek($C290), $C290<=$F$283), (($F$283 + 1) - $C290 ) / 14, 0)","v":0},{"$f":"IF( AND( WEEKDAY($C290,2)=6,YEAR($C290)=$N$3, NOT(evenWeek($C290)), $C290<= $F$283), (($F$283 + 1) - $C290 ) /14, 0)","v":0},{"$f":"IF( AND( WEEKDAY($C290,2)=7,YEAR($C290)=$N$3, evenWeek($C290), $C290<=$F$283), (($F$283 + 1) - $C290 ) / 14, 0)","v":0},{"$f":"IF( AND( WEEKDAY($C290,2)=7,YEAR($C290)=$N$3, NOT(evenWeek($C290)), $C290<= $F$283), (($F$283 + 1) - $C290 ) /14, 0)","v":0}]
[null,null,"1904-01-05",{"$f":"IF( AND( WEEKDAY($C291,2)=1,YEAR($C291)=$N$3, evenWeek($C291), $C291<=$F$283), (($F$283 + 1) - $C291 ) / 14, 0)","v":0},{"$f":"IF( AND( WEEKDAY($C291,2)=1,YEAR($C291)=$N$3, NOT(evenWeek($C291)), $C291<= $F$283), (($F$283 + 1) - $C291 ) /14, 0)","v":0},{"$f":"IF( AND( WEEKDAY($C291,2)=2,YEAR($C291)=$N$3, evenWeek($C291), $C291<=$F$283), (($F$283 + 1) - $C291 ) / 14, 0)","v":0},{"$f":"IF( AND( WEEKDAY($C291,2)=2,YEAR($C291)=$N$3, NOT(evenWeek($C291)), $C291<= $F$283), (($F$283 + 1) - $C291 ) /14, 0)","v":0},{"$f":"IF( AND( WEEKDAY($C291,2)=3,YEAR($C291)=$N$3, evenWeek($C291), $C291<=$F$283), (($F$283 + 1) - $C291 ) / 14, 0)","v":0},{"$f":"IF( AND( WEEKDAY($C291,2)=3,YEAR($C291)=$N$3, NOT(evenWeek($C291)), $C291<= $F$283), (($F$283 + 1) - $C291 ) /14, 0)","v":0},{"$f":"IF( AND( WEEKDAY($C291,2)=4,YEAR($C291)=$N$3, evenWeek($C291), $C291<=$F$283), (($F$283 + 1) - $C291 ) / 14, 0)","v":0},{"$f":"IF( AND( WEEKDAY($C291,2)=4,YEAR($C291)=$N$3, NOT(evenWeek($C291)), $C291<= $F$283), (($F$283 + 1) - $C291 ) /14, 0)","v":0},{"$f":"IF( AND( WEEKDAY($C291,2)=5,YEAR($C291)=$N$3, evenWeek($C291), $C291<=$F$283), (($F$283 + 1) - $C291 ) / 14, 0)","v":0},{"$f":"IF( AND( WEEKDAY($C291,2)=5,YEAR($C291)=$N$3, NOT(evenWeek($C291)), $C291<= $F$283), (($F$283 + 1) - $C291 ) /14, 0)","v":0},{"$f":"IF( AND( WEEKDAY($C291,2)=6,YEAR($C291)=$N$3, evenWeek($C291), $C291<=$F$283), (($F$283 + 1) - $C291 ) / 14, 0)","v":0},{"$f":"IF( AND( WEEKDAY($C291,2)=6,YEAR($C291)=$N$3, NOT(evenWeek($C291)), $C291<= $F$283), (($F$283 + 1) - $C291 ) /14, 0)","v":0},{"$f":"IF( AND( WEEKDAY($C291,2)=7,YEAR($C291)=$N$3, evenWeek($C291), $C291<=$F$283), (($F$283 + 1) - $C291 ) / 14, 0)","v":0},{"$f":"IF( AND( WEEKDAY($C291,2)=7,YEAR($C291)=$N$3, NOT(evenWeek($C291)), $C291<= $F$283), (($F$283 + 1) - $C291 ) /14, 0)","v":0}]
[null,null,"1904-01-06",{"$f":"IF( AND( WEEKDAY($C292,2)=1,YEAR($C292)=$N$3, evenWeek($C292), $C292<=$F$283), (($F$283 + 1) - $C292 ) / 14, 0)","v":0},{"$f":"IF( AND( WEEKDAY($C292,2)=1,YEAR($C292)=$N$3, NOT(evenWeek($C292)), $C292<= $F$283), (($F$283 + 1) - $C292 ) /14, 0)","v":0},{"$f":"IF( AND( WEEKDAY($C292,2)=2,YEAR($C292)=$N$3, evenWeek($C292), $C292<=$F$283), (($F$283 + 1) - $C292 ) / 14, 0)","v":0},{"$f":"IF( AND( WEEKDAY($C292,2)=2,YEAR($C292)=$N$3, NOT(evenWeek($C292)), $C292<= $F$283), (($F$283 + 1) - $C292 ) /14, 0)","v":0},{"$f":"IF( AND( WEEKDAY($C292,2)=3,YEAR($C292)=$N$3, evenWeek($C292), $C292<=$F$283), (($F$283 + 1) - $C292 ) / 14, 0)","v":0},{"$f":"IF( AND( WEEKDAY($C292,2)=3,YEAR($C292)=$N$3, NOT(evenWeek($C292)), $C292<= $F$283), (($F$283 + 1) - $C292 ) /14, 0)","v":0},{"$f":"IF( AND( WEEKDAY($C292,2)=4,YEAR($C292)=$N$3, evenWeek($C292), $C292<=$F$283), (($F$283 + 1) - $C292 ) / 14, 0)","v":0},{"$f":"IF( AND( WEEKDAY($C292,2)=4,YEAR($C292)=$N$3, NOT(evenWeek($C292)), $C292<= $F$283), (($F$283 + 1) - $C292 ) /14, 0)","v":0},{"$f":"IF( AND( WEEKDAY($C292,2)=5,YEAR($C292)=$N$3, evenWeek($C292), $C292<=$F$283), (($F$283 + 1) - $C292 ) / 14, 0)","v":0},{"$f":"IF( AND( WEEKDAY($C292,2)=5,YEAR($C292)=$N$3, NOT(evenWeek($C292)), $C292<= $F$283), (($F$283 + 1) - $C292 ) /14, 0)","v":0},{"$f":"IF( AND( WEEKDAY($C292,2)=6,YEAR($C292)=$N$3, evenWeek($C292), $C292<=$F$283), (($F$283 + 1) - $C292 ) / 14, 0)","v":0},{"$f":"IF( AND( WEEKDAY($C292,2)=6,YEAR($C292)=$N$3, NOT(evenWeek($C292)), $C292<= $F$283), (($F$283 + 1) - $C292 ) /14, 0)","v":0},{"$f":"IF( AND( WEEKDAY($C292,2)=7,YEAR($C292)=$N$3, evenWeek($C292), $C292<=$F$283), (($F$283 + 1) - $C292 ) / 14, 0)","v":0},{"$f":"IF( AND( WEEKDAY($C292,2)=7,YEAR($C292)=$N$3, NOT(evenWeek($C292)), $C292<= $F$283), (($F$283 + 1) - $C292 ) /14, 0)","v":0}]
[null,null,"1904-01-07",{"$f":"IF( AND( WEEKDAY($C293,2)=1,YEAR($C293)=$N$3, evenWeek($C293), $C293<=$F$283), (($F$283 + 1) - $C293 ) / 14, 0)","v":0},{"$f":"IF( AND( WEEKDAY($C293,2)=1,YEAR($C293)=$N$3, NOT(evenWeek($C293)), $C293<= $F$283), (($F$283 + 1) - $C293 ) /14, 0)","v":0},{"$f":"IF( AND( WEEKDAY($C293,2)=2,YEAR($C293)=$N$3, evenWeek($C293), $C293<=$F$283), (($F$283 + 1) - $C293 ) / 14, 0)","v":0},{"$f":"IF( AND( WEEKDAY($C293,2)=2,YEAR($C293)=$N$3, NOT(evenWeek($C293)), $C293<= $F$283), (($F$283 + 1) - $C293 ) /14, 0)","v":0},{"$f":"IF( AND( WEEKDAY($C293,2)=3,YEAR($C293)=$N$3, evenWeek($C293), $C293<=$F$283), (($F$283 + 1) - $C293 ) / 14, 0)","v":0},{"$f":"IF( AND( WEEKDAY($C293,2)=3,YEAR($C293)=$N$3, NOT(evenWeek($C293)), $C293<= $F$283), (($F$283 + 1) - $C293 ) /14, 0)","v":0},{"$f":"IF( AND( WEEKDAY($C293,2)=4,YEAR($C293)=$N$3, evenWeek($C293), $C293<=$F$283), (($F$283 + 1) - $C293 ) / 14, 0)","v":0},{"$f":"IF( AND( WEEKDAY($C293,2)=4,YEAR($C293)=$N$3, NOT(evenWeek($C293)), $C293<= $F$283), (($F$283 + 1) - $C293 ) /14, 0)","v":0},{"$f":"IF( AND( WEEKDAY($C293,2)=5,YEAR($C293)=$N$3, evenWeek($C293), $C293<=$F$283), (($F$283 + 1) - $C293 ) / 14, 0)","v":0},{"$f":"IF( AND( WEEKDAY($C293,2)=5,YEAR($C293)=$N$3, NOT(evenWeek($C293)), $C293<= $F$283), (($F$283 + 1) - $C293 ) /14, 0)","v":0},{"$f":"IF( AND( WEEKDAY($C293,2)=6,YEAR($C293)=$N$3, evenWeek($C293), $C293<=$F$283), (($F$283 + 1) - $C293 ) / 14, 0)","v":0},{"$f":"IF( AND( WEEKDAY($C293,2)=6,YEAR($C293)=$N$3, NOT(evenWeek($C293)), $C293<= $F$283), (($F$283 + 1) - $C293 ) /14, 0)","v":0},{"$f":"IF( AND( WEEKDAY($C293,2)=7,YEAR($C293)=$N$3, evenWeek($C293), $C293<=$F$283), (($F$283 + 1) - $C293 ) / 14, 0)","v":0},{"$f":"IF( AND( WEEKDAY($C293,2)=7,YEAR($C293)=$N$3, NOT(evenWeek($C293)), $C293<= $F$283), (($F$283 + 1) - $C293 ) /14, 0)","v":0}]
[null,null,"1904-01-08",{"$f":"IF( AND( WEEKDAY($C294,2)=1,YEAR($C294)=$N$3, evenWeek($C294), $C294<=$F$283), (($F$283 + 1) - $C294 ) / 14, 0)","v":0},{"$f":"IF( AND( WEEKDAY($C294,2)=1,YEAR($C294)=$N$3, NOT(evenWeek($C294)), $C294<= $F$283), (($F$283 + 1) - $C294 ) /14, 0)","v":0},{"$f":"IF( AND( WEEKDAY($C294,2)=2,YEAR($C294)=$N$3, evenWeek($C294), $C294<=$F$283), (($F$283 + 1) - $C294 ) / 14, 0)","v":0},{"$f":"IF( AND( WEEKDAY($C294,2)=2,YEAR($C294)=$N$3, NOT(evenWeek($C294)), $C294<= $F$283), (($F$283 + 1) - $C294 ) /14, 0)","v":0},{"$f":"IF( AND( WEEKDAY($C294,2)=3,YEAR($C294)=$N$3, evenWeek($C294), $C294<=$F$283), (($F$283 + 1) - $C294 ) / 14, 0)","v":0},{"$f":"IF( AND( WEEKDAY($C294,2)=3,YEAR($C294)=$N$3, NOT(evenWeek($C294)), $C294<= $F$283), (($F$283 + 1) - $C294 ) /14, 0)","v":0},{"$f":"IF( AND( WEEKDAY($C294,2)=4,YEAR($C294)=$N$3, evenWeek($C294), $C294<=$F$283), (($F$283 + 1) - $C294 ) / 14, 0)","v":0},{"$f":"IF( AND( WEEKDAY($C294,2)=4,YEAR($C294)=$N$3, NOT(evenWeek($C294)), $C294<= $F$283), (($F$283 + 1) - $C294 ) /14, 0)","v":0},{"$f":"IF( AND( WEEKDAY($C294,2)=5,YEAR($C294)=$N$3, evenWeek($C294), $C294<=$F$283), (($F$283 + 1) - $C294 ) / 14, 0)","v":0},{"$f":"IF( AND( WEEKDAY($C294,2)=5,YEAR($C294)=$N$3, NOT(evenWeek($C294)), $C294<= $F$283), (($F$283 + 1) - $C294 ) /14, 0)","v":0},{"$f":"IF( AND( WEEKDAY($C294,2)=6,YEAR($C294)=$N$3, evenWeek($C294), $C294<=$F$283), (($F$283 + 1) - $C294 ) / 14, 0)","v":0},{"$f":"IF( AND( WEEKDAY($C294,2)=6,YEAR($C294)=$N$3, NOT(evenWeek($C294)), $C294<= $F$283), (($F$283 + 1) - $C294 ) /14, 0)","v":0},{"$f":"IF( AND( WEEKDAY($C294,2)=7,YEAR($C294)=$N$3, evenWeek($C294), $C294<=$F$283), (($F$283 + 1) - $C294 ) / 14, 0)","v":0},{"$f":"IF( AND( WEEKDAY($C294,2)=7,YEAR($C294)=$N$3, NOT(evenWeek($C294)), $C294<= $F$283), (($F$283 + 1) - $C294 ) /14, 0)","v":0}]
[null,null,"1904-01-09",{"$f":"IF( AND( WEEKDAY($C295,2)=1,YEAR($C295)=$N$3, evenWeek($C295), $C295<=$F$283), (($F$283 + 1) - $C295 ) / 14, 0)","v":0},{"$f":"IF( AND( WEEKDAY($C295,2)=1,YEAR($C295)=$N$3, NOT(evenWeek($C295)), $C295<= $F$283), (($F$283 + 1) - $C295 ) /14, 0)","v":0},{"$f":"IF( AND( WEEKDAY($C295,2)=2,YEAR($C295)=$N$3, evenWeek($C295), $C295<=$F$283), (($F$283 + 1) - $C295 ) / 14, 0)","v":0},{"$f":"IF( AND( WEEKDAY($C295,2)=2,YEAR($C295)=$N$3, NOT(evenWeek($C295)), $C295<= $F$283), (($F$283 + 1) - $C295 ) /14, 0)","v":0},{"$f":"IF( AND( WEEKDAY($C295,2)=3,YEAR($C295)=$N$3, evenWeek($C295), $C295<=$F$283), (($F$283 + 1) - $C295 ) / 14, 0)","v":0},{"$f":"IF( AND( WEEKDAY($C295,2)=3,YEAR($C295)=$N$3, NOT(evenWeek($C295)), $C295<= $F$283), (($F$283 + 1) - $C295 ) /14, 0)","v":0},{"$f":"IF( AND( WEEKDAY($C295,2)=4,YEAR($C295)=$N$3, evenWeek($C295), $C295<=$F$283), (($F$283 + 1) - $C295 ) / 14, 0)","v":0},{"$f":"IF( AND( WEEKDAY($C295,2)=4,YEAR($C295)=$N$3, NOT(evenWeek($C295)), $C295<= $F$283), (($F$283 + 1) - $C295 ) /14, 0)","v":0},{"$f":"IF( AND( WEEKDAY($C295,2)=5,YEAR($C295)=$N$3, evenWeek($C295), $C295<=$F$283), (($F$283 + 1) - $C295 ) / 14, 0)","v":0},{"$f":"IF( AND( WEEKDAY($C295,2)=5,YEAR($C295)=$N$3, NOT(evenWeek($C295)), $C295<= $F$283), (($F$283 + 1) - $C295 ) /14, 0)","v":0},{"$f":"IF( AND( WEEKDAY($C295,2)=6,YEAR($C295)=$N$3, evenWeek($C295), $C295<=$F$283), (($F$283 + 1) - $C295 ) / 14, 0)","v":0},{"$f":"IF( AND( WEEKDAY($C295,2)=6,YEAR($C295)=$N$3, NOT(evenWeek($C295)), $C295<= $F$283), (($F$283 + 1) - $C295 ) /14, 0)","v":0},{"$f":"IF( AND( WEEKDAY($C295,2)=7,YEAR($C295)=$N$3, evenWeek($C295), $C295<=$F$283), (($F$283 + 1) - $C295 ) / 14, 0)","v":0},{"$f":"IF( AND( WEEKDAY($C295,2)=7,YEAR($C295)=$N$3, NOT(evenWeek($C295)), $C295<= $F$283), (($F$283 + 1) - $C295 ) /14, 0)","v":0}]
[null,null,"1904-01-10",{"$f":"IF( AND( WEEKDAY($C296,2)=1,YEAR($C296)=$N$3, evenWeek($C296), $C296<=$F$283), (($F$283 + 1) - $C296 ) / 14, 0)","v":0},{"$f":"IF( AND( WEEKDAY($C296,2)=1,YEAR($C296)=$N$3, NOT(evenWeek($C296)), $C296<= $F$283), (($F$283 + 1) - $C296 ) /14, 0)","v":0},{"$f":"IF( AND( WEEKDAY($C296,2)=2,YEAR($C296)=$N$3, evenWeek($C296), $C296<=$F$283), (($F$283 + 1) - $C296 ) / 14, 0)","v":0},{"$f":"IF( AND( WEEKDAY($C296,2)=2,YEAR($C296)=$N$3, NOT(evenWeek($C296)), $C296<= $F$283), (($F$283 + 1) - $C296 ) /14, 0)","v":0},{"$f":"IF( AND( WEEKDAY($C296,2)=3,YEAR($C296)=$N$3, evenWeek($C296), $C296<=$F$283), (($F$283 + 1) - $C296 ) / 14, 0)","v":0},{"$f":"IF( AND( WEEKDAY($C296,2)=3,YEAR($C296)=$N$3, NOT(evenWeek($C296)), $C296<= $F$283), (($F$283 + 1) - $C296 ) /14, 0)","v":0},{"$f":"IF( AND( WEEKDAY($C296,2)=4,YEAR($C296)=$N$3, evenWeek($C296), $C296<=$F$283), (($F$283 + 1) - $C296 ) / 14, 0)","v":0},{"$f":"IF( AND( WEEKDAY($C296,2)=4,YEAR($C296)=$N$3, NOT(evenWeek($C296)), $C296<= $F$283), (($F$283 + 1) - $C296 ) /14, 0)","v":0},{"$f":"IF( AND( WEEKDAY($C296,2)=5,YEAR($C296)=$N$3, evenWeek($C296), $C296<=$F$283), (($F$283 + 1) - $C296 ) / 14, 0)","v":0},{"$f":"IF( AND( WEEKDAY($C296,2)=5,YEAR($C296)=$N$3, NOT(evenWeek($C296)), $C296<= $F$283), (($F$283 + 1) - $C296 ) /14, 0)","v":0},{"$f":"IF( AND( WEEKDAY($C296,2)=6,YEAR($C296)=$N$3, evenWeek($C296), $C296<=$F$283), (($F$283 + 1) - $C296 ) / 14, 0)","v":0},{"$f":"IF( AND( WEEKDAY($C296,2)=6,YEAR($C296)=$N$3, NOT(evenWeek($C296)), $C296<= $F$283), (($F$283 + 1) - $C296 ) /14, 0)","v":0},{"$f":"IF( AND( WEEKDAY($C296,2)=7,YEAR($C296)=$N$3, evenWeek($C296), $C296<=$F$283), (($F$283 + 1) - $C296 ) / 14, 0)","v":0},{"$f":"IF( AND( WEEKDAY($C296,2)=7,YEAR($C296)=$N$3, NOT(evenWeek($C296)), $C296<= $F$283), (($F$283 + 1) - $C296 ) /14, 0)","v":0}]
[null,null,"1904-01-11",{"$f":"IF( AND( WEEKDAY($C297,2)=1,YEAR($C297)=$N$3, evenWeek($C297), $C297<=$F$283), (($F$283 + 1) - $C297 ) / 14, 0)","v":0},{"$f":"IF( AND( WEEKDAY($C297,2)=1,YEAR($C297)=$N$3, NOT(evenWeek($C297)), $C297<= $F$283), (($F$283 + 1) - $C297 ) /14, 0)","v":0},{"$f":"IF( AND( WEEKDAY($C297,2)=2,YEAR($C297)=$N$3, evenWeek($C297), $C297<=$F$283), (($F$283 + 1) - $C297 ) / 14, 0)","v":0},{"$f":"IF( AND( WEEKDAY($C297,2)=2,YEAR($C297)=$N$3, NOT(evenWeek($C297)), $C297<= $F$283), (($F$283 + 1) - $C297 ) /14, 0)","v":0},{"$f":"IF( AND( WEEKDAY($C297,2)=3,YEAR($C297)=$N$3, evenWeek($C297), $C297<=$F$283), (($F$283 + 1) - $C297 ) / 14, 0)","v":0},{"$f":"IF( AND( WEEKDAY($C297,2)=3,YEAR($C297)=$N$3, NOT(evenWeek($C297)), $C297<= $F$283), (($F$283 + 1) - $C297 ) /14, 0)","v":0},{"$f":"IF( AND( WEEKDAY($C297,2)=4,YEAR($C297)=$N$3, evenWeek($C297), $C297<=$F$283), (($F$283 + 1) - $C297 ) / 14, 0)","v":0},{"$f":"IF( AND( WEEKDAY($C297,2)=4,YEAR($C297)=$N$3, NOT(evenWeek($C297)), $C297<= $F$283), (($F$283 + 1) - $C297 ) /14, 0)","v":0},{"$f":"IF( AND( WEEKDAY($C297,2)=5,YEAR($C297)=$N$3, evenWeek($C297), $C297<=$F$283), (($F$283 + 1) - $C297 ) / 14, 0)","v":0},{"$f":"IF( AND( WEEKDAY($C297,2)=5,YEAR($C297)=$N$3, NOT(evenWeek($C297)), $C297<= $F$283), (($F$283 + 1) - $C297 ) /14, 0)","v":0},{"$f":"IF( AND( WEEKDAY($C297,2)=6,YEAR($C297)=$N$3, evenWeek($C297), $C297<=$F$283), (($F$283 + 1) - $C297 ) / 14, 0)","v":0},{"$f":"IF( AND( WEEKDAY($C297,2)=6,YEAR($C297)=$N$3, NOT(evenWeek($C297)), $C297<= $F$283), (($F$283 + 1) - $C297 ) /14, 0)","v":0},{"$f":"IF( AND( WEEKDAY($C297,2)=7,YEAR($C297)=$N$3, evenWeek($C297), $C297<=$F$283), (($F$283 + 1) - $C297 ) / 14, 0)","v":0},{"$f":"IF( AND( WEEKDAY($C297,2)=7,YEAR($C297)=$N$3, NOT(evenWeek($C297)), $C297<= $F$283), (($F$283 + 1) - $C297 ) /14, 0)","v":0}]
[null,null,"1904-01-12",{"$f":"IF( AND( WEEKDAY($C298,2)=1,YEAR($C298)=$N$3, evenWeek($C298), $C298<=$F$283), (($F$283 + 1) - $C298 ) / 14, 0)","v":0},{"$f":"IF( AND( WEEKDAY($C298,2)=1,YEAR($C298)=$N$3, NOT(evenWeek($C298)), $C298<= $F$283), (($F$283 + 1) - $C298 ) /14, 0)","v":0},{"$f":"IF( AND( WEEKDAY($C298,2)=2,YEAR($C298)=$N$3, evenWeek($C298), $C298<=$F$283), (($F$283 + 1) - $C298 ) / 14, 0)","v":0},{"$f":"IF( AND( WEEKDAY($C298,2)=2,YEAR($C298)=$N$3, NOT(evenWeek($C298)), $C298<= $F$283), (($F$283 + 1) - $C298 ) /14, 0)","v":0},{"$f":"IF( AND( WEEKDAY($C298,2)=3,YEAR($C298)=$N$3, evenWeek($C298), $C298<=$F$283), (($F$283 + 1) - $C298 ) / 14, 0)","v":0},{"$f":"IF( AND( WEEKDAY($C298,2)=3,YEAR($C298)=$N$3, NOT(evenWeek($C298)), $C298<= $F$283), (($F$283 + 1) - $C298 ) /14, 0)","v":0},{"$f":"IF( AND( WEEKDAY($C298,2)=4,YEAR($C298)=$N$3, evenWeek($C298), $C298<=$F$283), (($F$283 + 1) - $C298 ) / 14, 0)","v":0},{"$f":"IF( AND( WEEKDAY($C298,2)=4,YEAR($C298)=$N$3, NOT(evenWeek($C298)), $C298<= $F$283), (($F$283 + 1) - $C298 ) /14, 0)","v":0},{"$f":"IF( AND( WEEKDAY($C298,2)=5,YEAR($C298)=$N$3, evenWeek($C298), $C298<=$F$283), (($F$283 + 1) - $C298 ) / 14, 0)","v":0},{"$f":"IF( AND( WEEKDAY($C298,2)=5,YEAR($C298)=$N$3, NOT(evenWeek($C298)), $C298<= $F$283), (($F$283 + 1) - $C298 ) /14, 0)","v":0},{"$f":"IF( AND( WEEKDAY($C298,2)=6,YEAR($C298)=$N$3, evenWeek($C298), $C298<=$F$283), (($F$283 + 1) - $C298 ) / 14, 0)","v":0},{"$f":"IF( AND( WEEKDAY($C298,2)=6,YEAR($C298)=$N$3, NOT(evenWeek($C298)), $C298<= $F$283), (($F$283 + 1) - $C298 ) /14, 0)","v":0},{"$f":"IF( AND( WEEKDAY($C298,2)=7,YEAR($C298)=$N$3, evenWeek($C298), $C298<=$F$283), (($F$283 + 1) - $C298 ) / 14, 0)","v":0},{"$f":"IF( AND( WEEKDAY($C298,2)=7,YEAR($C298)=$N$3, NOT(evenWeek($C298)), $C298<= $F$283), (($F$283 + 1) - $C298 ) /14, 0)","v":0}]
[null,null,"1904-01-13",{"$f":"IF( AND( WEEKDAY($C299,2)=1,YEAR($C299)=$N$3, evenWeek($C299), $C299<=$F$283), (($F$283 + 1) - $C299 ) / 14, 0)","v":0},{"$f":"IF( AND( WEEKDAY($C299,2)=1,YEAR($C299)=$N$3, NOT(evenWeek($C299)), $C299<= $F$283), (($F$283 + 1) - $C299 ) /14, 0)","v":0},{"$f":"IF( AND( WEEKDAY($C299,2)=2,YEAR($C299)=$N$3, evenWeek($C299), $C299<=$F$283), (($F$283 + 1) - $C299 ) / 14, 0)","v":0},{"$f":"IF( AND( WEEKDAY($C299,2)=2,YEAR($C299)=$N$3, NOT(evenWeek($C299)), $C299<= $F$283), (($F$283 + 1) - $C299 ) /14, 0)","v":0},{"$f":"IF( AND( WEEKDAY($C299,2)=3,YEAR($C299)=$N$3, evenWeek($C299), $C299<=$F$283), (($F$283 + 1) - $C299 ) / 14, 0)","v":0},{"$f":"IF( AND( WEEKDAY($C299,2)=3,YEAR($C299)=$N$3, NOT(evenWeek($C299)), $C299<= $F$283), (($F$283 + 1) - $C299 ) /14, 0)","v":0},{"$f":"IF( AND( WEEKDAY($C299,2)=4,YEAR($C299)=$N$3, evenWeek($C299), $C299<=$F$283), (($F$283 + 1) - $C299 ) / 14, 0)","v":0},{"$f":"IF( AND( WEEKDAY($C299,2)=4,YEAR($C299)=$N$3, NOT(evenWeek($C299)), $C299<= $F$283), (($F$283 + 1) - $C299 ) /14, 0)","v":0},{"$f":"IF( AND( WEEKDAY($C299,2)=5,YEAR($C299)=$N$3, evenWeek($C299), $C299<=$F$283), (($F$283 + 1) - $C299 ) / 14, 0)","v":0},{"$f":"IF( AND( WEEKDAY($C299,2)=5,YEAR($C299)=$N$3, NOT(evenWeek($C299)), $C299<= $F$283), (($F$283 + 1) - $C299 ) /14, 0)","v":0},{"$f":"IF( AND( WEEKDAY($C299,2)=6,YEAR($C299)=$N$3, evenWeek($C299), $C299<=$F$283), (($F$283 + 1) - $C299 ) / 14, 0)","v":0},{"$f":"IF( AND( WEEKDAY($C299,2)=6,YEAR($C299)=$N$3, NOT(evenWeek($C299)), $C299<= $F$283), (($F$283 + 1) - $C299 ) /14, 0)","v":0},{"$f":"IF( AND( WEEKDAY($C299,2)=7,YEAR($C299)=$N$3, evenWeek($C299), $C299<=$F$283), (($F$283 + 1) - $C299 ) / 14, 0)","v":0},{"$f":"IF( AND( WEEKDAY($C299,2)=7,YEAR($C299)=$N$3, NOT(evenWeek($C299)), $C299<= $F$283), (($F$283 + 1) - $C299 ) /14, 0)","v":0}]
[null,null,"1904-01-14",{"$f":"IF( AND( WEEKDAY($C300,2)=1,YEAR($C300)=$N$3, evenWeek($C300), $C300<=$F$283), (($F$283 + 1) - $C300 ) / 14, 0)","v":0},{"$f":"IF( AND( WEEKDAY($C300,2)=1,YEAR($C300)=$N$3, NOT(evenWeek($C300)), $C300<= $F$283), (($F$283 + 1) - $C300 ) /14, 0)","v":0},{"$f":"IF( AND( WEEKDAY($C300,2)=2, evenWeek($C300), $C300<=$F$283), (($F$283 + 1) - $C300 ) / 14, 0)","v":0},{"$f":"IF( AND( WEEKDAY($C300,2)=2,YEAR($C300)=$N$3, NOT(evenWeek($C300)), $C300<= $F$283), (($F$283 + 1) - $C300 ) /14, 0)","v":0},{"$f":"IF( AND( WEEKDAY($C300,2)=3,YEAR($C300)=$N$3, evenWeek($C300), $C300<=$F$283), (($F$283 + 1) - $C300 ) / 14, 0)","v":0},{"$f":"IF( AND( WEEKDAY($C300,2)=3,YEAR($C300)=$N$3, NOT(evenWeek($C300)), $C300<= $F$283), (($F$283 + 1) - $C300 ) /14, 0)","v":0},{"$f":"IF( AND( WEEKDAY($C300,2)=4,YEAR($C300)=$N$3, evenWeek($C300), $C300<=$F$283), (($F$283 + 1) - $C300 ) / 14, 0)","v":0},{"$f":"IF( AND( WEEKDAY($C300,2)=4,YEAR($C300)=$N$3, NOT(evenWeek($C300)), $C300<= $F$283), (($F$283 + 1) - $C300 ) /14, 0)","v":0},{"$f":"IF( AND( WEEKDAY($C300,2)=5,YEAR($C300)=$N$3, evenWeek($C300), $C300<=$F$283), (($F$283 + 1) - $C300 ) / 14, 0)","v":0},{"$f":"IF( AND( WEEKDAY($C300,2)=5,YEAR($C300)=$N$3, NOT(evenWeek($C300)), $C300<= $F$283), (($F$283 + 1) - $C300 ) /14, 0)","v":0},{"$f":"IF( AND( WEEKDAY($C300,2)=6,YEAR($C300)=$N$3, evenWeek($C300), $C300<=$F$283), (($F$283 + 1) - $C300 ) / 14, 0)","v":0},{"$f":"IF( AND( WEEKDAY($C300,2)=6,YEAR($C300)=$N$3, NOT(evenWeek($C300)), $C300<= $F$283), (($F$283 + 1) - $C300 ) /14, 0)","v":0},{"$f":"IF( AND( WEEKDAY($C300,2)=7,YEAR($C300)=$N$3, evenWeek($C300), $C300<=$F$283), (($F$283 + 1) - $C300 ) / 14, 0)","v":0},{"$f":"IF( AND( WEEKDAY($C300,2)=7,YEAR($C300)=$N$3, NOT(evenWeek($C300)), $C300<= $F$283), (($F$283 + 1) - $C300 ) /14, 0)","v":0}]
[null,null,"# dagen: ",{"$f":"ROUNDUP(SUM(D287:D300),0)","v":0},{"$f":"ROUNDUP(SUM(E287:E300),0)","v":0},0,0,0,0,0,0,0,0,{"$f":"ROUNDUP(SUM(N287:N300),0)","v":0},{"$f":"ROUNDUP(SUM(O287:O300),0)","v":0},{"$f":"ROUNDUP(SUM(P287:P300),0)","v":0},{"$f":"ROUNDUP(SUM(Q287:Q300),0)","v":0}]
[]
[]
[null,null,"NCF dagen","ma even","ma oneven","di even","di oneven","wo even","wo oneven","do even","do oneven","vr even","vr oneven","za even","za oneven","zo even","zo oneven","totaal"]
[null,{"$f":"B25","v":"Nieuwjaarsdag"},"2024-01-01",{"$f":"IF( AND($C305>($D$283-1),$C305<($F$283+1),WEEKDAY($C305,2)=1, evenWeek($C305) ),-1,\"\")","v":""},{"$f":"IF( AND($C305>($D$283-1),$C305<($F$283+1),WEEKDAY($C305,2)=1, NOT(evenWeek($C305)) ),-1,\"\")","v":""},{"$f":"IF( AND($C305>($D$283-1),$C305<($F$283+1),WEEKDAY($C305,2)=2, evenWeek($C305) ),-1,\"\")","v":""},{"$f":"IF( AND($C305>($D$283-1),$C305<($F$283+1),WEEKDAY($C305,2)=2, NOT(evenWeek($C305)) ),-1,\"\")","v":""},{"$f":"IF( AND($C305>($D$283-1),$C305<($F$283+1),WEEKDAY($C305,2)=3, evenWeek($C305) ),-1,\"\")","v":""},{"$f":"IF( AND($C305>($D$283-1),$C305<($F$283+1),WEEKDAY($C305,2)=3, NOT(evenWeek($C305)) ),-1,\"\")","v":""},{"$f":"IF( AND($C305>($D$283-1),$C305<($F$283+1),WEEKDAY($C305,2)=4, evenWeek($C305) ),-1,\"\")","v":""},{"$f":"IF( AND($C305>($D$283-1),$C305<($F$283+1),WEEKDAY($C305,2)=4, NOT(evenWeek($C305)) ),-1,\"\")","v":""},{"$f":"IF( AND($C305>($D$283-1),$C305<($F$283+1),WEEKDAY($C305,2)=5, evenWeek($C305) ),-1,\"\")","v":""},{"$f":"IF( AND($C305>($D$283-1),$C305<($F$283+1),WEEKDAY($C305,2)=5, NOT(evenWeek($C305)) ),-1,\"\")","v":""},{"$f":"IF( AND($C305>($D$283-1),$C305<($F$283+1),WEEKDAY($C305,2)=6, evenWeek($C305) ),-1,\"\")","v":""},{"$f":"IF( AND($C305>($D$283-1),$C305<($F$283+1),WEEKDAY($C305,2)=6, NOT(evenWeek($C305)) ),-1,\"\")","v":""},{"$f":"IF( AND($C305>($D$283-1),$C305<($F$283+1),WEEKDAY($C305,2)=7, evenWeek($C305) ),-1,\"\")","v":""},{"$f":"IF( AND($C305>($D$283-1),$C305<($F$283+1),WEEKDAY($C305,2)=7, NOT(evenWeek($C305)) ),-1,\"\")","v":""}]
[null,"Goede vrijdag","2024-03-29",null,null,null,null,null,null,null,null,{"$f":"IF( AND($C306>($D$283-1),$C306<($F$283+1), evenWeek($C306) ),-1,\"\")","v":""},{"$f":"IF( AND($C306>($D$283-1),$C306<($F$283+1), NOT(evenWeek($C306)) ),-1,\"\")","v":""}]
[null,"2e paasdag","2024-04-01",{"$f":"IF( AND($C307>($D$283-1),$C307<($F$283+1), evenWeek($C307) ),-1,\"\")","v":""},{"$f":"IF( AND($C307>($D$283-1),$C307<($F$283+1), NOT(evenWeek($C307)) ),-1,\"\")","v":""}]
[null,"Koningsdag","2024-04-27",{"$f":"IF( AND($C308>($D$283-1),$C308<($F$283+1),WEEKDAY($C308,2)=1, evenWeek($C308) ),-1,\"\")","v":""},{"$f":"IF( AND($C308>($D$283-1),$C308<($F$283+1),WEEKDAY($C308,2)=1, NOT(evenWeek($C308)) ),-1,\"\")","v":""},{"$f":"IF( AND($C308>($D$283-1),$C308<($F$283+1),WEEKDAY($C308,2)=2, evenWeek($C308) ),-1,\"\")","v":""},{"$f":"IF( AND($C308>($D$283-1),$C308<($F$283+1),WEEKDAY($C308,2)=2, NOT(evenWeek($C308)) ),-1,\"\")","v":""},{"$f":"IF( AND($C308>($D$283-1),$C308<($F$283+1),WEEKDAY($C308,2)=3, evenWeek($C308) ),-1,\"\")","v":""},{"$f":"IF( AND($C308>($D$283-1),$C308<($F$283+1),WEEKDAY($C308,2)=3, NOT(evenWeek($C308)) ),-1,\"\")","v":""},{"$f":"IF( AND($C308>($D$283-1),$C308<($F$283+1),WEEKDAY($C308,2)=4, evenWeek($C308) ),-1,\"\")","v":""},{"$f":"IF( AND($C308>($D$283-1),$C308<($F$283+1),WEEKDAY($C308,2)=4, NOT(evenWeek($C308)) ),-1,\"\")","v":""},{"$f":"IF( AND($C308>($D$283-1),$C308<($F$283+1),WEEKDAY($C308,2)=5, evenWeek($C308) ),-1,\"\")","v":""},{"$f":"IF( AND($C308>($D$283-1),$C308<($F$283+1),WEEKDAY($C308,2)=5, NOT(evenWeek($C308)) ),-1,\"\")","v":""},{"$f":"IF( AND($C308>($D$283-1),$C308<($F$283+1),WEEKDAY($C308,2)=6, evenWeek($C308) ),-1,\"\")","v":""},{"$f":"IF( AND($C308>($D$283-1),$C308<($F$283+1),WEEKDAY($C308,2)=6, NOT(evenWeek($C308)) ),-1,\"\")","v":""},{"$f":"IF( AND($C308>($D$283-1),$C308<($F$283+1),WEEKDAY($C308,2)=7, evenWeek($C308) ),-1,\"\")","v":""},{"$f":"IF( AND($C308>($D$283-1),$C308<($F$283+1),WEEKDAY($C308,2)=7, NOT(evenWeek($C308)) ),-1,\"\")","v":""}]
[null,"Bevrijdingsdag","2024-05-05",{"$f":"IF( AND($C309>($D$283-1),$C309<($F$283+1),WEEKDAY($C309,2)=1, evenWeek($C309) ),-1,\"\")","v":""},{"$f":"IF( AND($C309>($D$283-1),$C309<($F$283+1),WEEKDAY($C309,2)=1, NOT(evenWeek($C309)) ),-1,\"\")","v":""},{"$f":"IF( AND($C309>($D$283-1),$C309<($F$283+1),WEEKDAY($C309,2)=2, evenWeek($C309) ),-1,\"\")","v":""},{"$f":"IF( AND($C309>($D$283-1),$C309<($F$283+1),WEEKDAY($C309,2)=2, NOT(evenWeek($C309)) ),-1,\"\")","v":""},{"$f":"IF( AND($C309>($D$283-1),$C309<($F$283+1),WEEKDAY($C309,2)=3, evenWeek($C309) ),-1,\"\")","v":""},{"$f":"IF( AND($C309>($D$283-1),$C309<($F$283+1),WEEKDAY($C309,2)=3, NOT(evenWeek($C309)) ),-1,\"\")","v":""},{"$f":"IF( AND($C309>($D$283-1),$C309<($F$283+1),WEEKDAY($C309,2)=4, evenWeek($C309) ),-1,\"\")","v":""},{"$f":"IF( AND($C309>($D$283-1),$C309<($F$283+1),WEEKDAY($C309,2)=4, NOT(evenWeek($C309)) ),-1,\"\")","v":""},{"$f":"IF( AND($C309>($D$283-1),$C309<($F$283+1),WEEKDAY($C309,2)=5, evenWeek($C309) ),-1,\"\")","v":""},{"$f":"IF( AND($C309>($D$283-1),$C309<($F$283+1),WEEKDAY($C309,2)=5, NOT(evenWeek($C309)) ),-1,\"\")","v":""},{"$f":"IF( AND($C309>($D$283-1),$C309<($F$283+1),WEEKDAY($C309,2)=6, evenWeek($C309) ),-1,\"\")","v":""},{"$f":"IF( AND($C309>($D$283-1),$C309<($F$283+1),WEEKDAY($C309,2)=6, NOT(evenWeek($C309)) ),-1,\"\")","v":""},{"$f":"IF( AND($C309>($D$283-1),$C309<($F$283+1),WEEKDAY($C309,2)=7, evenWeek($C309) ),-1,\"\")","v":""},{"$f":"IF( AND($C309>($D$283-1),$C309<($F$283+1),WEEKDAY($C309,2)=7, NOT(evenWeek($C309)) ),-1,\"\")","v":""}]
[null,"Hemelvaart","2024-05-09",null,null,null,null,null,null,{"$f":"IF( AND($C310>($D$283-1),$C310<($F$283+1), evenWeek($C310) ),-1,\"\")","v":""},{"$f":"IF( AND($C310>($D$283-1),$C310<($F$283+1), NOT(evenWeek($C310)) ),-1,\"\")","v":""}]
[null,"2e Pinksterdag","2024-05-20",{"$f":"IF( AND($C311>($D$283-1),$C311<($F$283+1), evenWeek($C311) ),-1,\"\")","v":""},{"$f":"IF( AND($C311>($D$283-1),$C311<($F$283+1), NOT(evenWeek($C311)) ),-1,\"\")","v":""}]
[null,"1e Kerstdag","2024-12-25",{"$f":"IF( AND($C312>($D$283-1),$C312<($F$283+1),WEEKDAY($C312,2)=1, evenWeek($C312) ),-1,\"\")","v":""},{"$f":"IF( AND($C312>($D$283-1),$C312<($F$283+1),WEEKDAY($C312,2)=1, NOT(evenWeek($C312)) ),-1,\"\")","v":""},{"$f":"IF( AND($C312>($D$283-1),$C312<($F$283+1),WEEKDAY($C312,2)=2, evenWeek($C312) ),-1,\"\")","v":""},{"$f":"IF( AND($C312>($D$283-1),$C312<($F$283+1),WEEKDAY($C312,2)=2, NOT(evenWeek($C312)) ),-1,\"\")","v":""},{"$f":"IF( AND($C312>($D$283-1),$C312<($F$283+1),WEEKDAY($C312,2)=3, evenWeek($C312) ),-1,\"\")","v":""},{"$f":"IF( AND($C312>($D$283-1),$C312<($F$283+1),WEEKDAY($C312,2)=3, NOT(evenWeek($C312)) ),-1,\"\")","v":""},{"$f":"IF( AND($C312>($D$283-1),$C312<($F$283+1),WEEKDAY($C312,2)=4, evenWeek($C312) ),-1,\"\")","v":""},{"$f":"IF( AND($C312>($D$283-1),$C312<($F$283+1),WEEKDAY($C312,2)=4, NOT(evenWeek($C312)) ),-1,\"\")","v":""},{"$f":"IF( AND($C312>($D$283-1),$C312<($F$283+1),WEEKDAY($C312,2)=5, evenWeek($C312) ),-1,\"\")","v":""},{"$f":"IF( AND($C312>($D$283-1),$C312<($F$283+1),WEEKDAY($C312,2)=5, NOT(evenWeek($C312)) ),-1,\"\")","v":""},{"$f":"IF( AND($C312>($D$283-1),$C312<($F$283+1),WEEKDAY($C312,2)=6, evenWeek($C312) ),-1,\"\")","v":""},{"$f":"IF( AND($C312>($D$283-1),$C312<($F$283+1),WEEKDAY($C312,2)=6, NOT(evenWeek($C312)) ),-1,\"\")","v":""},{"$f":"IF( AND($C312>($D$283-1),$C312<($F$283+1),WEEKDAY($C312,2)=7, evenWeek($C312) ),-1,\"\")","v":""},{"$f":"IF( AND($C312>($D$283-1),$C312<($F$283+1),WEEKDAY($C312,2)=7, NOT(evenWeek($C312)) ),-1,\"\")","v":""}]
[null,"2e Kerstdag","2024-12-26",{"$f":"IF( AND($C313>($D$283-1),$C313<($F$283+1),WEEKDAY($C313,2)=1, evenWeek($C313) ),-1,\"\")","v":""},{"$f":"IF( AND($C313>($D$283-1),$C313<($F$283+1),WEEKDAY($C313,2)=1, NOT(evenWeek($C313)) ),-1,\"\")","v":""},{"$f":"IF( AND($C313>($D$283-1),$C313<($F$283+1),WEEKDAY($C313,2)=2, evenWeek($C313) ),-1,\"\")","v":""},{"$f":"IF( AND($C313>($D$283-1),$C313<($F$283+1),WEEKDAY($C313,2)=2, NOT(evenWeek($C313)) ),-1,\"\")","v":""},{"$f":"IF( AND($C313>($D$283-1),$C313<($F$283+1),WEEKDAY($C313,2)=3, evenWeek($C313) ),-1,\"\")","v":""},{"$f":"IF( AND($C313>($D$283-1),$C313<($F$283+1),WEEKDAY($C313,2)=3, NOT(evenWeek($C313)) ),-1,\"\")","v":""},{"$f":"IF( AND($C313>($D$283-1),$C313<($F$283+1),WEEKDAY($C313,2)=4, evenWeek($C313) ),-1,\"\")","v":""},{"$f":"IF( AND($C313>($D$283-1),$C313<($F$283+1),WEEKDAY($C313,2)=4, NOT(evenWeek($C313)) ),-1,\"\")","v":""},{"$f":"IF( AND($C313>($D$283-1),$C313<($F$283+1),WEEKDAY($C313,2)=5, evenWeek($C313) ),-1,\"\")","v":""},{"$f":"IF( AND($C313>($D$283-1),$C313<($F$283+1),WEEKDAY($C313,2)=5, NOT(evenWeek($C313)) ),-1,\"\")","v":""},{"$f":"IF( AND($C313>($D$283-1),$C313<($F$283+1),WEEKDAY($C313,2)=6, evenWeek($C313) ),-1,\"\")","v":""},{"$f":"IF( AND($C313>($D$283-1),$C313<($F$283+1),WEEKDAY($C313,2)=6, NOT(evenWeek($C313)) ),-1,\"\")","v":""},{"$f":"IF( AND($C313>($D$283-1),$C313<($F$283+1),WEEKDAY($C313,2)=7, evenWeek($C313) ),-1,\"\")","v":""},{"$f":"IF( AND($C313>($D$283-1),$C313<($F$283+1),WEEKDAY($C313,2)=7, NOT(evenWeek($C313)) ),-1,\"\")","v":""}]
[null,"Verplicht1","2024-05-10","","","","","","","","","","","","","",""]
[null,"Verplicht2","2024-12-27","","","","","","","","","","","","","",""]
[null,"Verplicht3","2024-12-30","","","","","","","","","","","","","",""]
[null,"Verplicht4","2024-12-31","","","","","","","","","","","","","",""]
[null,"Verplicht5","1904-01-01","","","","","","","","",-1,"","","","",""]
[null,"werkbare dagen",null,{"$f":"IF(OR(YEAR($D$283)<>$N$3,YEAR($F$283)<>$N$3),0,SUM(D301,D305:D318))","v":0},0,0,0,0,0,0,0,0,0,0,0,0,0,{"$f":"SUM(D319:O319)","v":0}]
[]
[null,"standaard werkweek",null,40,38,36]
[null,"bijbehorend verlofsaldo",null,{"$f":"D42","v":428},{"$f":"E42","v":323},{"$f":"F42","v":219}]
[null,"# werkdagen in jaar",{"$f":"C43","v":302}]
[]
[null,"(Z) Periodefactor werkbare dagen per volledig kalenderjaar",null,null,null,null,null,null,null,null,{"$f":"IF(AND(D283>0,F283>0),R319/C323,0)","v":0}]
[]
[null,"(A) Omvang aanstelling in fulltime equivalenten (fte's)",null,null,null,null,null,null,null,null,{"$f":"DIENSTVERBANDGEGEVENS!J85","v":0}]
[null,null,null,null,null,null,null,null,"keuzerondje"]
[null,"(B) Standaard werkweek bij volledige aanstelling, vul in 36, 38 of 40",null,null,null,null,null,null,3,null,{"$f":"IF(I329=1,36,IF(I329=2,38,IF(I329=3,40,0)))","v":40}]
[]
[null,"(C) Totaal aantal netto werkbare uren in periode 5 ( A * 1659 * Z )",null,null,null,null,null,null,null,null,{"$f":"IF($N$4,K327*$K$42*K325,0)","v":0}]
[]
[null,"(D) Bruto aantal werkbare uren bij aanstellingsomvang ( A * B )",null,null,null,null,null,null,null,null,{"$f":"K327*K329","v":0}]
[]
[null,"(E) Keuze tijdsbesteding",null,"maandag","dinsdag","woensdag","donderdag","vrijdag","zaterdag",null,"gemiddeld"]
[null,null,"even week",{"$f":"DIENSTVERBANDGEGEVENS!D94","v":0},{"$f":"DIENSTVERBANDGEGEVENS!E94","v":0},{"$f":"DIENSTVERBANDGEGEVENS!F94","v":0},{"$f":"DIENSTVERBANDGEGEVENS!G94","v":0},{"$f":"DIENSTVERBANDGEGEVENS!H94","v":0},{"$f":"DIENSTVERBANDGEGEVENS!I94","v":0},null,"totaal"]
[null,"totaal even",null,{"$f":"maandag5*D319","v":0},{"$f":"E336*F319","v":0},{"$f":"F336*H319","v":0},{"$f":"G336*J319","v":0},{"$f":"H336*L319","v":0},{"$f":"I336*N319","v":0}]
[null,null,"oneven week",{"$f":"DIENSTVERBANDGEGEVENS!D96","v":0},{"$f":"DIENSTVERBANDGEGEVENS!E96","v":0},{"$f":"DIENSTVERBANDGEGEVENS!F96","v":0},{"$f":"DIENSTVERBANDGEGEVENS!G96","v":0},{"$f":"DIENSTVERBANDGEGEVENS!H96","v":0},{"$f":"DIENSTVERBANDGEGEVENS!I96","v":0},null,{"$f":"SUM(D336:I336,D338:I338)/2","v":0}]
[null,"totaal oneven",null,{"$f":"D338*E319","v":0},{"$f":"E338*G319","v":0},{"$f":"F338*I319","v":0},{"$f":"G338*K319","v":0},{"$f":"H338*M319","v":0},{"$f":"I338*O319","v":0}]
[null,"(F) werkbare uren (gecorrigeerd voor feestdagen en overige niet-werkbare dagen)",null,null,null,null,null,null,null,null,{"$f":"IF(AND(D283>0,F283>0,$N$4),SUM(D337:I337,D339:I339),0)","v":0}]
[]
[null,"(G) Bruto CAO verlofuren in periode 5   ( A * verlofsaldo * Z )",null,null,null,null,null,null,null,null,{"$f":"(SUM(K327*IF(K329=0,0,IF(K329=D321,D322,IF(K329=E321,E322,IF(K329=F321,F322,\"\")))))*K325)","v":0}]
[]
[null,"(H) Werkbare uren gecorrigeerd voor bruto verlofuren  ( F - G )",null,null,null,null,null,null,null,null,{"$f":"IF(K333=0,0,K340-K342)","v":0}]
[]
[null,"(I) teveel (+) / te weinig (-) gewerkte uren  ( H - C )",null,null,null,null,null,null,null,null,{"$f":"K344-K331","v":0}]
[]
[null,"(J) Opgebouwde netto CAO verlofuren  ( G + I )",null,null,null,null,null,null,null,null,{"$f":"K342+K346","v":0}]

{"sheet":"DI uren","index":4,"n_rows":94,"n_cols":6,"rows_kept":94,"cut":false,"hidden":false,"merged":[]}
["fte periode 1",{"$f":"SUM(DIENSTVERBANDGEGEVENS!J9)","v":1},null,{"$f":"SUM(B1)","v":1},null,{"$f":"SUM(B1)","v":1}]
["keuze werkweek",36,null,38,null,40]
["aantal dagen in een  jaar (gemiddeld)",365.25,null,365.25,null,365.25]
["aantal dagen in een week",7,null,7,null,7]
["aantal weken per jaar (gemiddeld)",{"$f":"SUM(B3/B4)","v":52.178571428571431},null,52.18,null,{"$f":"SUM(F3/F4)","v":52.178571428571431}]
["aantal werkuren per week",{"$f":"SUM(B1*B2)","v":36},null,{"$f":"SUM(D1*D2)","v":38},null,{"$f":"SUM(F1*F2)","v":40}]
["extra te werken uren",0,null,{"$f":"D6-B6","v":2},null,{"$f":"F6-B6","v":4}]
["totaal aantal bruto arbeidsuren per jaar",{"$f":"ROUND(SUM((B5*B6)*2),0)/2","v":1878.5},null,{"$f":"SUM(B8+ROUND(((D5*D7)*2),0)/2)","v":1983},null,{"$f":"SUM(B8+ROUND(((F5*F7)*2),0)/2)","v":2087}]
["normjaartaak",{"$f":"ROUND(SUM(1659*B1),0)","v":1659},null,{"$f":"ROUND(SUM(1659*D1),0)","v":1659},null,{"$f":"ROUND(SUM(1659*F1),0)","v":1659}]
["verlof in uren",{"$f":"SUM(B8-B9)","v":219.5},null,{"$f":"SUM(D8-D9)","v":324},null,{"$f":"SUM(F8-F9)","v":428}]
["wettelijk verlof",{"$f":"SUM(4*B6)","v":144},null,{"$f":"SUM(4*D6)","v":152},null,{"$f":"SUM(4*F6)","v":160}]
["bovenwettelijk verlof",{"$f":"SUM(B10-B11)","v":75.5},null,{"$f":"SUM(D10-D11)","v":172},null,{"$f":"SUM(F10-F11)","v":268}]
[]
[]
["Maakt gebruik van SOP of Seniorenverlof","nee"]
["bereikt AOW gerechtigde leeftijd binnen 10 jaar en gedurende 5 jaar onafgebroken werkzaam binnen het HBO","nee"]
["Student assistent","nee"]
["aanspraak uren duurzame inzetbaarheid*",{"$f":"IF(B17=\"ja\",0,IF(B15=\"ja\",45*B1,IF(B1<0.4,0,IF(B16=\"ja\",90*B1,IF(B1<0.4,0,45*B1)))))","v":45}]
[]
["fte periode 2",{"$f":"SUM(DIENSTVERBANDGEGEVENS!J28)","v":1},null,{"$f":"SUM(B20)","v":1},null,{"$f":"SUM(B20)","v":1}]
["keuze werkweek",36,null,38,null,40]
["aantal dagen in een  jaar (gemiddeld)",365.25,null,365.25,null,365.25]
["aantal dagen in een week",7,null,7,null,7]
["aantal weken per jaar (gemiddeld)",{"$f":"SUM(B22/B23)","v":52.178571428571431},null,52.18,null,{"$f":"SUM(F22/F23)","v":52.178571428571431}]
["aantal werkuren per week",{"$f":"SUM(B20*B21)","v":36},null,{"$f":"SUM(D20*D21)","v":38},null,{"$f":"SUM(F20*F21)","v":40}]
["extra te werken uren",0,null,{"$f":"D25-B25","v":2},null,{"$f":"F25-B25","v":4}]
["totaal aantal bruto arbeidsuren per jaar",{"$f":"ROUND(SUM((B24*B25)*2),0)/2","v":1878.5},null,{"$f":"SUM(B27+ROUND(((D24*D26)*2),0)/2)","v":1983},null,{"$f":"SUM(B27+ROUND(((F24*F26)*2),0)/2)","v":2087}]
["normjaartaak",{"$f":"ROUND(SUM(1659*B20),0)","v":1659},null,{"$f":"ROUND(SUM(1659*D20),0)","v":1659},null,{"$f":"ROUND(SUM(1659*F20),0)","v":1659}]
["verlof in uren",{"$f":"SUM(B27-B28)","v":219.5},null,{"$f":"SUM(D27-D28)","v":324},null,{"$f":"SUM(F27-F28)","v":428}]
["wettelijk verlof",{"$f":"SUM(4*B25)","v":144},null,{"$f":"SUM(4*D25)","v":152},null,{"$f":"SUM(4*F25)","v":160}]
["bovenwettelijk verlof",{"$f":"SUM(B29-B30)","v":75.5},null,{"$f":"SUM(D29-D30)","v":172},null,{"$f":"SUM(F29-F30)","v":268}]
[]
[]
["Maakt gebruik van SOP of Seniorenverlof","nee"]
["bereikt AOW gerechtigde leeftijd binnen 10 jaar en gedurende 5 jaar onafgebroken werkzaam binnen het HBO","nee"]
["Student assistent","nee"]
["aanspraak uren duurzame inzetbaarheid*",{"$f":"IF(B36=\"ja\",0,IF(B34=\"ja\",45*B20,IF(B20<0.4,0,IF(B35=\"ja\",90*B20,IF(B20<0.4,0,45*B20)))))","v":45}]
[]
["fte periode 3",{"$f":"SUM(DIENSTVERBANDGEGEVENS!J47)","v":0},null,{"$f":"SUM(B39)","v":0},null,{"$f":"SUM(B39)","v":0}]
["keuze werkweek",36,null,38,null,40]
["aantal dagen in een  jaar (gemiddeld)",365.25,null,365.25,null,365.25]
["aantal dagen in een week",7,null,7,null,7]
["aantal weken per jaar (gemiddeld)",{"$f":"SUM(B41/B42)","v":52.178571428571431},null,52.18,null,{"$f":"SUM(F41/F42)","v":52.178571428571431}]
["aantal werkuren per week",{"$f":"SUM(B39*B40)","v":0},null,{"$f":"SUM(D39*D40)","v":0},null,{"$f":"SUM(F39*F40)","v":0}]
["extra te werken uren",0,null,{"$f":"D44-B44","v":0},null,{"$f":"F44-B44","v":0}]
["totaal aantal bruto arbeidsuren per jaar",{"$f":"ROUND(SUM((B43*B44)*2),0)/2","v":0},null,{"$f":"SUM(B46+ROUND(((D43*D45)*2),0)/2)","v":0},null,{"$f":"SUM(B46+ROUND(((F43*F45)*2),0)/2)","v":0}]
["normjaartaak",{"$f":"ROUND(SUM(1659*B39),0)","v":0},null,{"$f":"ROUND(SUM(1659*D39),0)","v":0},null,{"$f":"ROUND(SUM(1659*F39),0)","v":0}]
["verlof in uren",{"$f":"SUM(B46-B47)","v":0},null,{"$f":"SUM(D46-D47)","v":0},null,{"$f":"SUM(F46-F47)","v":0}]
["wettelijk verlof",{"$f":"SUM(4*B44)","v":0},null,{"$f":"SUM(4*D44)","v":0},null,{"$f":"SUM(4*F44)","v":0}]
["bovenwettelijk verlof",{"$f":"SUM(B48-B49)","v":0},null,{"$f":"SUM(D48-D49)","v":0},null,{"$f":"SUM(F48-F49)","v":0}]
[]
[]
["Maakt gebruik van SOP of Seniorenverlof","nee"]
["bereikt AOW gerechtigde leeftijd binnen 10 jaar en gedurende 5 jaar onafgebroken werkzaam binnen het HBO","nee"]
["Student assistent","nee"]
["aanspraak uren duurzame inzetbaarheid*",{"$f":"IF(B55=\"ja\",0,IF(B53=\"ja\",45*B39,IF(B39<0.4,0,IF(B54=\"ja\",90*B39,IF(B39<0.4,0,45*B39)))))","v":0}]
[]
["fte periode 4",{"$f":"SUM(DIENSTVERBANDGEGEVENS!J66)","v":0},null,{"$f":"SUM(B58)","v":0},null,{"$f":"SUM(B58)","v":0}]
["keuze werkweek",36,null,38,null,40]
["aantal dagen in een  jaar (gemiddeld)",365.25,null,365.25,null,365.25]
["aantal dagen in een week",7,null,7,null,7]
["aantal weken per jaar (gemiddeld)",{"$f":"SUM(B60/B61)","v":52.178571428571431},null,52.18,null,{"$f":"SUM(F60/F61)","v":52.178571428571431}]
["aantal werkuren per week",{"$f":"SUM(B58*B59)","v":0},null,{"$f":"SUM(D58*D59)","v":0},null,{"$f":"SUM(F58*F59)","v":0}]
["extra te werken uren",0,null,{"$f":"D63-B63","v":0},null,{"$f":"F63-B63","v":0}]
["totaal aantal bruto arbeidsuren per jaar",{"$f":"ROUND(SUM((B62*B63)*2),0)/2","v":0},null,{"$f":"SUM(B65+ROUND(((D62*D64)*2),0)/2)","v":0},null,{"$f":"SUM(B65+ROUND(((F62*F64)*2),0)/2)","v":0}]
["normjaartaak",{"$f":"ROUND(SUM(1659*B58),0)","v":0},null,{"$f":"ROUND(SUM(1659*D58),0)","v":0},null,{"$f":"ROUND(SUM(1659*F58),0)","v":0}]
["verlof in uren",{"$f":"SUM(B65-B66)","v":0},null,{"$f":"SUM(D65-D66)","v":0},null,{"$f":"SUM(F65-F66)","v":0}]
["wettelijk verlof",{"$f":"SUM(4*B63)","v":0},null,{"$f":"SUM(4*D63)","v":0},null,{"$f":"SUM(4*F63)","v":0}]
["bovenwettelijk verlof",{"$f":"SUM(B67-B68)","v":0},null,{"$f":"SUM(D67-D68)","v":0},null,{"$f":"SUM(F67-F68)","v":0}]
[]
[]
["Maakt gebruik van SOP of Seniorenverlof","nee"]
["bereikt AOW gerechtigde leeftijd binnen 10 jaar en gedurende 5 jaar onafgebroken werkzaam binnen het HBO","nee"]
["Student assistent","nee"]
["aanspraak uren duurzame inzetbaarheid*",{"$f":"IF(B74=\"ja\",0,IF(B72=\"ja\",45*B58,IF(B58<0.4,0,IF(B73=\"ja\",90*B58,IF(B58<0.4,0,45*B58)))))","v":0}]
[]
["fte periode 5",{"$f":"SUM(DIENSTVERBANDGEGEVENS!J85)","v":0},null,{"$f":"SUM(B77)","v":0},null,{"$f":"SUM(B77)","v":0}]
["keuze werkweek",36,null,38,null,40]
["aantal dagen in een  jaar (gemiddeld)",365.25,null,365.25,null,365.25]
["aantal dagen in een week",7,null,7,null,7]
["aantal weken per jaar (gemiddeld)",{"$f":"SUM(B79/B80)","v":52.178571428571431},null,52.18,null,{"$f":"SUM(F79/F80)","v":52.178571428571431}]
["aantal werkuren per week",{"$f":"SUM(B77*B78)","v":0},null,{"$f":"SUM(D77*D78)","v":0},null,{"$f":"SUM(F77*F78)","v":0}]
["extra te werken uren",0,null,{"$f":"D82-B82","v":0},null,{"$f":"F82-B82","v":0}]
["totaal aantal bruto arbeidsuren per jaar",{"$f":"ROUND(SUM((B81*B82)*2),0)/2","v":0},null,{"$f":"SUM(B84+ROUND(((D81*D83)*2),0)/2)","v":0},null,{"$f":"SUM(B84+ROUND(((F81*F83)*2),0)/2)","v":0}]
["normjaartaak",{"$f":"ROUND(SUM(1659*B77),0)","v":0},null,{"$f":"ROUND(SUM(1659*D77),0)","v":0},null,{"$f":"ROUND(SUM(1659*F77),0)","v":0}]
["verlof in uren",{"$f":"SUM(B84-B85)","v":0},null,{"$f":"SUM(D84-D85)","v":0},null,{"$f":"SUM(F84-F85)","v":0}]
["wettelijk verlof",{"$f":"SUM(4*B82)","v":0},null,{"$f":"SUM(4*D82)","v":0},null,{"$f":"SUM(4*F82)","v":0}]
["bovenwettelijk verlof",{"$f":"SUM(B86-B87)","v":0},null,{"$f":"SUM(D86-D87)","v":0},null,{"$f":"SUM(F86-F87)","v":0}]
[]
[]
["Maakt gebruik van SOP of Seniorenverlof","nee"]
["bereikt AOW gerechtigde leeftijd binnen 10 jaar en gedurende 5 jaar onafgebroken werkzaam binnen het HBO","nee"]
["Student assistent","nee"]
["aanspraak uren duurzame inzetbaarheid*",{"$f":"IF(B93=\"ja\",0,IF(B91=\"ja\",45*B77,IF(B77<0.4,0,IF(B92=\"ja\",90*B77,IF(B77<0.4,0,45*B77)))))","v":0}]

{"sheet":"(ON)BETAALD VERLOF","index":5,"n_rows":50,"n_cols":11,"rows_kept":50,"cut":false,"hidden":false,"merged":[[46,1,46,12],[48,1,48,12],[49,1,49,12],[1,1,1,12],[23,1,23,11],[24,1,24,11],[27,2,27,3],[2,1,2,12],[42,1,42,12],[43,1,43,12],[45,1,45,12]]}
[]
[null,"BETAALD OUDERSCHAPSVERLOF"]
[null,"Tijdens het betaald ouderschapsverlof neemt het aantal uren waarover vakantieverlof wordt opgebouwd af. Er is immers sprake van 25% onbetaald verlof en over deze uren worden geen vakantieverlof-uren opgebouwd.\nOm te berekenen wat het op te bouwen vakantieverlof is tijdens de betaald ouderschapsverlofperiode, kan onderstaande rekentool worden gebruikt."]
[]
[null,null,null,null,{"$f":"DVOV!D2","v":""},null,{"$f":"DVOV!F2","v":""}]
[null,null,null,"Omvang aanstelling in fulltime equivalenten (fte)"]
[]
[null,null,null,"Omvang ouderschapsverlof in fte",null,null,null,null,null,null,0]
[]
[null,null,null,"Omvang fte waarover verlofopbouw plaats vindt",null,null,null,null,null,null,{"$f":"DVOV!K11","v":0}]
[]
[null,null,"Gebruiken als alleen bekend is wat de omvang ouderschapsverlof is in UREN"]
[null,null,null,null,{"$f":"DV!D72","v":""},null,{"$f":"DV!F72","v":""}]
[null,null,null,"Omvang aanstelling in fulltime equivalenten (fte's)",null,null,null,null,null,null,0.9]
[]
[null,null,null,"Standaard werkweek bij volledige aanstelling, kies 36, 38 of 40"]
[]
[null,null,null,"Omvang ouderschapsverlof in uren p/w",null,null,null,null,null,null,2.2000000000000002]
[]
[null,null,null,"Omvang fte waarover verlofopbouw plaats vindt",null,null,null,null,null,null,{"$f":"DVOV!K25","v":0.88552631578947372}]
[]
[]
[null,"Tabblad Dienstverbandgegevens"]
[null,"●  Vul bij (A) gedurende de ouderschapsverlofperiode de Omvang fte waarover verlofopbouw plaats vindt"]
[null,"●  Vul bij (E) Keuze tijdsbesteding het werkrooster inclusief de uren betaald ouderschapsverlof in."]
[null,null," Voorbeeld (woensdag volledig ouderschapsverlof):"]
[null,null,null,null,"ma","di","wo","do","vr","vr"]
[null,null," Voor ouderschapsverlof",null,8,8,8,8,8,8]
[]
[null,null," Tijdens ouderschapsverlof",null,8,8,6,8,8,8]
[]
[null,"Tabblad Verlofkalender"]
[null,"●  De dag/uren waarop ouderschapsverlof wordt genoten, kan in de verlofkalander genoteerd worden als OV:"]
[]
[]
[]
[null,"●  Over de dag/uren waarop ouderschapsverlof wordt genoten, dient geen vakantieverlof opgenomen te worden."]
[null,null," Voorbeeld (woensdag volledig ouderschapsverlof, hele week vakantieverlof):"]
[null,null,null,null,"ma","di","wo","do","vr","vr"]
[null,null," In verlofkalender",null,8,8,null,8,8,8]
[]
[]
[null,"ONBETAALD OUDERSCHAPSVERLOF"]
[null,"Over de uren Onbetaald Ouderschapsverlof wordt geen verlof opgebouwd. Bij (A) op het tabblad Dienstverbandgegevens, dient dan ook de aanstellingsomvang minus de omvang onbetaald ouderschapsverlof (in fte) ingevuld te worden."]
[]
[null,"WERKTIJDVERMINDERING SENIOREN (WS) / SOP VERLOF"]
[null,"Over de uren Werktijdvermindering Senioren (WS) / SOP wordt geen verlof opgebouwd. Bij (A) op het tabblad Dienstverbandgegevens, dient dan ook de aanstellingsomvang minus de omvang onbetaald ouderschapsverlof (in fte) ingevuld te worden."]
[]
[null,"VERLOF BIJ LANGDURIG VERZUIM"]
[null,"Het vakantieverlof bestaat uit een deel wettelijk verlof en een deel bovenwettelijk verlof. Het wettelijk verlof wordt volledig opgebouwd en opgenomen tijdens verzuim. Het wettelijk deel bestaat uit 4 x de werktijd per week. (voorbeeld: De werktijd is 40 uur per week. Het wettelijk verlof is dan 4 x 40 uur = 160 uur per jaar. Feestdagen en verplichte vrije dagen worden van het wettelijk verlof afgetrokken.  Al het verlof daarboven is bovenwettelijk verlof.Het bovenwettelijk verlof wordt echter alleen volledig opgebouwd en opgenomen gedurende de eerste zes maanden van het verzuim. Is er sprake van langdurig verzuim dan moet het aantal uren bovenwettelijk verlof dat minder wordt opgebouwd na 6 maanden, handmatig worden berekend en ingevuld op het tabblad Verlofkalender bij ‘Totaal te verminderen verlofuren in 2024' Zie ook mijnhva.nl.\nNeem voor vragen of hulp bij berekening vermindering verlof bij langdurig verzuim contact op met de HR-adviseur van de eigen eenheid of de Servicedesk van het Administratief Centrum"]

{"sheet":"DVOV","index":6,"n_rows":557,"n_cols":18,"rows_kept":557,"cut":false,"hidden":false,"merged":[]}
[]
[null,null,null,{"$f":"IF(D4,\"datum !\",IF(OR(D3=0,YEAR(D3)=$N$3),\"\",\"datum !\"))","v":""},null,{"$f":"IF(AND(D3>0,F3>0,F3<D3),\"datum !\",IF( OR(F4, AND(F3>0,YEAR(F3)<>$N$3)),\"datum !\",\"\"))","v":""},null,"p2"]
[null," PERIODE 1","van",{"$f":"IF(ISNUMBER(DIENSTVERBANDGEGEVENS!D7),DIENSTVERBANDGEGEVENS!D7,0)","v":"2024-01-01"},"t/m",{"$f":"IF(ISNUMBER(DIENSTVERBANDGEGEVENS!F7),DIENSTVERBANDGEGEVENS!F7,0)","v":"2024-12-31"},{"$f":"IF(AND(H3:K3),\"\",\"  periode-overlapping\")","v":""},{"$f":"OR( $D$3=0,$F$3=0,D15=0,F15=0, AND($D$3>D15,$D$3>F15),AND($D$3<D15,$F$3<D15))","v":true},null,null,null,null,"kalenderjaar",2024,null,"temcp"]
[null,null,"tekst in datumcel",{"$f":"TYPE(DIENSTVERBANDGEGEVENS!D7)=2","v":false},null,{"$f":"TYPE(DIENSTVERBANDGEGEVENS!F7)=2","v":false},null,null,null,null,null,null,"geen overlap",{"$f":"AND(H3:K3,H15:K15,H352:K352)","v":true}]
[]
[]
[null,"(A) Omvang aanstelling in fulltime equivalenten (fte's)",null,null,null,null,null,null,null,null,{"$f":"'(ON)BETAALD VERLOF'!K6","v":0}]
[null,null,null,null,null,null,null,null,"keuzerondje"]
[null,"(B) Omvang ouderschapsverlof in fte",null,null,null,null,null,null,null,null,{"$f":"'(ON)BETAALD VERLOF'!K8","v":0}]
[]
[null,"(C) Omvang aanstelling waarover verlof opbouw plaats vindt (( A - (C * 0,25 ))",null,null,null,null,null,null,null,null,{"$f":"K7-(K9*0.25)","v":0}]
[]
[]
[null,null,null,{"$f":"IF(D16,\"datum !\",IF(OR(D15=0,YEAR(D15)=$N$3),\"\",\"datum !\"))","v":""},null,{"$f":"IF(AND(D15>0,F15>0,F15<D15),\"datum !\",IF(OR(F16, AND(F15>0,YEAR(F15)<>$N$3)),\"datum !\",\"\"))","v":""},null,"p1"]
[null," PERIODE 2","van",{"$f":"IF(ISNUMBER(DIENSTVERBANDGEGEVENS!D26),DIENSTVERBANDGEGEVENS!D26,0)","v":"1904-01-01"},"t/m",{"$f":"IF(ISNUMBER(DIENSTVERBANDGEGEVENS!F26),DIENSTVERBANDGEGEVENS!F26,0)","v":"1904-01-01"},{"$f":"IF(AND(H15:K15),\"\",\"  periode-overlapping\")","v":""},{"$f":"OR( D15=0,F15=0,D3=0,F3=0, AND($D$15>D3,$D$15>F3),AND($D$15<D3,$F$15<D3))","v":true}]
[null,null,"tekst in datumcel",{"$f":"TYPE(DIENSTVERBANDGEGEVENS!D26)=2","v":false},null,{"$f":"TYPE(DIENSTVERBANDGEGEVENS!F26)=2","v":false}]
[]
[]
[null,"(A) Omvang aanstelling in fulltime equivalenten (fte's)",null,null,null,null,null,null,null,null,{"$f":"'(ON)BETAALD VERLOF'!K14","v":0.9}]
[null,null,null,null,null,null,null,null,"keuzerondje"]
[null,"(B) Standaard werkweek bij volledige aanstelling, vul in 36, 38 of 40",null,null,null,null,null,null,2,null,{"$f":"IF(I21=1,36,IF(I21=2,38,IF(I21=3,40,0)))","v":38}]
[]
[null,"(C) Omvang ouderschapsverlof in uren",null,null,null,null,null,null,null,null,{"$f":"'(ON)BETAALD VERLOF'!K18","v":2.2000000000000002}]
[]
[null,"(D) Omvang aanstelling waarover verlof opbouw plaats vindt (( A - ((C/B) * 0,25 )))",null,null,null,null,null,null,null,null,{"$f":"K19-((K23/K21)*0.25)","v":0.88552631578947372}]
[]
[]
[]
[]
[]
[]
[]
[]
[]
[]
[]
[]
[]
[]
[]
[]
[]
[]
[]
[]
[]
[]
[]
[]
[]
[]
[]
[]
[]
[]
[]
[]
[]
[]
[]
[]
[]
[]
[]
[]
[]
[]
[]
[]
[]
[]
[]
[]
[]
[]
[]
[]
[]
[]
[]
[]
[]
[]
[]
[]
[]
[]
[]
[]
[]
[]
[]
[]
[]
[]
[]
[]
[]
[]
[]
[]
[]
[]
[]
[]
[]
[]
[]
[]
[]
[]
[]
[]
[]
[]
[]
[]
[]
[]
[]
[]
[]
[]
[]
[]
[]
[]
[]
[]
[]
[]
[]
[]
[]
[]
[]
[]
[]
[]
[]
[]
[]
[]
[]
[]
[]
[]
[]
[]
[]
[]
[]
[]
[]
[]
[]
[]
[]
[]
[]
[]
[]
[]
[]
[]
[]
[]
[]
[]
[]
[]
[]
[]
[]
[]
[]
[]
[]
[]
[]
[]
[]
[]
[]
[]
[]
[]
[]
[]
[]
[]
[]
[]
[]
[]
[]
[]
[]
[]
[]
[]
[]
[]
[]
[]
[]
[]
[]
[]
[]
[]
[]
[]
[]
[]
[]
[]
[]
[]
[]
[]
[]
[]
[]
[]
[]
[]
[]
[]
[]
[]
[]
[]
[]
[]
[]
[]
[]
[]
[]
[]
[]
[]
[]
[]
[]
[]
[]
[]
[]
[]
[]
[]
[]
[]
[]
[]
[]
[]
[]
[]
[]
[]
[]
[]
[]
[]
[]
[]
[]
[]
[]
[]
[]
[]
[]
[]
[]
[]
[]
[]
[]
[]
[]
[]
[]
[]
[]
[]
[]
[]
[]
[]
[]
[]
[]
[]
[]
[]
[]
[]
[]
[]
[]
[]
[]
[]
[]
[]
[]
[]
[]
[]
[]
[]
[]
[]
[]
[]
[]
[]
[]
[]
[]
[]
[]
[]
[]
[]
[]
[]
[]
[]
[]
[]
[]
[]
[]
[]
[]
[]
[]
[]
[]
[]
[]
[]
[]
[]
[]
[null,null,null,{"$f":"IF(D353,\"datum !\",IF(OR(D352=0,YEAR(D352)=$N$3),\"\",\"datum !\"))","v":""},null,{"$f":"IF(AND(D352>0,F352>0,F352<D352),\"datum !\",IF(OR(F353, AND(F352>0,YEAR(F352)<>$N$3)),\"datum !\",\"\"))","v":""},null,"p1","p2","p4","p5",null,null,null,null,null," PERIODE 3"]
[null," PERIODE 3","van",{"$f":"IF(ISNUMBER(DIENSTVERBANDGEGEVENS!D45),DIENSTVERBANDGEGEVENS!D45,0)","v":"1904-01-01"},"t/m",{"$f":"IF(ISNUMBER(DIENSTVERBANDGEGEVENS!F45),DIENSTVERBANDGEGEVENS!F45,0)","v":"1904-01-01"},{"$f":"IF(AND(H352:K352),\"\",\"  periode-overlapping\")","v":""},{"$f":"OR( D352=0,F352=0,D3=0,F3=0, AND($D$352>D3,$D$352>F3),AND($D$352<D3,$F$352<D3))","v":true},{"$f":"OR( D352=0,F352=0,D15=0,F15=0, AND($D$352>D15,$D$352>F15),AND($D$352<D15,$F$352<D15))","v":true},{"$f":"OR( D352=0,F352=0,D422=0,F422=0, AND($D$352>D422,$D$352>F422),AND($D$352<D422,$F$352<D422))","v":true},{"$f":"OR( D352=0,F352=0,D492=0,F492=0, AND($D$352>D492,$D$352>F492),AND($D$352<D492,$F$352<D492))","v":true}]
[null,null,"tekst in datumcel",{"$f":"TYPE(DIENSTVERBANDGEGEVENS!D45)=2","v":false},null,{"$f":"TYPE(DIENSTVERBANDGEGEVENS!F45)=2","v":false}]
[]
[null,null,null,"ma even","ma oneven","di even","di oneven","wo even","wo oneven","do even","do oneven","vr even","vr oneven","za even","za oneven","zo even","zo oneven"]
[null,null,{"$f":"D352","v":"1904-01-01"},{"$f":"IF( AND( WEEKDAY($C356,2)=1,YEAR($C356)=$N$3, evenWeek($C356), $C356<=$F$352), (($F$352 + 1) - $C356 ) / 14, 0)","v":0},{"$f":"IF( AND( WEEKDAY($C356,2)=1,YEAR($C356)=$N$3, NOT(evenWeek($C356)), $C356<= $F$352), (($F$352 + 1) - $C356 ) /14, 0)","v":0},{"$f":"IF( AND( WEEKDAY($C356,2)=2,YEAR($C356)=$N$3, evenWeek($C356), $C356<=$F$352), (($F$352 + 1) - $C356 ) / 14, 0)","v":0},{"$f":"IF( AND( WEEKDAY($C356,2)=2,YEAR($C356)=$N$3, NOT(evenWeek($C356)), $C356<= $F$352), (($F$352 + 1) - $C356 ) /14, 0)","v":0},{"$f":"IF( AND( WEEKDAY($C356,2)=3,YEAR($C356)=$N$3, evenWeek($C356), $C356<=$F$352), (($F$352 + 1) - $C356 ) / 14, 0)","v":0},{"$f":"IF( AND( WEEKDAY($C356,2)=3,YEAR($C356)=$N$3, NOT(evenWeek($C356)), $C356<= $F$352), (($F$352 + 1) - $C356 ) /14, 0)","v":0},{"$f":"IF( AND( WEEKDAY($C356,2)=4,YEAR($C356)=$N$3, evenWeek($C356), $C356<=$F$352), (($F$352 + 1) - $C356 ) / 14, 0)","v":0},{"$f":"IF( AND( WEEKDAY($C356,2)=4,YEAR($C356)=$N$3, NOT(evenWeek($C356)), $C356<= $F$352), (($F$352 + 1) - $C356 ) /14, 0)","v":0},{"$f":"IF( AND( WEEKDAY($C356,2)=5,YEAR($C356)=$N$3, evenWeek($C356), $C356<=$F$352), (($F$352 + 1) - $C356 ) / 14, 0)","v":0},{"$f":"IF( AND( WEEKDAY($C356,2)=5,YEAR($C356)=$N$3, NOT(evenWeek($C356)), $C356<= $F$352), (($F$352 + 1) - $C356 ) /14, 0)","v":0},{"$f":"IF( AND( WEEKDAY($C356,2)=6,YEAR($C356)=$N$3, evenWeek($C356), $C356<=$F$352), (($F$352 + 1) - $C356 ) / 14, 0)","v":0},{"$f":"IF( AND( WEEKDAY($C356,2)=6,YEAR($C356)=$N$3, NOT(evenWeek($C356)), $C356<= $F$352), (($F$352 + 1) - $C356 ) /14, 0)","v":0},{"$f":"IF( AND( WEEKDAY($C356,2)=7,YEAR($C356)=$N$3, evenWeek($C356), $C356<=$F$352), (($F$352 + 1) - $C356 ) / 14, 0)","v":0},{"$f":"IF( AND( WEEKDAY($C356,2)=7,YEAR($C356)=$N$3, NOT(evenWeek($C356)), $C356<= $F$352), (($F$352 + 1) - $C356 ) /14, 0)","v":0}]
[null,null,{"$f":"C356+1","v":"1904-01-02"},{"$f":"IF( AND( WEEKDAY($C357,2)=1,YEAR($C357)=$N$3, evenWeek($C357), $C357<=$F$352), (($F$352 + 1) - $C357 ) / 14, 0)","v":0},{"$f":"IF( AND( WEEKDAY($C357,2)=1,YEAR($C357)=$N$3, NOT(evenWeek($C357)), $C357<= $F$352), (($F$352 + 1) - $C357 ) /14, 0)","v":0},{"$f":"IF( AND( WEEKDAY($C357,2)=2,YEAR($C357)=$N$3, evenWeek($C357), $C357<=$F$352), (($F$352 + 1) - $C357 ) / 14, 0)","v":0},{"$f":"IF( AND( WEEKDAY($C357,2)=2,YEAR($C357)=$N$3, NOT(evenWeek($C357)), $C357<= $F$352), (($F$352 + 1) - $C357 ) /14, 0)","v":0},{"$f":"IF( AND( WEEKDAY($C357,2)=3,YEAR($C357)=$N$3, evenWeek($C357), $C357<=$F$352), (($F$352 + 1) - $C357 ) / 14, 0)","v":0},{"$f":"IF( AND( WEEKDAY($C357,2)=3,YEAR($C357)=$N$3, NOT(evenWeek($C357)), $C357<= $F$352), (($F$352 + 1) - $C357 ) /14, 0)","v":0},{"$f":"IF( AND( WEEKDAY($C357,2)=4,YEAR($C357)=$N$3, evenWeek($C357), $C357<=$F$352), (($F$352 + 1) - $C357 ) / 14, 0)","v":0},{"$f":"IF( AND( WEEKDAY($C357,2)=4,YEAR($C357)=$N$3, NOT(evenWeek($C357)), $C357<= $F$352), (($F$352 + 1) - $C357 ) /14, 0)","v":0},{"$f":"IF( AND( WEEKDAY($C357,2)=5,YEAR($C357)=$N$3, evenWeek($C357), $C357<=$F$352), (($F$352 + 1) - $C357 ) / 14, 0)","v":0},{"$f":"IF( AND( WEEKDAY($C357,2)=5,YEAR($C357)=$N$3, NOT(evenWeek($C357)), $C357<= $F$352), (($F$352 + 1) - $C357 ) /14, 0)","v":0},{"$f":"IF( AND( WEEKDAY($C357,2)=6,YEAR($C357)=$N$3, evenWeek($C357), $C357<=$F$352), (($F$352 + 1) - $C357 ) / 14, 0)","v":0},{"$f":"IF( AND( WEEKDAY($C357,2)=6,YEAR($C357)=$N$3, NOT(evenWeek($C357)), $C357<= $F$352), (($F$352 + 1) - $C357 ) /14, 0)","v":0},{"$f":"IF( AND( WEEKDAY($C357,2)=7,YEAR($C357)=$N$3, evenWeek($C357), $C357<=$F$352), (($F$352 + 1) - $C357 ) / 14, 0)","v":0},{"$f":"IF( AND( WEEKDAY($C357,2)=7,YEAR($C357)=$N$3, NOT(evenWeek($C357)), $C357<= $F$352), (($F$352 + 1) - $C357 ) /14, 0)","v":0}]
[null,null,{"$f":"C357+1","v":"1904-01-03"},{"$f":"IF( AND( WEEKDAY($C358,2)=1,YEAR($C358)=$N$3, evenWeek($C358), $C358<=$F$352), (($F$352 + 1) - $C358 ) / 14, 0)","v":0},{"$f":"IF( AND( WEEKDAY($C358,2)=1,YEAR($C358)=$N$3, NOT(evenWeek($C358)), $C358<= $F$352), (($F$352 + 1) - $C358 ) /14, 0)","v":0},{"$f":"IF( AND( WEEKDAY($C358,2)=2,YEAR($C358)=$N$3, evenWeek($C358), $C358<=$F$352), (($F$352 + 1) - $C358 ) / 14, 0)","v":0},{"$f":"IF( AND( WEEKDAY($C358,2)=2,YEAR($C358)=$N$3, NOT(evenWeek($C358)), $C358<= $F$352), (($F$352 + 1) - $C358 ) /14, 0)","v":0},{"$f":"IF( AND( WEEKDAY($C358,2)=3,YEAR($C358)=$N$3, evenWeek($C358), $C358<=$F$352), (($F$352 + 1) - $C358 ) / 14, 0)","v":0},{"$f":"IF( AND( WEEKDAY($C358,2)=3,YEAR($C358)=$N$3, NOT(evenWeek($C358)), $C358<= $F$352), (($F$352 + 1) - $C358 ) /14, 0)","v":0},{"$f":"IF( AND( WEEKDAY($C358,2)=4,YEAR($C358)=$N$3, evenWeek($C358), $C358<=$F$352), (($F$352 + 1) - $C358 ) / 14, 0)","v":0},{"$f":"IF( AND( WEEKDAY($C358,2)=4,YEAR($C358)=$N$3, NOT(evenWeek($C358)), $C358<= $F$352), (($F$352 + 1) - $C358 ) /14, 0)","v":0},{"$f":"IF( AND( WEEKDAY($C358,2)=5,YEAR($C358)=$N$3, evenWeek($C358), $C358<=$F$352), (($F$352 + 1) - $C358 ) / 14, 0)","v":0},{"$f":"IF( AND( WEEKDAY($C358,2)=5,YEAR($C358)=$N$3, NOT(evenWeek($C358)), $C358<= $F$352), (($F$352 + 1) - $C358 ) /14, 0)","v":0},{"$f":"IF( AND( WEEKDAY($C358,2)=6,YEAR($C358)=$N$3, evenWeek($C358), $C358<=$F$352), (($F$352 + 1) - $C358 ) / 14, 0)","v":0},{"$f":"IF( AND( WEEKDAY($C358,2)=6,YEAR($C358)=$N$3, NOT(evenWeek($C358)), $C358<= $F$352), (($F$352 + 1) - $C358 ) /14, 0)","v":0},{"$f":"IF( AND( WEEKDAY($C358,2)=7,YEAR($C358)=$N$3, evenWeek($C358), $C358<=$F$352), (($F$352 + 1) - $C358 ) / 14, 0)","v":0},{"$f":"IF( AND( WEEKDAY($C358,2)=7,YEAR($C358)=$N$3, NOT(evenWeek($C358)), $C358<= $F$352), (($F$352 + 1) - $C358 ) /14, 0)","v":0}]
[null,null,"1904-01-04",{"$f":"IF( AND( WEEKDAY($C359,2)=1,YEAR($C359)=$N$3, evenWeek($C359), $C359<=$F$352), (($F$352 + 1) - $C359 ) / 14, 0)","v":0},{"$f":"IF( AND( WEEKDAY($C359,2)=1,YEAR($C359)=$N$3, NOT(evenWeek($C359)), $C359<= $F$352), (($F$352 + 1) - $C359 ) /14, 0)","v":0},{"$f":"IF( AND( WEEKDAY($C359,2)=2,YEAR($C359)=$N$3, evenWeek($C359), $C359<=$F$352), (($F$352 + 1) - $C359 ) / 14, 0)","v":0},{"$f":"IF( AND( WEEKDAY($C359,2)=2,YEAR($C359)=$N$3, NOT(evenWeek($C359)), $C359<= $F$352), (($F$352 + 1) - $C359 ) /14, 0)","v":0},{"$f":"IF( AND( WEEKDAY($C359,2)=3,YEAR($C359)=$N$3, evenWeek($C359), $C359<=$F$352), (($F$352 + 1) - $C359 ) / 14, 0)","v":0},{"$f":"IF( AND( WEEKDAY($C359,2)=3,YEAR($C359)=$N$3, NOT(evenWeek($C359)), $C359<= $F$352), (($F$352 + 1) - $C359 ) /14, 0)","v":0},{"$f":"IF( AND( WEEKDAY($C359,2)=4,YEAR($C359)=$N$3, evenWeek($C359), $C359<=$F$352), (($F$352 + 1) - $C359 ) / 14, 0)","v":0},{"$f":"IF( AND( WEEKDAY($C359,2)=4,YEAR($C359)=$N$3, NOT(evenWeek($C359)), $C359<= $F$352), (($F$352 + 1) - $C359 ) /14, 0)","v":0},{"$f":"IF( AND( WEEKDAY($C359,2)=5,YEAR($C359)=$N$3, evenWeek($C359), $C359<=$F$352), (($F$352 + 1) - $C359 ) / 14, 0)","v":0},{"$f":"IF( AND( WEEKDAY($C359,2)=5,YEAR($C359)=$N$3, NOT(evenWeek($C359)), $C359<= $F$352), (($F$352 + 1) - $C359 ) /14, 0)","v":0},{"$f":"IF( AND( WEEKDAY($C359,2)=6,YEAR($C359)=$N$3, evenWeek($C359), $C359<=$F$352), (($F$352 + 1) - $C359 ) / 14, 0)","v":0},{"$f":"IF( AND( WEEKDAY($C359,2)=6,YEAR($C359)=$N$3, NOT(evenWeek($C359)), $C359<= $F$352), (($F$352 + 1) - $C359 ) /14, 0)","v":0},{"$f":"IF( AND( WEEKDAY($C359,2)=7,YEAR($C359)=$N$3, evenWeek($C359), $C359<=$F$352), (($F$352 + 1) - $C359 ) / 14, 0)","v":0},{"$f":"IF( AND( WEEKDAY($C359,2)=7,YEAR($C359)=$N$3, NOT(evenWeek($C359)), $C359<= $F$352), (($F$352 + 1) - $C359 ) /14, 0)","v":0}]
[null,null,"1904-01-05",{"$f":"IF( AND( WEEKDAY($C360,2)=1,YEAR($C360)=$N$3, evenWeek($C360), $C360<=$F$352), (($F$352 + 1) - $C360 ) / 14, 0)","v":0},{"$f":"IF( AND( WEEKDAY($C360,2)=1,YEAR($C360)=$N$3, NOT(evenWeek($C360)), $C360<= $F$352), (($F$352 + 1) - $C360 ) /14, 0)","v":0},{"$f":"IF( AND( WEEKDAY($C360,2)=2,YEAR($C360)=$N$3, evenWeek($C360), $C360<=$F$352), (($F$352 + 1) - $C360 ) / 14, 0)","v":0},{"$f":"IF( AND( WEEKDAY($C360,2)=2,YEAR($C360)=$N$3, NOT(evenWeek($C360)), $C360<= $F$352), (($F$352 + 1) - $C360 ) /14, 0)","v":0},{"$f":"IF( AND( WEEKDAY($C360,2)=3,YEAR($C360)=$N$3, evenWeek($C360), $C360<=$F$352), (($F$352 + 1) - $C360 ) / 14, 0)","v":0},{"$f":"IF( AND( WEEKDAY($C360,2)=3,YEAR($C360)=$N$3, NOT(evenWeek($C360)), $C360<= $F$352), (($F$352 + 1) - $C360 ) /14, 0)","v":0},{"$f":"IF( AND( WEEKDAY($C360,2)=4,YEAR($C360)=$N$3, evenWeek($C360), $C360<=$F$352), (($F$352 + 1) - $C360 ) / 14, 0)","v":0},{"$f":"IF( AND( WEEKDAY($C360,2)=4,YEAR($C360)=$N$3, NOT(evenWeek($C360)), $C360<= $F$352), (($F$352 + 1) - $C360 ) /14, 0)","v":0},{"$f":"IF( AND( WEEKDAY($C360,2)=5,YEAR($C360)=$N$3, evenWeek($C360), $C360<=$F$352), (($F$352 + 1) - $C360 ) / 14, 0)","v":0},{"$f":"IF( AND( WEEKDAY($C360,2)=5,YEAR($C360)=$N$3, NOT(evenWeek($C360)), $C360<= $F$352), (($F$352 + 1) - $C360 ) /14, 0)","v":0},{"$f":"IF( AND( WEEKDAY($C360,2)=6,YEAR($C360)=$N$3, evenWeek($C360), $C360<=$F$352), (($F$352 + 1) - $C360 ) / 14, 0)","v":0},{"$f":"IF( AND( WEEKDAY($C360,2)=6,YEAR($C360)=$N$3, NOT(evenWeek($C360)), $C360<= $F$352), (($F$352 + 1) - $C360 ) /14, 0)","v":0},{"$f":"IF( AND( WEEKDAY($C360,2)=7,YEAR($C360)=$N$3, evenWeek($C360), $C360<=$F$352), (($F$352 + 1) - $C360 ) / 14, 0)","v":0},{"$f":"IF( AND( WEEKDAY($C360,2)=7,YEAR($C360)=$N$3, NOT(evenWeek($C360)), $C360<= $F$352), (($F$352 + 1) - $C360 ) /14, 0)","v":0}]
[null,null,"1904-01-06",{"$f":"IF( AND( WEEKDAY($C361,2)=1,YEAR($C361)=$N$3, evenWeek($C361), $C361<=$F$352), (($F$352 + 1) - $C361 ) / 14, 0)","v":0},{"$f":"IF( AND( WEEKDAY($C361,2)=1,YEAR($C361)=$N$3, NOT(evenWeek($C361)), $C361<= $F$352), (($F$352 + 1) - $C361 ) /14, 0)","v":0},{"$f":"IF( AND( WEEKDAY($C361,2)=2,YEAR($C361)=$N$3, evenWeek($C361), $C361<=$F$352), (($F$352 + 1) - $C361 ) / 14, 0)","v":0},{"$f":"IF( AND( WEEKDAY($C361,2)=2,YEAR($C361)=$N$3, NOT(evenWeek($C361)), $C361<= $F$352), (($F$352 + 1) - $C361 ) /14, 0)","v":0},{"$f":"IF( AND( WEEKDAY($C361,2)=3,YEAR($C361)=$N$3, evenWeek($C361), $C361<=$F$352), (($F$352 + 1) - $C361 ) / 14, 0)","v":0},{"$f":"IF( AND( WEEKDAY($C361,2)=3,YEAR($C361)=$N$3, NOT(evenWeek($C361)), $C361<= $F$352), (($F$352 + 1) - $C361 ) /14, 0)","v":0},{"$f":"IF( AND( WEEKDAY($C361,2)=4,YEAR($C361)=$N$3, evenWeek($C361), $C361<=$F$352), (($F$352 + 1) - $C361 ) / 14, 0)","v":0},{"$f":"IF( AND( WEEKDAY($C361,2)=4,YEAR($C361)=$N$3, NOT(evenWeek($C361)), $C361<= $F$352), (($F$352 + 1) - $C361 ) /14, 0)","v":0},{"$f":"IF( AND( WEEKDAY($C361,2)=5,YEAR($C361)=$N$3, evenWeek($C361), $C361<=$F$352), (($F$352 + 1) - $C361 ) / 14, 0)","v":0},{"$f":"IF( AND( WEEKDAY($C361,2)=5,YEAR($C361)=$N$3, NOT(evenWeek($C361)), $C361<= $F$352), (($F$352 + 1) - $C361 ) /14, 0)","v":0},{"$f":"IF( AND( WEEKDAY($C361,2)=6,YEAR($C361)=$N$3, evenWeek($C361), $C361<=$F$352), (($F$352 + 1) - $C361 ) / 14, 0)","v":0},{"$f":"IF( AND( WEEKDAY($C361,2)=6,YEAR($C361)=$N$3, NOT(evenWeek($C361)), $C361<= $F$352), (($F$352 + 1) - $C361 ) /14, 0)","v":0},{"$f":"IF( AND( WEEKDAY($C361,2)=7,YEAR($C361)=$N$3, evenWeek($C361), $C361<=$F$352), (($F$352 + 1) - $C361 ) / 14, 0)","v":0},{"$f":"IF( AND( WEEKDAY($C361,2)=7,YEAR($C361)=$N$3, NOT(evenWeek($C361)), $C361<= $F$352), (($F$352 + 1) - $C361 ) /14, 0)","v":0}]
[null,null,"1904-01-07",{"$f":"IF( AND( WEEKDAY($C362,2)=1,YEAR($C362)=$N$3, evenWeek($C362), $C362<=$F$352), (($F$352 + 1) - $C362 ) / 14, 0)","v":0},{"$f":"IF( AND( WEEKDAY($C362,2)=1,YEAR($C362)=$N$3, NOT(evenWeek($C362)), $C362<= $F$352), (($F$352 + 1) - $C362 ) /14, 0)","v":0},{"$f":"IF( AND( WEEKDAY($C362,2)=2,YEAR($C362)=$N$3, evenWeek($C362), $C362<=$F$352), (($F$352 + 1) - $C362 ) / 14, 0)","v":0},{"$f":"IF( AND( WEEKDAY($C362,2)=2,YEAR($C362)=$N$3, NOT(evenWeek($C362)), $C362<= $F$352), (($F$352 + 1) - $C362 ) /14, 0)","v":0},{"$f":"IF( AND( WEEKDAY($C362,2)=3,YEAR($C362)=$N$3, evenWeek($C362), $C362<=$F$352), (($F$352 + 1) - $C362 ) / 14, 0)","v":0},{"$f":"IF( AND( WEEKDAY($C362,2)=3,YEAR($C362)=$N$3, NOT(evenWeek($C362)), $C362<= $F$352), (($F$352 + 1) - $C362 ) /14, 0)","v":0},{"$f":"IF( AND( WEEKDAY($C362,2)=4,YEAR($C362)=$N$3, evenWeek($C362), $C362<=$F$352), (($F$352 + 1) - $C362 ) / 14, 0)","v":0},{"$f":"IF( AND( WEEKDAY($C362,2)=4,YEAR($C362)=$N$3, NOT(evenWeek($C362)), $C362<= $F$352), (($F$352 + 1) - $C362 ) /14, 0)","v":0},{"$f":"IF( AND( WEEKDAY($C362,2)=5,YEAR($C362)=$N$3, evenWeek($C362), $C362<=$F$352), (($F$352 + 1) - $C362 ) / 14, 0)","v":0},{"$f":"IF( AND( WEEKDAY($C362,2)=5,YEAR($C362)=$N$3, NOT(evenWeek($C362)), $C362<= $F$352), (($F$352 + 1) - $C362 ) /14, 0)","v":0},{"$f":"IF( AND( WEEKDAY($C362,2)=6,YEAR($C362)=$N$3, evenWeek($C362), $C362<=$F$352), (($F$352 + 1) - $C362 ) / 14, 0)","v":0},{"$f":"IF( AND( WEEKDAY($C362,2)=6,YEAR($C362)=$N$3, NOT(evenWeek($C362)), $C362<= $F$352), (($F$352 + 1) - $C362 ) /14, 0)","v":0},{"$f":"IF( AND( WEEKDAY($C362,2)=7,YEAR($C362)=$N$3, evenWeek($C362), $C362<=$F$352), (($F$352 + 1) - $C362 ) / 14, 0)","v":0},{"$f":"IF( AND( WEEKDAY($C362,2)=7,YEAR($C362)=$N$3, NOT(evenWeek($C362)), $C362<= $F$352), (($F$352 + 1) - $C362 ) /14, 0)","v":0}]
[null,null,"1904-01-08",{"$f":"IF( AND( WEEKDAY($C363,2)=1,YEAR($C363)=$N$3, evenWeek($C363), $C363<=$F$352), (($F$352 + 1) - $C363 ) / 14, 0)","v":0},{"$f":"IF( AND( WEEKDAY($C363,2)=1,YEAR($C363)=$N$3, NOT(evenWeek($C363)), $C363<= $F$352), (($F$352 + 1) - $C363 ) /14, 0)","v":0},{"$f":"IF( AND( WEEKDAY($C363,2)=2,YEAR($C363)=$N$3, evenWeek($C363), $C363<=$F$352), (($F$352 + 1) - $C363 ) / 14, 0)","v":0},{"$f":"IF( AND( WEEKDAY($C363,2)=2,YEAR($C363)=$N$3, NOT(evenWeek($C363)), $C363<= $F$352), (($F$352 + 1) - $C363 ) /14, 0)","v":0},{"$f":"IF( AND( WEEKDAY($C363,2)=3,YEAR($C363)=$N$3, evenWeek($C363), $C363<=$F$352), (($F$352 + 1) - $C363 ) / 14, 0)","v":0},{"$f":"IF( AND( WEEKDAY($C363,2)=3,YEAR($C363)=$N$3, NOT(evenWeek($C363)), $C363<= $F$352), (($F$352 + 1) - $C363 ) /14, 0)","v":0},{"$f":"IF( AND( WEEKDAY($C363,2)=4,YEAR($C363)=$N$3, evenWeek($C363), $C363<=$F$352), (($F$352 + 1) - $C363 ) / 14, 0)","v":0},{"$f":"IF( AND( WEEKDAY($C363,2)=4,YEAR($C363)=$N$3, NOT(evenWeek($C363)), $C363<= $F$352), (($F$352 + 1) - $C363 ) /14, 0)","v":0},{"$f":"IF( AND( WEEKDAY($C363,2)=5,YEAR($C363)=$N$3, evenWeek($C363), $C363<=$F$352), (($F$352 + 1) - $C363 ) / 14, 0)","v":0},{"$f":"IF( AND( WEEKDAY($C363,2)=5,YEAR($C363)=$N$3, NOT(evenWeek($C363)), $C363<= $F$352), (($F$352 + 1) - $C363 ) /14, 0)","v":0},{"$f":"IF( AND( WEEKDAY($C363,2)=6,YEAR($C363)=$N$3, evenWeek($C363), $C363<=$F$352), (($F$352 + 1) - $C363 ) / 14, 0)","v":0},{"$f":"IF( AND( WEEKDAY($C363,2)=6,YEAR($C363)=$N$3, NOT(evenWeek($C363)), $C363<= $F$352), (($F$352 + 1) - $C363 ) /14, 0)","v":0},{"$f":"IF( AND( WEEKDAY($C363,2)=7,YEAR($C363)=$N$3, evenWeek($C363), $C363<=$F$352), (($F$352 + 1) - $C363 ) / 14, 0)","v":0},{"$f":"IF( AND( WEEKDAY($C363,2)=7,YEAR($C363)=$N$3, NOT(evenWeek($C363)), $C363<= $F$352), (($F$352 + 1) - $C363 ) /14, 0)","v":0}]
[null,null,"1904-01-09",{"$f":"IF( AND( WEEKDAY($C364,2)=1,YEAR($C364)=$N$3, evenWeek($C364), $C364<=$F$352), (($F$352 + 1) - $C364 ) / 14, 0)","v":0},{"$f":"IF( AND( WEEKDAY($C364,2)=1,YEAR($C364)=$N$3, NOT(evenWeek($C364)), $C364<= $F$352), (($F$352 + 1) - $C364 ) /14, 0)","v":0},{"$f":"IF( AND( WEEKDAY($C364,2)=2,YEAR($C364)=$N$3, evenWeek($C364), $C364<=$F$352), (($F$352 + 1) - $C364 ) / 14, 0)","v":0},{"$f":"IF( AND( WEEKDAY($C364,2)=2,YEAR($C364)=$N$3, NOT(evenWeek($C364)), $C364<= $F$352), (($F$352 + 1) - $C364 ) /14, 0)","v":0},{"$f":"IF( AND( WEEKDAY($C364,2)=3,YEAR($C364)=$N$3, evenWeek($C364), $C364<=$F$352), (($F$352 + 1) - $C364 ) / 14, 0)","v":0},{"$f":"IF( AND( WEEKDAY($C364,2)=3,YEAR($C364)=$N$3, NOT(evenWeek($C364)), $C364<= $F$352), (($F$352 + 1) - $C364 ) /14, 0)","v":0},{"$f":"IF( AND( WEEKDAY($C364,2)=4,YEAR($C364)=$N$3, evenWeek($C364), $C364<=$F$352), (($F$352 + 1) - $C364 ) / 14, 0)","v":0},{"$f":"IF( AND( WEEKDAY($C364,2)=4,YEAR($C364)=$N$3, NOT(evenWeek($C364)), $C364<= $F$352), (($F$352 + 1) - $C364 ) /14, 0)","v":0},{"$f":"IF( AND( WEEKDAY($C364,2)=5,YEAR($C364)=$N$3, evenWeek($C364), $C364<=$F$352), (($F$352 + 1) - $C364 ) / 14, 0)","v":0},{"$f":"IF( AND( WEEKDAY($C364,2)=5,YEAR($C364)=$N$3, NOT(evenWeek($C364)), $C364<= $F$352), (($F$352 + 1) - $C364 ) /14, 0)","v":0},{"$f":"IF( AND( WEEKDAY($C364,2)=6,YEAR($C364)=$N$3, evenWeek($C364), $C364<=$F$352), (($F$352 + 1) - $C364 ) / 14, 0)","v":0},{"$f":"IF( AND( WEEKDAY($C364,2)=6,YEAR($C364)=$N$3, NOT(evenWeek($C364)), $C364<= $F$352), (($F$352 + 1) - $C364 ) /14, 0)","v":0},{"$f":"IF( AND( WEEKDAY($C364,2)=7,YEAR($C364)=$N$3, evenWeek($C364), $C364<=$F$352), (($F$352 + 1) - $C364 ) / 14, 0)","v":0},{"$f":"IF( AND( WEEKDAY($C364,2)=7,YEAR($C364)=$N$3, NOT(evenWeek($C364)), $C364<= $F$352), (($F$352 + 1) - $C364 ) /14, 0)","v":0}]
[null,null,"1904-01-10",{"$f":"IF( AND( WEEKDAY($C365,2)=1,YEAR($C365)=$N$3, evenWeek($C365), $C365<=$F$352), (($F$352 + 1) - $C365 ) / 14, 0)","v":0},{"$f":"IF( AND( WEEKDAY($C365,2)=1,YEAR($C365)=$N$3, NOT(evenWeek($C365)), $C365<= $F$352), (($F$352 + 1) - $C365 ) /14, 0)","v":0},{"$f":"IF( AND( WEEKDAY($C365,2)=2,YEAR($C365)=$N$3, evenWeek($C365), $C365<=$F$352), (($F$352 + 1) - $C365 ) / 14, 0)","v":0},{"$f":"IF( AND( WEEKDAY($C365,2)=2,YEAR($C365)=$N$3, NOT(evenWeek($C365)), $C365<= $F$352), (($F$352 + 1) - $C365 ) /14, 0)","v":0},{"$f":"IF( AND( WEEKDAY($C365,2)=3,YEAR($C365)=$N$3, evenWeek($C365), $C365<=$F$352), (($F$352 + 1) - $C365 ) / 14, 0)","v":0},{"$f":"IF( AND( WEEKDAY($C365,2)=3,YEAR($C365)=$N$3, NOT(evenWeek($C365)), $C365<= $F$352), (($F$352 + 1) - $C365 ) /14, 0)","v":0},{"$f":"IF( AND( WEEKDAY($C365,2)=4,YEAR($C365)=$N$3, evenWeek($C365), $C365<=$F$352), (($F$352 + 1) - $C365 ) / 14, 0)","v":0},{"$f":"IF( AND( WEEKDAY($C365,2)=4,YEAR($C365)=$N$3, NOT(evenWeek($C365)), $C365<= $F$352), (($F$352 + 1) - $C365 ) /14, 0)","v":0},{"$f":"IF( AND( WEEKDAY($C365,2)=5,YEAR($C365)=$N$3, evenWeek($C365), $C365<=$F$352), (($F$352 + 1) - $C365 ) / 14, 0)","v":0},{"$f":"IF( AND( WEEKDAY($C365,2)=5,YEAR($C365)=$N$3, NOT(evenWeek($C365)), $C365<= $F$352), (($F$352 + 1) - $C365 ) /14, 0)","v":0},{"$f":"IF( AND( WEEKDAY($C365,2)=6,YEAR($C365)=$N$3, evenWeek($C365), $C365<=$F$352), (($F$352 + 1) - $C365 ) / 14, 0)","v":0},{"$f":"IF( AND( WEEKDAY($C365,2)=6,YEAR($C365)=$N$3, NOT(evenWeek($C365)), $C365<= $F$352), (($F$352 + 1) - $C365 ) /14, 0)","v":0},{"$f":"IF( AND( WEEKDAY($C365,2)=7,YEAR($C365)=$N$3, evenWeek($C365), $C365<=$F$352), (($F$352 + 1) - $C365 ) / 14, 0)","v":0},{"$f":"IF( AND( WEEKDAY($C365,2)=7,YEAR($C365)=$N$3, NOT(evenWeek($C365)), $C365<= $F$352), (($F$352 + 1) - $C365 ) /14, 0)","v":0}]
[null,null,{"$f":"C365+1","v":"1904-01-11"},{"$f":"IF( AND( WEEKDAY($C366,2)=1,YEAR($C366)=$N$3, evenWeek($C366), $C366<=$F$352), (($F$352 + 1) - $C366 ) / 14, 0)","v":0},{"$f":"IF( AND( WEEKDAY($C366,2)=1,YEAR($C366)=$N$3, NOT(evenWeek($C366)), $C366<= $F$352), (($F$352 + 1) - $C366 ) /14, 0)","v":0},{"$f":"IF( AND( WEEKDAY($C366,2)=2,YEAR($C366)=$N$3, evenWeek($C366), $C366<=$F$352), (($F$352 + 1) - $C366 ) / 14, 0)","v":0},{"$f":"IF( AND( WEEKDAY($C366,2)=2,YEAR($C366)=$N$3, NOT(evenWeek($C366)), $C366<= $F$352), (($F$352 + 1) - $C366 ) /14, 0)","v":0},{"$f":"IF( AND( WEEKDAY($C366,2)=3,YEAR($C366)=$N$3, evenWeek($C366), $C366<=$F$352), (($F$352 + 1) - $C366 ) / 14, 0)","v":0},{"$f":"IF( AND( WEEKDAY($C366,2)=3,YEAR($C366)=$N$3, NOT(evenWeek($C366)), $C366<= $F$352), (($F$352 + 1) - $C366 ) /14, 0)","v":0},{"$f":"IF( AND( WEEKDAY($C366,2)=4,YEAR($C366)=$N$3, evenWeek($C366), $C366<=$F$352), (($F$352 + 1) - $C366 ) / 14, 0)","v":0},{"$f":"IF( AND( WEEKDAY($C366,2)=4,YEAR($C366)=$N$3, NOT(evenWeek($C366)), $C366<= $F$352), (($F$352 + 1) - $C366 ) /14, 0)","v":0},{"$f":"IF( AND( WEEKDAY($C366,2)=5,YEAR($C366)=$N$3, evenWeek($C366), $C366<=$F$352), (($F$352 + 1) - $C366 ) / 14, 0)","v":0},{"$f":"IF( AND( WEEKDAY($C366,2)=5,YEAR($C366)=$N$3, NOT(evenWeek($C366)), $C366<= $F$352), (($F$352 + 1) - $C366 ) /14, 0)","v":0},{"$f":"IF( AND( WEEKDAY($C366,2)=6,YEAR($C366)=$N$3, evenWeek($C366), $C366<=$F$352), (($F$352 + 1) - $C366 ) / 14, 0)","v":0},{"$f":"IF( AND( WEEKDAY($C366,2)=6,YEAR($C366)=$N$3, NOT(evenWeek($C366)), $C366<= $F$352), (($F$352 + 1) - $C366 ) /14, 0)","v":0},{"$f":"IF( AND( WEEKDAY($C366,2)=7,YEAR($C366)=$N$3, evenWeek($C366), $C366<=$F$352), (($F$352 + 1) - $C366 ) / 14, 0)","v":0},{"$f":"IF( AND( WEEKDAY($C366,2)=7,YEAR($C366)=$N$3, NOT(evenWeek($C366)), $C366<= $F$352), (($F$352 + 1) - $C366 ) /14, 0)","v":0}]
[null,null,"1904-01-12",{"$f":"IF( AND( WEEKDAY($C367,2)=1,YEAR($C367)=$N$3, evenWeek($C367), $C367<=$F$352), (($F$352 + 1) - $C367 ) / 14, 0)","v":0},{"$f":"IF( AND( WEEKDAY($C367,2)=1,YEAR($C367)=$N$3, NOT(evenWeek($C367)), $C367<= $F$352), (($F$352 + 1) - $C367 ) /14, 0)","v":0},{"$f":"IF( AND( WEEKDAY($C367,2)=2,YEAR($C367)=$N$3, evenWeek($C367), $C367<=$F$352), (($F$352 + 1) - $C367 ) / 14, 0)","v":0},{"$f":"IF( AND( WEEKDAY($C367,2)=2,YEAR($C367)=$N$3, NOT(evenWeek($C367)), $C367<= $F$352), (($F$352 + 1) - $C367 ) /14, 0)","v":0},{"$f":"IF( AND( WEEKDAY($C367,2)=3,YEAR($C367)=$N$3, evenWeek($C367), $C367<=$F$352), (($F$352 + 1) - $C367 ) / 14, 0)","v":0},{"$f":"IF( AND( WEEKDAY($C367,2)=3,YEAR($C367)=$N$3, NOT(evenWeek($C367)), $C367<= $F$352), (($F$352 + 1) - $C367 ) /14, 0)","v":0},{"$f":"IF( AND( WEEKDAY($C367,2)=4,YEAR($C367)=$N$3, evenWeek($C367), $C367<=$F$352), (($F$352 + 1) - $C367 ) / 14, 0)","v":0},{"$f":"IF( AND( WEEKDAY($C367,2)=4,YEAR($C367)=$N$3, NOT(evenWeek($C367)), $C367<= $F$352), (($F$352 + 1) - $C367 ) /14, 0)","v":0},{"$f":"IF( AND( WEEKDAY($C367,2)=5,YEAR($C367)=$N$3, evenWeek($C367), $C367<=$F$352), (($F$352 + 1) - $C367 ) / 14, 0)","v":0},{"$f":"IF( AND( WEEKDAY($C367,2)=5,YEAR($C367)=$N$3, NOT(evenWeek($C367)), $C367<= $F$352), (($F$352 + 1) - $C367 ) /14, 0)","v":0},{"$f":"IF( AND( WEEKDAY($C367,2)=6,YEAR($C367)=$N$3, evenWeek($C367), $C367<=$F$352), (($F$352 + 1) - $C367 ) / 14, 0)","v":0},{"$f":"IF( AND( WEEKDAY($C367,2)=6,YEAR($C367)=$N$3, NOT(evenWeek($C367)), $C367<= $F$352), (($F$352 + 1) - $C367 ) /14, 0)","v":0},{"$f":"IF( AND( WEEKDAY($C367,2)=7,YEAR($C367)=$N$3, evenWeek($C367), $C367<=$F$352), (($F$352 + 1) - $C367 ) / 14, 0)","v":0},{"$f":"IF( AND( WEEKDAY($C367,2)=7,YEAR($C367)=$N$3, NOT(evenWeek($C367)), $C367<= $F$352), (($F$352 + 1) - $C367 ) /14, 0)","v":0}]
[null,null,"1904-01-13",{"$f":"IF( AND( WEEKDAY($C368,2)=1,YEAR($C368)=$N$3, evenWeek($C368), $C368<=$F$352), (($F$352 + 1) - $C368 ) / 14, 0)","v":0},{"$f":"IF( AND( WEEKDAY($C368,2)=1,YEAR($C368)=$N$3, NOT(evenWeek($C368)), $C368<= $F$352), (($F$352 + 1) - $C368 ) /14, 0)","v":0},{"$f":"IF( AND( WEEKDAY($C368,2)=2,YEAR($C368)=$N$3, evenWeek($C368), $C368<=$F$352), (($F$352 + 1) - $C368 ) / 14, 0)","v":0},{"$f":"IF( AND( WEEKDAY($C368,2)=2,YEAR($C368)=$N$3, NOT(evenWeek($C368)), $C368<= $F$352), (($F$352 + 1) - $C368 ) /14, 0)","v":0},{"$f":"IF( AND( WEEKDAY($C368,2)=3,YEAR($C368)=$N$3, evenWeek($C368), $C368<=$F$352), (($F$352 + 1) - $C368 ) / 14, 0)","v":0},{"$f":"IF( AND( WEEKDAY($C368,2)=3,YEAR($C368)=$N$3, NOT(evenWeek($C368)), $C368<= $F$352), (($F$352 + 1) - $C368 ) /14, 0)","v":0},{"$f":"IF( AND( WEEKDAY($C368,2)=4,YEAR($C368)=$N$3, evenWeek($C368), $C368<=$F$352), (($F$352 + 1) - $C368 ) / 14, 0)","v":0},{"$f":"IF( AND( WEEKDAY($C368,2)=4,YEAR($C368)=$N$3, NOT(evenWeek($C368)), $C368<= $F$352), (($F$352 + 1) - $C368 ) /14, 0)","v":0},{"$f":"IF( AND( WEEKDAY($C368,2)=5,YEAR($C368)=$N$3, evenWeek($C368), $C368<=$F$352), (($F$352 + 1) - $C368 ) / 14, 0)","v":0},{"$f":"IF( AND( WEEKDAY($C368,2)=5,YEAR($C368)=$N$3, NOT(evenWeek($C368)), $C368<= $F$352), (($F$352 + 1) - $C368 ) /14, 0)","v":0},{"$f":"IF( AND( WEEKDAY($C368,2)=6,YEAR($C368)=$N$3, evenWeek($C368), $C368<=$F$352), (($F$352 + 1) - $C368 ) / 14, 0)","v":0},{"$f":"IF( AND( WEEKDAY($C368,2)=6,YEAR($C368)=$N$3, NOT(evenWeek($C368)), $C368<= $F$352), (($F$352 + 1) - $C368 ) /14, 0)","v":0},{"$f":"IF( AND( WEEKDAY($C368,2)=7,YEAR($C368)=$N$3, evenWeek($C368), $C368<=$F$352), (($F$352 + 1) - $C368 ) / 14, 0)","v":0},{"$f":"IF( AND( WEEKDAY($C368,2)=7,YEAR($C368)=$N$3, NOT(evenWeek($C368)), $C368<= $F$352), (($F$352 + 1) - $C368 ) /14, 0)","v":0}]
[null,null,{"$f":"C368+1","v":"1904-01-14"},{"$f":"IF( AND( WEEKDAY($C369,2)=1,YEAR($C369)=$N$3, evenWeek($C369), $C369<=$F$352), (($F$352 + 1) - $C369 ) / 14, 0)","v":0},{"$f":"IF( AND( WEEKDAY($C369,2)=1,YEAR($C369)=$N$3, NOT(evenWeek($C369)), $C369<= $F$352), (($F$352 + 1) - $C369 ) /14, 0)","v":0},{"$f":"IF( AND( WEEKDAY($C369,2)=2,YEAR($C369)=$N$3, evenWeek($C369), $C369<=$F$352), (($F$352 + 1) - $C369 ) / 14, 0)","v":0},{"$f":"IF( AND( WEEKDAY($C369,2)=2,YEAR($C369)=$N$3, NOT(evenWeek($C369)), $C369<= $F$352), (($F$352 + 1) - $C369 ) /14, 0)","v":0},{"$f":"IF( AND( WEEKDAY($C369,2)=3,YEAR($C369)=$N$3, evenWeek($C369), $C369<=$F$352), (($F$352 + 1) - $C369 ) / 14, 0)","v":0},{"$f":"IF( AND( WEEKDAY($C369,2)=3,YEAR($C369)=$N$3, NOT(evenWeek($C369)), $C369<= $F$352), (($F$352 + 1) - $C369 ) /14, 0)","v":0},{"$f":"IF( AND( WEEKDAY($C369,2)=4,YEAR($C369)=$N$3, evenWeek($C369), $C369<=$F$352), (($F$352 + 1) - $C369 ) / 14, 0)","v":0},{"$f":"IF( AND( WEEKDAY($C369,2)=4,YEAR($C369)=$N$3, NOT(evenWeek($C369)), $C369<= $F$352), (($F$352 + 1) - $C369 ) /14, 0)","v":0},{"$f":"IF( AND( WEEKDAY($C369,2)=5,YEAR($C369)=$N$3, evenWeek($C369), $C369<=$F$352), (($F$352 + 1) - $C369 ) / 14, 0)","v":0},{"$f":"IF( AND( WEEKDAY($C369,2)=5,YEAR($C369)=$N$3, NOT(evenWeek($C369)), $C369<= $F$352), (($F$352 + 1) - $C369 ) /14, 0)","v":0},{"$f":"IF( AND( WEEKDAY($C369,2)=6,YEAR($C369)=$N$3, evenWeek($C369), $C369<=$F$352), (($F$352 + 1) - $C369 ) / 14, 0)","v":0},{"$f":"IF( AND( WEEKDAY($C369,2)=6,YEAR($C369)=$N$3, NOT(evenWeek($C369)), $C369<= $F$352), (($F$352 + 1) - $C369 ) /14, 0)","v":0},{"$f":"IF( AND( WEEKDAY($C369,2)=7,YEAR($C369)=$N$3, evenWeek($C369), $C369<=$F$352), (($F$352 + 1) - $C369 ) / 14, 0)","v":0},{"$f":"IF( AND( WEEKDAY($C369,2)=7,YEAR($C369)=$N$3, NOT(evenWeek($C369)), $C369<= $F$352), (($F$352 + 1) - $C369 ) /14, 0)","v":0}]
[null,null,"# dagen: ",{"$f":"ROUNDUP(SUM(D356:D369),0)","v":0},0,0,0,0,0,0,0,0,0,{"$f":"ROUNDUP(SUM(N356:N369),0)","v":0},{"$f":"ROUNDUP(SUM(O356:O369),0)","v":0},{"$f":"ROUNDUP(SUM(P356:P369),0)","v":0},{"$f":"ROUNDUP(SUM(Q356:Q369),0)","v":0}]
[]
[]
[null,null,"NCF dagen","ma even","ma oneven","di even","di oneven","wo even","wo oneven","do even","do oneven","vr even","vr oneven","za even","za oneven","zo even","zo oneven","totaal"]
[null,{"$f":"#REF!","v":{"$error":"#REF!"}},{"$f":"#REF!","v":{"$error":"#REF!"}},{"$f":"IF( AND($C374>($D$352-1),$C374<($F$352+1),WEEKDAY($C374,2)=1, evenWeek($C374) ),-1,\"\")","v":{"$error":"#REF!"}},{"$f":"IF( AND($C374>($D$352-1),$C374<($F$352+1),WEEKDAY($C374,2)=1, NOT(evenWeek($C374)) ),-1,\"\")","v":{"$error":"#REF!"}},{"$f":"IF( AND($C374>($D$352-1),$C374<($F$352+1),WEEKDAY($C374,2)=2, evenWeek($C374) ),-1,\"\")","v":{"$error":"#REF!"}},{"$f":"IF( AND($C374>($D$352-1),$C374<($F$352+1),WEEKDAY($C374,2)=2, NOT(evenWeek($C374)) ),-1,\"\")","v":{"$error":"#REF!"}},{"$f":"IF( AND($C374>($D$352-1),$C374<($F$352+1),WEEKDAY($C374,2)=3, evenWeek($C374) ),-1,\"\")","v":{"$error":"#REF!"}},{"$f":"IF( AND($C374>($D$352-1),$C374<($F$352+1),WEEKDAY($C374,2)=3, NOT(evenWeek($C374)) ),-1,\"\")","v":{"$error":"#REF!"}},{"$f":"IF( AND($C374>($D$352-1),$C374<($F$352+1),WEEKDAY($C374,2)=4, evenWeek($C374) ),-1,\"\")","v":{"$error":"#REF!"}},{"$f":"IF( AND($C374>($D$352-1),$C374<($F$352+1),WEEKDAY($C374,2)=4, NOT(evenWeek($C374)) ),-1,\"\")","v":{"$error":"#REF!"}},{"$f":"IF( AND($C374>($D$352-1),$C374<($F$352+1),WEEKDAY($C374,2)=5, evenWeek($C374) ),-1,\"\")","v":{"$error":"#REF!"}},{"$f":"IF( AND($C374>($D$352-1),$C374<($F$352+1),WEEKDAY($C374,2)=5, NOT(evenWeek($C374)) ),-1,\"\")","v":{"$error":"#REF!"}},{"$f":"IF( AND($C374>($D$352-1),$C374<($F$352+1),WEEKDAY($C374,2)=6, evenWeek($C374) ),-1,\"\")","v":{"$error":"#REF!"}},{"$f":"IF( AND($C374>($D$352-1),$C374<($F$352+1),WEEKDAY($C374,2)=6, NOT(evenWeek($C374)) ),-1,\"\")","v":{"$error":"#REF!"}},{"$f":"IF( AND($C374>($D$352-1),$C374<($F$352+1),WEEKDAY($C374,2)=7, evenWeek($C374) ),-1,\"\")","v":{"$error":"#REF!"}},{"$f":"IF( AND($C374>($D$352-1),$C374<($F$352+1),WEEKDAY($C374,2)=7, NOT(evenWeek($C374)) ),-1,\"\")","v":{"$error":"#REF!"}}]
[null,{"$f":"#REF!","v":{"$error":"#REF!"}},{"$f":"#REF!","v":{"$error":"#REF!"}},null,null,null,null,null,null,null,null,{"$f":"IF( AND($C375>($D$352-1),$C375<($F$352+1), evenWeek($C375) ),-1,\"\")","v":{"$error":"#REF!"}},{"$f":"IF( AND($C375>($D$352-1),$C375<($F$352+1), NOT(evenWeek($C375))),-1,\"\")","v":{"$error":"#REF!"}}]
[null,{"$f":"#REF!","v":{"$error":"#REF!"}},{"$f":"#REF!","v":{"$error":"#REF!"}},{"$f":"IF( AND($C376>($D$352-1),$C376<($F$352+1), evenWeek($C376) ),-1,\"\")","v":{"$error":"#REF!"}},{"$f":"IF( AND($C376>($D$352-1),$C376<($F$352+1), NOT(evenWeek($C376))),-1,\"\")","v":{"$error":"#REF!"}}]
[null,{"$f":"#REF!","v":{"$error":"#REF!"}},{"$f":"#REF!","v":{"$error":"#REF!"}},{"$f":"IF( AND($C377>($D$352-1),$C377<($F$352+1),WEEKDAY($C377,2)=1, evenWeek($C377) ),-1,\"\")","v":{"$error":"#REF!"}},{"$f":"IF( AND($C377>($D$352-1),$C377<($F$352+1),WEEKDAY($C377,2)=1, NOT(evenWeek($C377)) ),-1,\"\")","v":{"$error":"#REF!"}},{"$f":"IF( AND($C377>($D$352-1),$C377<($F$352+1),WEEKDAY($C377,2)=2, evenWeek($C377) ),-1,\"\")","v":{"$error":"#REF!"}},{"$f":"IF( AND($C377>($D$352-1),$C377<($F$352+1),WEEKDAY($C377,2)=2, NOT(evenWeek($C377)) ),-1,\"\")","v":{"$error":"#REF!"}},{"$f":"IF( AND($C377>($D$352-1),$C377<($F$352+1),WEEKDAY($C377,2)=3, evenWeek($C377) ),-1,\"\")","v":{"$error":"#REF!"}},{"$f":"IF( AND($C377>($D$352-1),$C377<($F$352+1),WEEKDAY($C377,2)=3, NOT(evenWeek($C377)) ),-1,\"\")","v":{"$error":"#REF!"}},{"$f":"IF( AND($C377>($D$352-1),$C377<($F$352+1),WEEKDAY($C377,2)=4, evenWeek($C377) ),-1,\"\")","v":{"$error":"#REF!"}},{"$f":"IF( AND($C377>($D$352-1),$C377<($F$352+1),WEEKDAY($C377,2)=4, NOT(evenWeek($C377)) ),-1,\"\")","v":{"$error":"#REF!"}},{"$f":"IF( AND($C377>($D$352-1),$C377<($F$352+1),WEEKDAY($C377,2)=5, evenWeek($C377) ),-1,\"\")","v":{"$error":"#REF!"}},{"$f":"IF( AND($C377>($D$352-1),$C377<($F$352+1),WEEKDAY($C377,2)=5, NOT(evenWeek($C377)) ),-1,\"\")","v":{"$error":"#REF!"}},{"$f":"IF( AND($C377>($D$352-1),$C377<($F$352+1),WEEKDAY($C377,2)=6, evenWeek($C377) ),-1,\"\")","v":{"$error":"#REF!"}},{"$f":"IF( AND($C377>($D$352-1),$C377<($F$352+1),WEEKDAY($C377,2)=6, NOT(evenWeek($C377)) ),-1,\"\")","v":{"$error":"#REF!"}},{"$f":"IF( AND($C377>($D$352-1),$C377<($F$352+1),WEEKDAY($C377,2)=7, evenWeek($C377) ),-1,\"\")","v":{"$error":"#REF!"}},{"$f":"IF( AND($C377>($D$352-1),$C377<($F$352+1),WEEKDAY($C377,2)=7, NOT(evenWeek($C377)) ),-1,\"\")","v":{"$error":"#REF!"}}]
[null,{"$f":"#REF!","v":{"$error":"#REF!"}},{"$f":"#REF!","v":{"$error":"#REF!"}},{"$f":"IF( AND($C378>($D$352-1),$C378<($F$352+1),WEEKDAY($C378,2)=1, evenWeek($C378) ),-1,\"\")","v":{"$error":"#REF!"}},{"$f":"IF( AND($C378>($D$352-1),$C378<($F$352+1),WEEKDAY($C378,2)=1, NOT(evenWeek($C378)) ),-1,\"\")","v":{"$error":"#REF!"}},{"$f":"IF( AND($C378>($D$352-1),$C378<($F$352+1),WEEKDAY($C378,2)=2, evenWeek($C378) ),-1,\"\")","v":{"$error":"#REF!"}},{"$f":"IF( AND($C378>($D$352-1),$C378<($F$352+1),WEEKDAY($C378,2)=2, NOT(evenWeek($C378)) ),-1,\"\")","v":{"$error":"#REF!"}},{"$f":"IF( AND($C378>($D$352-1),$C378<($F$352+1),WEEKDAY($C378,2)=3, evenWeek($C378) ),-1,\"\")","v":{"$error":"#REF!"}},{"$f":"IF( AND($C378>($D$352-1),$C378<($F$352+1),WEEKDAY($C378,2)=3, NOT(evenWeek($C378)) ),-1,\"\")","v":{"$error":"#REF!"}},{"$f":"IF( AND($C378>($D$352-1),$C378<($F$352+1),WEEKDAY($C378,2)=4, evenWeek($C378) ),-1,\"\")","v":{"$error":"#REF!"}},{"$f":"IF( AND($C378>($D$352-1),$C378<($F$352+1),WEEKDAY($C378,2)=4, NOT(evenWeek($C378)) ),-1,\"\")","v":{"$error":"#REF!"}},{"$f":"IF( AND($C378>($D$352-1),$C378<($F$352+1),WEEKDAY($C378,2)=5, evenWeek($C378) ),-1,\"\")","v":{"$error":"#REF!"}},{"$f":"IF( AND($C378>($D$352-1),$C378<($F$352+1),WEEKDAY($C378,2)=5, NOT(evenWeek($C378)) ),-1,\"\")","v":{"$error":"#REF!"}},{"$f":"IF( AND($C378>($D$352-1),$C378<($F$352+1),WEEKDAY($C378,2)=6, evenWeek($C378) ),-1,\"\")","v":{"$error":"#REF!"}},{"$f":"IF( AND($C378>($D$352-1),$C378<($F$352+1),WEEKDAY($C378,2)=6, NOT(evenWeek($C378)) ),-1,\"\")","v":{"$error":"#REF!"}},{"$f":"IF( AND($C378>($D$352-1),$C378<($F$352+1),WEEKDAY($C378,2)=7, evenWeek($C378) ),-1,\"\")","v":{"$error":"#REF!"}},{"$f":"IF( AND($C378>($D$352-1),$C378<($F$352+1),WEEKDAY($C378,2)=7, NOT(evenWeek($C378)) ),-1,\"\")","v":{"$error":"#REF!"}}]
[null,{"$f":"#REF!","v":{"$error":"#REF!"}},{"$f":"#REF!","v":{"$error":"#REF!"}},null,null,null,null,null,null,{"$f":"IF( AND($C379>($D$352-1),$C379<($F$352+1), evenWeek($C379) ),-1,\"\")","v":{"$error":"#REF!"}},{"$f":"IF( AND($C379>($D$352-1),$C379<($F$352+1), NOT(evenWeek($C379))),-1,\"\")","v":{"$error":"#REF!"}}]
[null,{"$f":"#REF!","v":{"$error":"#REF!"}},{"$f":"#REF!","v":{"$error":"#REF!"}},{"$f":"IF( AND($C380>($D$352-1),$C380<($F$352+1), evenWeek($C380) ),-1,\"\")","v":{"$error":"#REF!"}},{"$f":"IF( AND($C380>($D$352-1),$C380<($F$352+1), NOT(evenWeek($C380))),-1,\"\")","v":{"$error":"#REF!"}}]
[null,{"$f":"#REF!","v":{"$error":"#REF!"}},{"$f":"#REF!","v":{"$error":"#REF!"}},{"$f":"IF( AND($C381>($D$352-1),$C381<($F$352+1),WEEKDAY($C381,2)=1, evenWeek($C381) ),-1,\"\")","v":{"$error":"#REF!"}},{"$f":"IF( AND($C381>($D$352-1),$C381<($F$352+1),WEEKDAY($C381,2)=1, NOT(evenWeek($C381)) ),-1,\"\")","v":{"$error":"#REF!"}},{"$f":"IF( AND($C381>($D$352-1),$C381<($F$352+1),WEEKDAY($C381,2)=2, evenWeek($C381) ),-1,\"\")","v":{"$error":"#REF!"}},{"$f":"IF( AND($C381>($D$352-1),$C381<($F$352+1),WEEKDAY($C381,2)=2, NOT(evenWeek($C381)) ),-1,\"\")","v":{"$error":"#REF!"}},{"$f":"IF( AND($C381>($D$352-1),$C381<($F$352+1),WEEKDAY($C381,2)=3, evenWeek($C381) ),-1,\"\")","v":{"$error":"#REF!"}},{"$f":"IF( AND($C381>($D$352-1),$C381<($F$352+1),WEEKDAY($C381,2)=3, NOT(evenWeek($C381)) ),-1,\"\")","v":{"$error":"#REF!"}},{"$f":"IF( AND($C381>($D$352-1),$C381<($F$352+1),WEEKDAY($C381,2)=4, evenWeek($C381) ),-1,\"\")","v":{"$error":"#REF!"}},{"$f":"IF( AND($C381>($D$352-1),$C381<($F$352+1),WEEKDAY($C381,2)=4, NOT(evenWeek($C381)) ),-1,\"\")","v":{"$error":"#REF!"}},{"$f":"IF( AND($C381>($D$352-1),$C381<($F$352+1),WEEKDAY($C381,2)=5, evenWeek($C381) ),-1,\"\")","v":{"$error":"#REF!"}},{"$f":"IF( AND($C381>($D$352-1),$C381<($F$352+1),WEEKDAY($C381,2)=5, NOT(evenWeek($C381)) ),-1,\"\")","v":{"$error":"#REF!"}},{"$f":"IF( AND($C381>($D$352-1),$C381<($F$352+1),WEEKDAY($C381,2)=6, evenWeek($C381) ),-1,\"\")","v":{"$error":"#REF!"}},{"$f":"IF( AND($C381>($D$352-1),$C381<($F$352+1),WEEKDAY($C381,2)=6, NOT(evenWeek($C381)) ),-1,\"\")","v":{"$error":"#REF!"}},{"$f":"IF( AND($C381>($D$352-1),$C381<($F$352+1),WEEKDAY($C381,2)=7, evenWeek($C381) ),-1,\"\")","v":{"$error":"#REF!"}},{"$f":"IF( AND($C381>($D$352-1),$C381<($F$352+1),WEEKDAY($C381,2)=7, NOT(evenWeek($C381)) ),-1,\"\")","v":{"$error":"#REF!"}}]
[null,{"$f":"#REF!","v":{"$error":"#REF!"}},{"$f":"#REF!","v":{"$error":"#REF!"}},{"$f":"IF( AND($C382>($D$352-1),$C382<($F$352+1),WEEKDAY($C382,2)=1, evenWeek($C382) ),-1,\"\")","v":{"$error":"#REF!"}},{"$f":"IF( AND($C382>($D$352-1),$C382<($F$352+1),WEEKDAY($C382,2)=1, NOT(evenWeek($C382)) ),-1,\"\")","v":{"$error":"#REF!"}},{"$f":"IF( AND($C382>($D$352-1),$C382<($F$352+1),WEEKDAY($C382,2)=2, evenWeek($C382) ),-1,\"\")","v":{"$error":"#REF!"}},{"$f":"IF( AND($C382>($D$352-1),$C382<($F$352+1),WEEKDAY($C382,2)=2, NOT(evenWeek($C382)) ),-1,\"\")","v":{"$error":"#REF!"}},{"$f":"IF( AND($C382>($D$352-1),$C382<($F$352+1),WEEKDAY($C382,2)=3, evenWeek($C382) ),-1,\"\")","v":{"$error":"#REF!"}},{"$f":"IF( AND($C382>($D$352-1),$C382<($F$352+1),WEEKDAY($C382,2)=3, NOT(evenWeek($C382)) ),-1,\"\")","v":{"$error":"#REF!"}},{"$f":"IF( AND($C382>($D$352-1),$C382<($F$352+1),WEEKDAY($C382,2)=4, evenWeek($C382) ),-1,\"\")","v":{"$error":"#REF!"}},{"$f":"IF( AND($C382>($D$352-1),$C382<($F$352+1),WEEKDAY($C382,2)=4, NOT(evenWeek($C382)) ),-1,\"\")","v":{"$error":"#REF!"}},{"$f":"IF( AND($C382>($D$352-1),$C382<($F$352+1),WEEKDAY($C382,2)=5, evenWeek($C382) ),-1,\"\")","v":{"$error":"#REF!"}},{"$f":"IF( AND($C382>($D$352-1),$C382<($F$352+1),WEEKDAY($C382,2)=5, NOT(evenWeek($C382)) ),-1,\"\")","v":{"$error":"#REF!"}},{"$f":"IF( AND($C382>($D$352-1),$C382<($F$352+1),WEEKDAY($C382,2)=6, evenWeek($C382) ),-1,\"\")","v":{"$error":"#REF!"}},{"$f":"IF( AND($C382>($D$352-1),$C382<($F$352+1),WEEKDAY($C382,2)=6, NOT(evenWeek($C382)) ),-1,\"\")","v":{"$error":"#REF!"}},{"$f":"IF( AND($C382>($D$352-1),$C382<($F$352+1),WEEKDAY($C382,2)=7, evenWeek($C382) ),-1,\"\")","v":{"$error":"#REF!"}},{"$f":"IF( AND($C382>($D$352-1),$C382<($F$352+1),WEEKDAY($C382,2)=7, NOT(evenWeek($C382)) ),-1,\"\")","v":{"$error":"#REF!"}}]
[null,{"$f":"#REF!","v":{"$error":"#REF!"}},{"$f":"#REF!","v":{"$error":"#REF!"}},{"$error":"#REF!"},{"$error":"#REF!"},{"$error":"#REF!"},{"$error":"#REF!"},{"$error":"#REF!"},{"$error":"#REF!"},{"$error":"#REF!"},{"$error":"#REF!"},{"$error":"#REF!"},{"$error":"#REF!"},{"$error":"#REF!"},{"$error":"#REF!"},{"$error":"#REF!"},{"$error":"#REF!"}]
[null,{"$f":"#REF!","v":{"$error":"#REF!"}},{"$f":"#REF!","v":{"$error":"#REF!"}},{"$error":"#REF!"},{"$error":"#REF!"},{"$error":"#REF!"},{"$error":"#REF!"},{"$error":"#REF!"},{"$error":"#REF!"},{"$error":"#REF!"},{"$error":"#REF!"},{"$error":"#REF!"},{"$error":"#REF!"},{"$error":"#REF!"},{"$error":"#REF!"},{"$error":"#REF!"},{"$error":"#REF!"}]
[null,{"$f":"#REF!","v":{"$error":"#REF!"}},{"$f":"#REF!","v":{"$error":"#REF!"}},{"$error":"#REF!"},{"$error":"#REF!"},{"$error":"#REF!"},{"$error":"#REF!"},{"$error":"#REF!"},{"$error":"#REF!"},{"$error":"#REF!"},{"$error":"#REF!"},{"$error":"#REF!"},{"$error":"#REF!"},{"$error":"#REF!"},{"$error":"#REF!"},{"$error":"#REF!"},{"$error":"#REF!"}]
[null,{"$f":"#REF!","v":{"$error":"#REF!"}},{"$f":"#REF!","v":{"$error":"#REF!"}},{"$error":"#REF!"},{"$error":"#REF!"},{"$error":"#REF!"},{"$error":"#REF!"},{"$error":"#REF!"},{"$error":"#REF!"},{"$error":"#REF!"},{"$error":"#REF!"},{"$error":"#REF!"},{"$error":"#REF!"},{"$error":"#REF!"},{"$error":"#REF!"},{"$error":"#REF!"},{"$error":"#REF!"}]
[null,{"$f":"#REF!","v":{"$error":"#REF!"}},{"$f":"#REF!","v":{"$error":"#REF!"}},{"$error":"#REF!"},{"$error":"#REF!"},{"$error":"#REF!"},{"$error":"#REF!"},{"$error":"#REF!"},{"$error":"#REF!"},{"$error":"#REF!"},{"$error":"#REF!"},{"$error":"#REF!"},{"$error":"#REF!"},{"$error":"#REF!"},{"$error":"#REF!"},{"$error":"#REF!"},{"$error":"#REF!"}]
[null,"werkbare dagen",null,{"$f":"IF(OR(YEAR($D$352)<>$N$3,YEAR($F$352)<>$N$3),0,SUM(D370,D374:D387))","v":0},0,0,0,0,0,0,0,0,0,0,0,0,0,{"$f":"SUM(D388:O388)","v":0}]
[]
[null,"standaard werkweek",null,40,38,36]
[null,"bijbehorend verlofsaldo",null,{"$f":"#REF!","v":{"$error":"#REF!"}},{"$f":"#REF!","v":{"$error":"#REF!"}},{"$f":"#REF!","v":{"$error":"#REF!"}}]
[null,"# werkdagen in jaar",{"$f":"#REF!","v":{"$error":"#REF!"}}]
[]
[null,"(Z) Periodefactor werkbare dagen per volledig kalenderjaar",null,null,null,null,null,null,null,null,{"$f":"IF(AND(D352>0,F352>0),R388/C392,0)","v":0}]
[]
[null,"(A) Omvang aanstelling in fulltime equivalenten (fte's)",null,null,null,null,null,null,null,null,{"$f":"DIENSTVERBANDGEGEVENS!J47","v":0}]
[null,null,null,null,null,null,null,null,"keuzerondje"]
[null,"(B) Standaard werkweek bij volledige aanstelling, vul in 36, 38 of 40",null,null,null,null,null,null,3,null,{"$f":"IF(I398=1,36,IF(I398=2,38,IF(I398=3,40,0)))","v":40}]
[]
[null,"(C) Totaal aantal netto werkbare uren in periode 3 ( A * 1659 * Z )",null,null,null,null,null,null,null,null,{"$f":"IF($N$4,K396*#REF!*K394,0)","v":{"$error":"#REF!"}}]
[]
[null,"(D) Bruto aantal werkbare uren bij aanstellingsomvang ( A * B )",null,null,null,null,null,null,null,null,{"$f":"K396*K398","v":0}]
[]
[null,"(E) Keuze tijdsbesteding",null,"maandag","dinsdag","woensdag","donderdag","vrijdag","zaterdag",null,"gemiddeld"]
[null,null,"even week",{"$f":"DIENSTVERBANDGEGEVENS!D56","v":0},{"$f":"DIENSTVERBANDGEGEVENS!E56","v":0},{"$f":"DIENSTVERBANDGEGEVENS!F56","v":0},{"$f":"DIENSTVERBANDGEGEVENS!G56","v":0},{"$f":"DIENSTVERBANDGEGEVENS!H56","v":0},{"$f":"DIENSTVERBANDGEGEVENS!I56","v":0},null,"totaal"]
[null,"totaal even",null,{"$f":"D405*D388","v":0},{"$f":"E405*F388","v":0},{"$f":"F405*H388","v":0},{"$f":"G405*J388","v":0},{"$f":"H405*L388","v":0},{"$f":"I405*N388","v":0}]
[null,null,"oneven week",{"$f":"DIENSTVERBANDGEGEVENS!D58","v":0},{"$f":"DIENSTVERBANDGEGEVENS!E58","v":0},{"$f":"DIENSTVERBANDGEGEVENS!F58","v":0},{"$f":"DIENSTVERBANDGEGEVENS!G58","v":0},{"$f":"DIENSTVERBANDGEGEVENS!H58","v":0},{"$f":"DIENSTVERBANDGEGEVENS!I58","v":0},null,{"$f":"SUM(D405:I405,D407:I407)/2","v":0}]
[null,"totaal oneven",null,{"$f":"D407*E388","v":0},{"$f":"E407*G388","v":0},{"$f":"F407*I388","v":0},{"$f":"G407*K388","v":0},{"$f":"H407*M388","v":0},{"$f":"I407*O388","v":0}]
[null,"(F) werkbare uren (gecorrigeerd voor feestdagen en overige niet-werkbare dagen)",null,null,null,null,null,null,null,null,{"$f":"IF(AND(D352>0,F352>0,$N$4),SUM(D406:I406,D408:I408),0)","v":0}]
[]
[null,"(G) Bruto CAO verlofuren in periode 3   ( A * verlofsaldo * Z )",null,null,null,null,null,null,null,null,{"$f":"SUM(K396*IF(K398=0,0,IF(K398=D390,D391,IF(K398=E390,E391,IF(K398=F390,F391,\"\")))))*K394","v":{"$error":"#REF!"}}]
[]
[null,"(H) Werkbare uren gecorrigeerd voor bruto verlofuren  ( F - G )",null,null,null,null,null,null,null,null,{"$f":"IF(K402=0,0,K409-K411)","v":0}]
[]
[null,"(I) teveel (+) / te weinig (-) gewerkte uren  ( H - C )",null,null,null,null,null,null,null,null,{"$f":"K413-K400","v":{"$error":"#REF!"}}]
[]
[null,"(J) Opgebouwde netto CAO verlofuren  ( G + I )",null,null,null,null,null,null,null,null,{"$f":"K411+K415","v":{"$error":"#REF!"}}]
[]
[]
[]
[null,null,null,{"$f":"IF(D423,\"datum !\",IF(OR(D422=0,YEAR(D422)=$N$3),\"\",\"datum !\"))","v":""},null,{"$f":"IF(AND(D422>0,F422>0,F422<D422),\"datum !\",IF(OR(F423, AND(F422>0,YEAR(F422)<>$N$3)),\"datum !\",\"\"))","v":""},null,"p1","p2","p3","p5",null,null,null,null,null," PERIODE 4"]
[null," PERIODE 4","van",{"$f":"IF(ISNUMBER(DIENSTVERBANDGEGEVENS!D64),DIENSTVERBANDGEGEVENS!D64,0)","v":"1904-01-01"},"t/m",{"$f":"IF(ISNUMBER(DIENSTVERBANDGEGEVENS!F64),DIENSTVERBANDGEGEVENS!F64,0)","v":"1904-01-01"},{"$f":"IF(AND(H422:K422),\"\",\"  periode-overlapping\")","v":""},{"$f":"OR( D422=0,F422=0,D3=0,F3=0, AND($D$422>D3,$D$422>F3),AND($D$422<D3,$F$422<D3))","v":true},{"$f":"OR( D422=0,F422=0,D15=0,F15=0, AND($D$422>D15,$D$422>F15),AND($D$422<D15,$F$422<D15))","v":true},{"$f":"OR( D422=0,F422=0,D352=0,F352=0, AND($D$422>D352,$D$422>F352),AND($D$422<D352,$F$422<D352))","v":true},{"$f":"OR( D422=0,F422=0,D492=0,F492=0, AND($D$422>D492,$D$422>F492),AND($D$422<D492,$F$422<D492))","v":true}]
[null,null,"tekst in datumcel",{"$f":"TYPE(DIENSTVERBANDGEGEVENS!D64)=2","v":false},null,{"$f":"TYPE(DIENSTVERBANDGEGEVENS!F64)=2","v":false}]
[]
[null,null,null,"ma even","ma oneven","di even","di oneven","wo even","wo oneven","do even","do oneven","vr even","vr oneven","za even","za oneven","zo even","zo oneven"]
[null,null,{"$f":"D422","v":"1904-01-01"},{"$f":"IF( AND( WEEKDAY($C426,2)=1,YEAR($C426)=$N$3, evenWeek($C426), $C426<=$F$422), (($F$422 + 1) - $C426 ) / 14, 0)","v":0},{"$f":"IF( AND( WEEKDAY($C426,2)=1,YEAR($C426)=$N$3, NOT(evenWeek($C426)), $C426<= $F$422), (($F$422 + 1) - $C426 ) /14, 0)","v":0},{"$f":"IF( AND( WEEKDAY($C426,2)=2,YEAR($C426)=$N$3, evenWeek($C426), $C426<=$F$422), (($F$422 + 1) - $C426 ) / 14, 0)","v":0},{"$f":"IF( AND( WEEKDAY($C426,2)=2,YEAR($C426)=$N$3, NOT(evenWeek($C426)), $C426<= $F$422), (($F$422 + 1) - $C426 ) /14, 0)","v":0},{"$f":"IF( AND( WEEKDAY($C426,2)=3,YEAR($C426)=$N$3, evenWeek($C426), $C426<=$F$422), (($F$422 + 1) - $C426 ) / 14, 0)","v":0},{"$f":"IF( AND( WEEKDAY($C426,2)=3,YEAR($C426)=$N$3, NOT(evenWeek($C426)), $C426<= $F$422), (($F$422 + 1) - $C426 ) /14, 0)","v":0},{"$f":"IF( AND( WEEKDAY($C426,2)=4,YEAR($C426)=$N$3, evenWeek($C426), $C426<=$F$422), (($F$422 + 1) - $C426 ) / 14, 0)","v":0},{"$f":"IF( AND( WEEKDAY($C426,2)=4,YEAR($C426)=$N$3, NOT(evenWeek($C426)), $C426<= $F$422), (($F$422 + 1) - $C426 ) /14, 0)","v":0},{"$f":"IF( AND( WEEKDAY($C426,2)=5,YEAR($C426)=$N$3, evenWeek($C426), $C426<=$F$422), (($F$422 + 1) - $C426 ) / 14, 0)","v":0},{"$f":"IF( AND( WEEKDAY($C426,2)=5,YEAR($C426)=$N$3, NOT(evenWeek($C426)), $C426<= $F$422), (($F$422 + 1) - $C426 ) /14, 0)","v":0},{"$f":"IF( AND( WEEKDAY($C426,2)=6,YEAR($C426)=$N$3, evenWeek($C426), $C426<=$F$422), (($F$422 + 1) - $C426 ) / 14, 0)","v":0},{"$f":"IF( AND( WEEKDAY($C426,2)=6,YEAR($C426)=$N$3, NOT(evenWeek($C426)), $C426<= $F$422), (($F$422 + 1) - $C426 ) /14, 0)","v":0},{"$f":"IF( AND( WEEKDAY($C426,2)=7,YEAR($C426)=$N$3, evenWeek($C426), $C426<=$F$422), (($F$422 + 1) - $C426 ) / 14, 0)","v":0},{"$f":"IF( AND( WEEKDAY($C426,2)=7,YEAR($C426)=$N$3, NOT(evenWeek($C426)), $C426<= $F$422), (($F$422 + 1) - $C426 ) /14, 0)","v":0}]
[null,null,{"$f":"C426+1","v":"1904-01-02"},{"$f":"IF( AND( WEEKDAY($C427,2)=1,YEAR($C427)=$N$3, evenWeek($C427), $C427<=$F$422), (($F$422 + 1) - $C427 ) / 14, 0)","v":0},{"$f":"IF( AND( WEEKDAY($C427,2)=1,YEAR($C427)=$N$3, NOT(evenWeek($C427)), $C427<= $F$422), (($F$422 + 1) - $C427 ) /14, 0)","v":0},{"$f":"IF( AND( WEEKDAY($C427,2)=2,YEAR($C427)=$N$3, evenWeek($C427), $C427<=$F$422), (($F$422 + 1) - $C427 ) / 14, 0)","v":0},{"$f":"IF( AND( WEEKDAY($C427,2)=2,YEAR($C427)=$N$3, NOT(evenWeek($C427)), $C427<= $F$422), (($F$422 + 1) - $C427 ) /14, 0)","v":0},{"$f":"IF( AND( WEEKDAY($C427,2)=3,YEAR($C427)=$N$3, evenWeek($C427), $C427<=$F$422), (($F$422 + 1) - $C427 ) / 14, 0)","v":0},{"$f":"IF( AND( WEEKDAY($C427,2)=3,YEAR($C427)=$N$3, NOT(evenWeek($C427)), $C427<= $F$422), (($F$422 + 1) - $C427 ) /14, 0)","v":0},{"$f":"IF( AND( WEEKDAY($C427,2)=4,YEAR($C427)=$N$3, evenWeek($C427), $C427<=$F$422), (($F$422 + 1) - $C427 ) / 14, 0)","v":0},{"$f":"IF( AND( WEEKDAY($C427,2)=4,YEAR($C427)=$N$3, NOT(evenWeek($C427)), $C427<= $F$422), (($F$422 + 1) - $C427 ) /14, 0)","v":0},{"$f":"IF( AND( WEEKDAY($C427,2)=5,YEAR($C427)=$N$3, evenWeek($C427), $C427<=$F$422), (($F$422 + 1) - $C427 ) / 14, 0)","v":0},{"$f":"IF( AND( WEEKDAY($C427,2)=5,YEAR($C427)=$N$3, NOT(evenWeek($C427)), $C427<= $F$422), (($F$422 + 1) - $C427 ) /14, 0)","v":0},{"$f":"IF( AND( WEEKDAY($C427,2)=6,YEAR($C427)=$N$3, evenWeek($C427), $C427<=$F$422), (($F$422 + 1) - $C427 ) / 14, 0)","v":0},{"$f":"IF( AND( WEEKDAY($C427,2)=6,YEAR($C427)=$N$3, NOT(evenWeek($C427)), $C427<= $F$422), (($F$422 + 1) - $C427 ) /14, 0)","v":0},{"$f":"IF( AND( WEEKDAY($C427,2)=7,YEAR($C427)=$N$3, evenWeek($C427), $C427<=$F$422), (($F$422 + 1) - $C427 ) / 14, 0)","v":0},{"$f":"IF( AND( WEEKDAY($C427,2)=7,YEAR($C427)=$N$3, NOT(evenWeek($C427)), $C427<= $F$422), (($F$422 + 1) - $C427 ) /14, 0)","v":0}]
[null,null,{"$f":"C427+1","v":"1904-01-03"},{"$f":"IF( AND( WEEKDAY($C428,2)=1,YEAR($C428)=$N$3, evenWeek($C428), $C428<=$F$422), (($F$422 + 1) - $C428 ) / 14, 0)","v":0},{"$f":"IF( AND( WEEKDAY($C428,2)=1,YEAR($C428)=$N$3, NOT(evenWeek($C428)), $C428<= $F$422), (($F$422 + 1) - $C428 ) /14, 0)","v":0},{"$f":"IF( AND( WEEKDAY($C428,2)=2,YEAR($C428)=$N$3, evenWeek($C428), $C428<=$F$422), (($F$422 + 1) - $C428 ) / 14, 0)","v":0},{"$f":"IF( AND( WEEKDAY($C428,2)=2,YEAR($C428)=$N$3, NOT(evenWeek($C428)), $C428<= $F$422), (($F$422 + 1) - $C428 ) /14, 0)","v":0},{"$f":"IF( AND( WEEKDAY($C428,2)=3,YEAR($C428)=$N$3, evenWeek($C428), $C428<=$F$422), (($F$422 + 1) - $C428 ) / 14, 0)","v":0},{"$f":"IF( AND( WEEKDAY($C428,2)=3,YEAR($C428)=$N$3, NOT(evenWeek($C428)), $C428<= $F$422), (($F$422 + 1) - $C428 ) /14, 0)","v":0},{"$f":"IF( AND( WEEKDAY($C428,2)=4,YEAR($C428)=$N$3, evenWeek($C428), $C428<=$F$422), (($F$422 + 1) - $C428 ) / 14, 0)","v":0},{"$f":"IF( AND( WEEKDAY($C428,2)=4,YEAR($C428)=$N$3, NOT(evenWeek($C428)), $C428<= $F$422), (($F$422 + 1) - $C428 ) /14, 0)","v":0},{"$f":"IF( AND( WEEKDAY($C428,2)=5,YEAR($C428)=$N$3, evenWeek($C428), $C428<=$F$422), (($F$422 + 1) - $C428 ) / 14, 0)","v":0},{"$f":"IF( AND( WEEKDAY($C428,2)=5,YEAR($C428)=$N$3, NOT(evenWeek($C428)), $C428<= $F$422), (($F$422 + 1) - $C428 ) /14, 0)","v":0},{"$f":"IF( AND( WEEKDAY($C428,2)=6,YEAR($C428)=$N$3, evenWeek($C428), $C428<=$F$422), (($F$422 + 1) - $C428 ) / 14, 0)","v":0},{"$f":"IF( AND( WEEKDAY($C428,2)=6,YEAR($C428)=$N$3, NOT(evenWeek($C428)), $C428<= $F$422), (($F$422 + 1) - $C428 ) /14, 0)","v":0},{"$f":"IF( AND( WEEKDAY($C428,2)=7,YEAR($C428)=$N$3, evenWeek($C428), $C428<=$F$422), (($F$422 + 1) - $C428 ) / 14, 0)","v":0},{"$f":"IF( AND( WEEKDAY($C428,2)=7,YEAR($C428)=$N$3, NOT(evenWeek($C428)), $C428<= $F$422), (($F$422 + 1) - $C428 ) /14, 0)","v":0}]
[null,null,"1904-01-04",{"$f":"IF( AND( WEEKDAY($C429,2)=1,YEAR($C429)=$N$3, evenWeek($C429), $C429<=$F$422), (($F$422 + 1) - $C429 ) / 14, 0)","v":0},{"$f":"IF( AND( WEEKDAY($C429,2)=1,YEAR($C429)=$N$3, NOT(evenWeek($C429)), $C429<= $F$422), (($F$422 + 1) - $C429 ) /14, 0)","v":0},{"$f":"IF( AND( WEEKDAY($C429,2)=2,YEAR($C429)=$N$3, evenWeek($C429), $C429<=$F$422), (($F$422 + 1) - $C429 ) / 14, 0)","v":0},{"$f":"IF( AND( WEEKDAY($C429,2)=2,YEAR($C429)=$N$3, NOT(evenWeek($C429)), $C429<= $F$422), (($F$422 + 1) - $C429 ) /14, 0)","v":0},{"$f":"IF( AND( WEEKDAY($C429,2)=3,YEAR($C429)=$N$3, evenWeek($C429), $C429<=$F$422), (($F$422 + 1) - $C429 ) / 14, 0)","v":0},{"$f":"IF( AND( WEEKDAY($C429,2)=3,YEAR($C429)=$N$3, NOT(evenWeek($C429)), $C429<= $F$422), (($F$422 + 1) - $C429 ) /14, 0)","v":0},{"$f":"IF( AND( WEEKDAY($C429,2)=4,YEAR($C429)=$N$3, evenWeek($C429), $C429<=$F$422), (($F$422 + 1) - $C429 ) / 14, 0)","v":0},{"$f":"IF( AND( WEEKDAY($C429,2)=4,YEAR($C429)=$N$3, NOT(evenWeek($C429)), $C429<= $F$422), (($F$422 + 1) - $C429 ) /14, 0)","v":0},{"$f":"IF( AND( WEEKDAY($C429,2)=5,YEAR($C429)=$N$3, evenWeek($C429), $C429<=$F$422), (($F$422 + 1) - $C429 ) / 14, 0)","v":0},{"$f":"IF( AND( WEEKDAY($C429,2)=5,YEAR($C429)=$N$3, NOT(evenWeek($C429)), $C429<= $F$422), (($F$422 + 1) - $C429 ) /14, 0)","v":0},{"$f":"IF( AND( WEEKDAY($C429,2)=6,YEAR($C429)=$N$3, evenWeek($C429), $C429<=$F$422), (($F$422 + 1) - $C429 ) / 14, 0)","v":0},{"$f":"IF( AND( WEEKDAY($C429,2)=6,YEAR($C429)=$N$3, NOT(evenWeek($C429)), $C429<= $F$422), (($F$422 + 1) - $C429 ) /14, 0)","v":0},{"$f":"IF( AND( WEEKDAY($C429,2)=7,YEAR($C429)=$N$3, evenWeek($C429), $C429<=$F$422), (($F$422 + 1) - $C429 ) / 14, 0)","v":0},{"$f":"IF( AND( WEEKDAY($C429,2)=7,YEAR($C429)=$N$3, NOT(evenWeek($C429)), $C429<= $F$422), (($F$422 + 1) - $C429 ) /14, 0)","v":0}]
[null,null,"1904-01-05",{"$f":"IF( AND( WEEKDAY($C430,2)=1,YEAR($C430)=$N$3, evenWeek($C430), $C430<=$F$422), (($F$422 + 1) - $C430 ) / 14, 0)","v":0},{"$f":"IF( AND( WEEKDAY($C430,2)=1,YEAR($C430)=$N$3, NOT(evenWeek($C430)), $C430<= $F$422), (($F$422 + 1) - $C430 ) /14, 0)","v":0},{"$f":"IF( AND( WEEKDAY($C430,2)=2,YEAR($C430)=$N$3, evenWeek($C430), $C430<=$F$422), (($F$422 + 1) - $C430 ) / 14, 0)","v":0},{"$f":"IF( AND( WEEKDAY($C430,2)=2,YEAR($C430)=$N$3, NOT(evenWeek($C430)), $C430<= $F$422), (($F$422 + 1) - $C430 ) /14, 0)","v":0},{"$f":"IF( AND( WEEKDAY($C430,2)=3,YEAR($C430)=$N$3, evenWeek($C430), $C430<=$F$422), (($F$422 + 1) - $C430 ) / 14, 0)","v":0},{"$f":"IF( AND( WEEKDAY($C430,2)=3,YEAR($C430)=$N$3, NOT(evenWeek($C430)), $C430<= $F$422), (($F$422 + 1) - $C430 ) /14, 0)","v":0},{"$f":"IF( AND( WEEKDAY($C430,2)=4,YEAR($C430)=$N$3, evenWeek($C430), $C430<=$F$422), (($F$422 + 1) - $C430 ) / 14, 0)","v":0},{"$f":"IF( AND( WEEKDAY($C430,2)=4,YEAR($C430)=$N$3, NOT(evenWeek($C430)), $C430<= $F$422), (($F$422 + 1) - $C430 ) /14, 0)","v":0},{"$f":"IF( AND( WEEKDAY($C430,2)=5,YEAR($C430)=$N$3, evenWeek($C430), $C430<=$F$422), (($F$422 + 1) - $C430 ) / 14, 0)","v":0},{"$f":"IF( AND( WEEKDAY($C430,2)=5,YEAR($C430)=$N$3, NOT(evenWeek($C430)), $C430<= $F$422), (($F$422 + 1) - $C430 ) /14, 0)","v":0},{"$f":"IF( AND( WEEKDAY($C430,2)=6,YEAR($C430)=$N$3, evenWeek($C430), $C430<=$F$422), (($F$422 + 1) - $C430 ) / 14, 0)","v":0},{"$f":"IF( AND( WEEKDAY($C430,2)=6,YEAR($C430)=$N$3, NOT(evenWeek($C430)), $C430<= $F$422), (($F$422 + 1) - $C430 ) /14, 0)","v":0},{"$f":"IF( AND( WEEKDAY($C430,2)=7,YEAR($C430)=$N$3, evenWeek($C430), $C430<=$F$422), (($F$422 + 1) - $C430 ) / 14, 0)","v":0},{"$f":"IF( AND( WEEKDAY($C430,2)=7,YEAR($C430)=$N$3, NOT(evenWeek($C430)), $C430<= $F$422), (($F$422 + 1) - $C430 ) /14, 0)","v":0}]
[null,null,"1904-01-06",{"$f":"IF( AND( WEEKDAY($C431,2)=1,YEAR($C431)=$N$3, evenWeek($C431), $C431<=$F$422), (($F$422 + 1) - $C431 ) / 14, 0)","v":0},{"$f":"IF( AND( WEEKDAY($C431,2)=1,YEAR($C431)=$N$3, NOT(evenWeek($C431)), $C431<= $F$422), (($F$422 + 1) - $C431 ) /14, 0)","v":0},{"$f":"IF( AND( WEEKDAY($C431,2)=2,YEAR($C431)=$N$3, evenWeek($C431), $C431<=$F$422), (($F$422 + 1) - $C431 ) / 14, 0)","v":0},{"$f":"IF( AND( WEEKDAY($C431,2)=2,YEAR($C431)=$N$3, NOT(evenWeek($C431)), $C431<= $F$422), (($F$422 + 1) - $C431 ) /14, 0)","v":0},{"$f":"IF( AND( WEEKDAY($C431,2)=3,YEAR($C431)=$N$3, evenWeek($C431), $C431<=$F$422), (($F$422 + 1) - $C431 ) / 14, 0)","v":0},{"$f":"IF( AND( WEEKDAY($C431,2)=3,YEAR($C431)=$N$3, NOT(evenWeek($C431)), $C431<= $F$422), (($F$422 + 1) - $C431 ) /14, 0)","v":0},{"$f":"IF( AND( WEEKDAY($C431,2)=4,YEAR($C431)=$N$3, evenWeek($C431), $C431<=$F$422), (($F$422 + 1) - $C431 ) / 14, 0)","v":0},{"$f":"IF( AND( WEEKDAY($C431,2)=4,YEAR($C431)=$N$3, NOT(evenWeek($C431)), $C431<= $F$422), (($F$422 + 1) - $C431 ) /14, 0)","v":0},{"$f":"IF( AND( WEEKDAY($C431,2)=5,YEAR($C431)=$N$3, evenWeek($C431), $C431<=$F$422), (($F$422 + 1) - $C431 ) / 14, 0)","v":0},{"$f":"IF( AND( WEEKDAY($C431,2)=5,YEAR($C431)=$N$3, NOT(evenWeek($C431)), $C431<= $F$422), (($F$422 + 1) - $C431 ) /14, 0)","v":0},{"$f":"IF( AND( WEEKDAY($C431,2)=6,YEAR($C431)=$N$3, evenWeek($C431), $C431<=$F$422), (($F$422 + 1) - $C431 ) / 14, 0)","v":0},{"$f":"IF( AND( WEEKDAY($C431,2)=6,YEAR($C431)=$N$3, NOT(evenWeek($C431)), $C431<= $F$422), (($F$422 + 1) - $C431 ) /14, 0)","v":0},{"$f":"IF( AND( WEEKDAY($C431,2)=7,YEAR($C431)=$N$3, evenWeek($C431), $C431<=$F$422), (($F$422 + 1) - $C431 ) / 14, 0)","v":0},{"$f":"IF( AND( WEEKDAY($C431,2)=7,YEAR($C431)=$N$3, NOT(evenWeek($C431)), $C431<= $F$422), (($F$422 + 1) - $C431 ) /14, 0)","v":0}]
[null,null,"1904-01-07",{"$f":"IF( AND( WEEKDAY($C432,2)=1,YEAR($C432)=$N$3, evenWeek($C432), $C432<=$F$422), (($F$422 + 1) - $C432 ) / 14, 0)","v":0},{"$f":"IF( AND( WEEKDAY($C432,2)=1,YEAR($C432)=$N$3, NOT(evenWeek($C432)), $C432<= $F$422), (($F$422 + 1) - $C432 ) /14, 0)","v":0},{"$f":"IF( AND( WEEKDAY($C432,2)=2,YEAR($C432)=$N$3, evenWeek($C432), $C432<=$F$422), (($F$422 + 1) - $C432 ) / 14, 0)","v":0},{"$f":"IF( AND( WEEKDAY($C432,2)=2,YEAR($C432)=$N$3, NOT(evenWeek($C432)), $C432<= $F$422), (($F$422 + 1) - $C432 ) /14, 0)","v":0},{"$f":"IF( AND( WEEKDAY($C432,2)=3,YEAR($C432)=$N$3, evenWeek($C432), $C432<=$F$422), (($F$422 + 1) - $C432 ) / 14, 0)","v":0},{"$f":"IF( AND( WEEKDAY($C432,2)=3,YEAR($C432)=$N$3, NOT(evenWeek($C432)), $C432<= $F$422), (($F$422 + 1) - $C432 ) /14, 0)","v":0},{"$f":"IF( AND( WEEKDAY($C432,2)=4,YEAR($C432)=$N$3, evenWeek($C432), $C432<=$F$422), (($F$422 + 1) - $C432 ) / 14, 0)","v":0},{"$f":"IF( AND( WEEKDAY($C432,2)=4,YEAR($C432)=$N$3, NOT(evenWeek($C432)), $C432<= $F$422), (($F$422 + 1) - $C432 ) /14, 0)","v":0},{"$f":"IF( AND( WEEKDAY($C432,2)=5,YEAR($C432)=$N$3, evenWeek($C432), $C432<=$F$422), (($F$422 + 1) - $C432 ) / 14, 0)","v":0},{"$f":"IF( AND( WEEKDAY($C432,2)=5,YEAR($C432)=$N$3, NOT(evenWeek($C432)), $C432<= $F$422), (($F$422 + 1) - $C432 ) /14, 0)","v":0},{"$f":"IF( AND( WEEKDAY($C432,2)=6,YEAR($C432)=$N$3, evenWeek($C432), $C432<=$F$422), (($F$422 + 1) - $C432 ) / 14, 0)","v":0},{"$f":"IF( AND( WEEKDAY($C432,2)=6,YEAR($C432)=$N$3, NOT(evenWeek($C432)), $C432<= $F$422), (($F$422 + 1) - $C432 ) /14, 0)","v":0},{"$f":"IF( AND( WEEKDAY($C432,2)=7,YEAR($C432)=$N$3, evenWeek($C432), $C432<=$F$422), (($F$422 + 1) - $C432 ) / 14, 0)","v":0},{"$f":"IF( AND( WEEKDAY($C432,2)=7,YEAR($C432)=$N$3, NOT(evenWeek($C432)), $C432<= $F$422), (($F$422 + 1) - $C432 ) /14, 0)","v":0}]
[null,null,"1904-01-08",{"$f":"IF( AND( WEEKDAY($C433,2)=1,YEAR($C433)=$N$3, evenWeek($C433), $C433<=$F$422), (($F$422 + 1) - $C433 ) / 14, 0)","v":0},{"$f":"IF( AND( WEEKDAY($C433,2)=1,YEAR($C433)=$N$3, NOT(evenWeek($C433)), $C433<= $F$422), (($F$422 + 1) - $C433 ) /14, 0)","v":0},{"$f":"IF( AND( WEEKDAY($C433,2)=2,YEAR($C433)=$N$3, evenWeek($C433), $C433<=$F$422), (($F$422 + 1) - $C433 ) / 14, 0)","v":0},{"$f":"IF( AND( WEEKDAY($C433,2)=2,YEAR($C433)=$N$3, NOT(evenWeek($C433)), $C433<= $F$422), (($F$422 + 1) - $C433 ) /14, 0)","v":0},{"$f":"IF( AND( WEEKDAY($C433,2)=3,YEAR($C433)=$N$3, evenWeek($C433), $C433<=$F$422), (($F$422 + 1) - $C433 ) / 14, 0)","v":0},{"$f":"IF( AND( WEEKDAY($C433,2)=3,YEAR($C433)=$N$3, NOT(evenWeek($C433)), $C433<= $F$422), (($F$422 + 1) - $C433 ) /14, 0)","v":0},{"$f":"IF( AND( WEEKDAY($C433,2)=4,YEAR($C433)=$N$3, evenWeek($C433), $C433<=$F$422), (($F$422 + 1) - $C433 ) / 14, 0)","v":0},{"$f":"IF( AND( WEEKDAY($C433,2)=4,YEAR($C433)=$N$3, NOT(evenWeek($C433)), $C433<= $F$422), (($F$422 + 1) - $C433 ) /14, 0)","v":0},{"$f":"IF( AND( WEEKDAY($C433,2)=5,YEAR($C433)=$N$3, evenWeek($C433), $C433<=$F$422), (($F$422 + 1) - $C433 ) / 14, 0)","v":0},{"$f":"IF( AND( WEEKDAY($C433,2)=5,YEAR($C433)=$N$3, NOT(evenWeek($C433)), $C433<= $F$422), (($F$422 + 1) - $C433 ) /14, 0)","v":0},{"$f":"IF( AND( WEEKDAY($C433,2)=6,YEAR($C433)=$N$3, evenWeek($C433), $C433<=$F$422), (($F$422 + 1) - $C433 ) / 14, 0)","v":0},{"$f":"IF( AND( WEEKDAY($C433,2)=6,YEAR($C433)=$N$3, NOT(evenWeek($C433)), $C433<= $F$422), (($F$422 + 1) - $C433 ) /14, 0)","v":0},{"$f":"IF( AND( WEEKDAY($C433,2)=7,YEAR($C433)=$N$3, evenWeek($C433), $C433<=$F$422), (($F$422 + 1) - $C433 ) / 14, 0)","v":0},{"$f":"IF( AND( WEEKDAY($C433,2)=7,YEAR($C433)=$N$3, NOT(evenWeek($C433)), $C433<= $F$422), (($F$422 + 1) - $C433 ) /14, 0)","v":0}]
[null,null,"1904-01-09",{"$f":"IF( AND( WEEKDAY($C434,2)=1,YEAR($C434)=$N$3, evenWeek($C434), $C434<=$F$422), (($F$422 + 1) - $C434 ) / 14, 0)","v":0},{"$f":"IF( AND( WEEKDAY($C434,2)=1,YEAR($C434)=$N$3, NOT(evenWeek($C434)), $C434<= $F$422), (($F$422 + 1) - $C434 ) /14, 0)","v":0},{"$f":"IF( AND( WEEKDAY($C434,2)=2,YEAR($C434)=$N$3, evenWeek($C434), $C434<=$F$422), (($F$422 + 1) - $C434 ) / 14, 0)","v":0},{"$f":"IF( AND( WEEKDAY($C434,2)=2,YEAR($C434)=$N$3, NOT(evenWeek($C434)), $C434<= $F$422), (($F$422 + 1) - $C434 ) /14, 0)","v":0},{"$f":"IF( AND( WEEKDAY($C434,2)=3,YEAR($C434)=$N$3, evenWeek($C434), $C434<=$F$422), (($F$422 + 1) - $C434 ) / 14, 0)","v":0},{"$f":"IF( AND( WEEKDAY($C434,2)=3,YEAR($C434)=$N$3, NOT(evenWeek($C434)), $C434<= $F$422), (($F$422 + 1) - $C434 ) /14, 0)","v":0},{"$f":"IF( AND( WEEKDAY($C434,2)=4,YEAR($C434)=$N$3, evenWeek($C434), $C434<=$F$422), (($F$422 + 1) - $C434 ) / 14, 0)","v":0},{"$f":"IF( AND( WEEKDAY($C434,2)=4,YEAR($C434)=$N$3, NOT(evenWeek($C434)), $C434<= $F$422), (($F$422 + 1) - $C434 ) /14, 0)","v":0},{"$f":"IF( AND( WEEKDAY($C434,2)=5,YEAR($C434)=$N$3, evenWeek($C434), $C434<=$F$422), (($F$422 + 1) - $C434 ) / 14, 0)","v":0},{"$f":"IF( AND( WEEKDAY($C434,2)=5,YEAR($C434)=$N$3, NOT(evenWeek($C434)), $C434<= $F$422), (($F$422 + 1) - $C434 ) /14, 0)","v":0},{"$f":"IF( AND( WEEKDAY($C434,2)=6,YEAR($C434)=$N$3, evenWeek($C434), $C434<=$F$422), (($F$422 + 1) - $C434 ) / 14, 0)","v":0},{"$f":"IF( AND( WEEKDAY($C434,2)=6,YEAR($C434)=$N$3, NOT(evenWeek($C434)), $C434<= $F$422), (($F$422 + 1) - $C434 ) /14, 0)","v":0},{"$f":"IF( AND( WEEKDAY($C434,2)=7,YEAR($C434)=$N$3, evenWeek($C434), $C434<=$F$422), (($F$422 + 1) - $C434 ) / 14, 0)","v":0},{"$f":"IF( AND( WEEKDAY($C434,2)=7,YEAR($C434)=$N$3, NOT(evenWeek($C434)), $C434<= $F$422), (($F$422 + 1) - $C434 ) /14, 0)","v":0}]
[null,null,"1904-01-10",{"$f":"IF( AND( WEEKDAY($C435,2)=1,YEAR($C435)=$N$3, evenWeek($C435), $C435<=$F$422), (($F$422 + 1) - $C435 ) / 14, 0)","v":0},{"$f":"IF( AND( WEEKDAY($C435,2)=1,YEAR($C435)=$N$3, NOT(evenWeek($C435)), $C435<= $F$422), (($F$422 + 1) - $C435 ) /14, 0)","v":0},{"$f":"IF( AND( WEEKDAY($C435,2)=2,YEAR($C435)=$N$3, evenWeek($C435), $C435<=$F$422), (($F$422 + 1) - $C435 ) / 14, 0)","v":0},{"$f":"IF( AND( WEEKDAY($C435,2)=2,YEAR($C435)=$N$3, NOT(evenWeek($C435)), $C435<= $F$422), (($F$422 + 1) - $C435 ) /14, 0)","v":0},{"$f":"IF( AND( WEEKDAY($C435,2)=3,YEAR($C435)=$N$3, evenWeek($C435), $C435<=$F$422), (($F$422 + 1) - $C435 ) / 14, 0)","v":0},{"$f":"IF( AND( WEEKDAY($C435,2)=3,YEAR($C435)=$N$3, NOT(evenWeek($C435)), $C435<= $F$422), (($F$422 + 1) - $C435 ) /14, 0)","v":0},{"$f":"IF( AND( WEEKDAY($C435,2)=4,YEAR($C435)=$N$3, evenWeek($C435), $C435<=$F$422), (($F$422 + 1) - $C435 ) / 14, 0)","v":0},{"$f":"IF( AND( WEEKDAY($C435,2)=4,YEAR($C435)=$N$3, NOT(evenWeek($C435)), $C435<= $F$422), (($F$422 + 1) - $C435 ) /14, 0)","v":0},{"$f":"IF( AND( WEEKDAY($C435,2)=5,YEAR($C435)=$N$3, evenWeek($C435), $C435<=$F$422), (($F$422 + 1) - $C435 ) / 14, 0)","v":0},{"$f":"IF( AND( WEEKDAY($C435,2)=5,YEAR($C435)=$N$3, NOT(evenWeek($C435)), $C435<= $F$422), (($F$422 + 1) - $C435 ) /14, 0)","v":0},{"$f":"IF( AND( WEEKDAY($C435,2)=6,YEAR($C435)=$N$3, evenWeek($C435), $C435<=$F$422), (($F$422 + 1) - $C435 ) / 14, 0)","v":0},{"$f":"IF( AND( WEEKDAY($C435,2)=6,YEAR($C435)=$N$3, NOT(evenWeek($C435)), $C435<= $F$422), (($F$422 + 1) - $C435 ) /14, 0)","v":0},{"$f":"IF( AND( WEEKDAY($C435,2)=7,YEAR($C435)=$N$3, evenWeek($C435), $C435<=$F$422), (($F$422 + 1) - $C435 ) / 14, 0)","v":0},{"$f":"IF( AND( WEEKDAY($C435,2)=7,YEAR($C435)=$N$3, NOT(evenWeek($C435)), $C435<= $F$422), (($F$422 + 1) - $C435 ) /14, 0)","v":0}]
[null,null,"1904-01-11",{"$f":"IF( AND( WEEKDAY($C436,2)=1,YEAR($C436)=$N$3, evenWeek($C436), $C436<=$F$422), (($F$422 + 1) - $C436 ) / 14, 0)","v":0},{"$f":"IF( AND( WEEKDAY($C436,2)=1,YEAR($C436)=$N$3, NOT(evenWeek($C436)), $C436<= $F$422), (($F$422 + 1) - $C436 ) /14, 0)","v":0},{"$f":"IF( AND( WEEKDAY($C436,2)=2,YEAR($C436)=$N$3, evenWeek($C436), $C436<=$F$422), (($F$422 + 1) - $C436 ) / 14, 0)","v":0},{"$f":"IF( AND( WEEKDAY($C436,2)=2,YEAR($C436)=$N$3, NOT(evenWeek($C436)), $C436<= $F$422), (($F$422 + 1) - $C436 ) /14, 0)","v":0},{"$f":"IF( AND( WEEKDAY($C436,2)=3,YEAR($C436)=$N$3, evenWeek($C436), $C436<=$F$422), (($F$422 + 1) - $C436 ) / 14, 0)","v":0},{"$f":"IF( AND( WEEKDAY($C436,2)=3,YEAR($C436)=$N$3, NOT(evenWeek($C436)), $C436<= $F$422), (($F$422 + 1) - $C436 ) /14, 0)","v":0},{"$f":"IF( AND( WEEKDAY($C436,2)=4,YEAR($C436)=$N$3, evenWeek($C436), $C436<=$F$422), (($F$422 + 1) - $C436 ) / 14, 0)","v":0},{"$f":"IF( AND( WEEKDAY($C436,2)=4,YEAR($C436)=$N$3, NOT(evenWeek($C436)), $C436<= $F$422), (($F$422 + 1) - $C436 ) /14, 0)","v":0},{"$f":"IF( AND( WEEKDAY($C436,2)=5,YEAR($C436)=$N$3, evenWeek($C436), $C436<=$F$422), (($F$422 + 1) - $C436 ) / 14, 0)","v":0},{"$f":"IF( AND( WEEKDAY($C436,2)=5,YEAR($C436)=$N$3, NOT(evenWeek($C436)), $C436<= $F$422), (($F$422 + 1) - $C436 ) /14, 0)","v":0},{"$f":"IF( AND( WEEKDAY($C436,2)=6,YEAR($C436)=$N$3, evenWeek($C436), $C436<=$F$422), (($F$422 + 1) - $C436 ) / 14, 0)","v":0},{"$f":"IF( AND( WEEKDAY($C436,2)=6,YEAR($C436)=$N$3, NOT(evenWeek($C436)), $C436<= $F$422), (($F$422 + 1) - $C436 ) /14, 0)","v":0},{"$f":"IF( AND( WEEKDAY($C436,2)=7,YEAR($C436)=$N$3, evenWeek($C436), $C436<=$F$422), (($F$422 + 1) - $C436 ) / 14, 0)","v":0},{"$f":"IF( AND( WEEKDAY($C436,2)=7,YEAR($C436)=$N$3, NOT(evenWeek($C436)), $C436<= $F$422), (($F$422 + 1) - $C436 ) /14, 0)","v":0}]
[null,null,"1904-01-12",{"$f":"IF( AND( WEEKDAY($C437,2)=1,YEAR($C437)=$N$3, evenWeek($C437), $C437<=$F$422), (($F$422 + 1) - $C437 ) / 14, 0)","v":0},{"$f":"IF( AND( WEEKDAY($C437,2)=1,YEAR($C437)=$N$3, NOT(evenWeek($C437)), $C437<= $F$422), (($F$422 + 1) - $C437 ) /14, 0)","v":0},{"$f":"IF( AND( WEEKDAY($C437,2)=2,YEAR($C437)=$N$3, evenWeek($C437), $C437<=$F$422), (($F$422 + 1) - $C437 ) / 14, 0)","v":0},{"$f":"IF( AND( WEEKDAY($C437,2)=2,YEAR($C437)=$N$3, NOT(evenWeek($C437)), $C437<= $F$422), (($F$422 + 1) - $C437 ) /14, 0)","v":0},{"$f":"IF( AND( WEEKDAY($C437,2)=3,YEAR($C437)=$N$3, evenWeek($C437), $C437<=$F$422), (($F$422 + 1) - $C437 ) / 14, 0)","v":0},{"$f":"IF( AND( WEEKDAY($C437,2)=3,YEAR($C437)=$N$3, NOT(evenWeek($C437)), $C437<= $F$422), (($F$422 + 1) - $C437 ) /14, 0)","v":0},{"$f":"IF( AND( WEEKDAY($C437,2)=4,YEAR($C437)=$N$3, evenWeek($C437), $C437<=$F$422), (($F$422 + 1) - $C437 ) / 14, 0)","v":0},{"$f":"IF( AND( WEEKDAY($C437,2)=4,YEAR($C437)=$N$3, NOT(evenWeek($C437)), $C437<= $F$422), (($F$422 + 1) - $C437 ) /14, 0)","v":0},{"$f":"IF( AND( WEEKDAY($C437,2)=5,YEAR($C437)=$N$3, evenWeek($C437), $C437<=$F$422), (($F$422 + 1) - $C437 ) / 14, 0)","v":0},{"$f":"IF( AND( WEEKDAY($C437,2)=5,YEAR($C437)=$N$3, NOT(evenWeek($C437)), $C437<= $F$422), (($F$422 + 1) - $C437 ) /14, 0)","v":0},{"$f":"IF( AND( WEEKDAY($C437,2)=6,YEAR($C437)=$N$3, evenWeek($C437), $C437<=$F$422), (($F$422 + 1) - $C437 ) / 14, 0)","v":0},{"$f":"IF( AND( WEEKDAY($C437,2)=6,YEAR($C437)=$N$3, NOT(evenWeek($C437)), $C437<= $F$422), (($F$422 + 1) - $C437 ) /14, 0)","v":0},{"$f":"IF( AND( WEEKDAY($C437,2)=7,YEAR($C437)=$N$3, evenWeek($C437), $C437<=$F$422), (($F$422 + 1) - $C437 ) / 14, 0)","v":0},{"$f":"IF( AND( WEEKDAY($C437,2)=7,YEAR($C437)=$N$3, NOT(evenWeek($C437)), $C437<= $F$422), (($F$422 + 1) - $C437 ) /14, 0)","v":0}]
[null,null,"1904-01-13",{"$f":"IF( AND( WEEKDAY($C438,2)=1,YEAR($C438)=$N$3, evenWeek($C438), $C438<=$F$422), (($F$422 + 1) - $C438 ) / 14, 0)","v":0},{"$f":"IF( AND( WEEKDAY($C438,2)=1,YEAR($C438)=$N$3, NOT(evenWeek($C438)), $C438<= $F$422), (($F$422 + 1) - $C438 ) /14, 0)","v":0},{"$f":"IF( AND( WEEKDAY($C438,2)=2,YEAR($C438)=$N$3, evenWeek($C438), $C438<=$F$422), (($F$422 + 1) - $C438 ) / 14, 0)","v":0},{"$f":"IF( AND( WEEKDAY($C438,2)=2,YEAR($C438)=$N$3, NOT(evenWeek($C438)), $C438<= $F$422), (($F$422 + 1) - $C438 ) /14, 0)","v":0},{"$f":"IF( AND( WEEKDAY($C438,2)=3,YEAR($C438)=$N$3, evenWeek($C438), $C438<=$F$422), (($F$422 + 1) - $C438 ) / 14, 0)","v":0},{"$f":"IF( AND( WEEKDAY($C438,2)=3,YEAR($C438)=$N$3, NOT(evenWeek($C438)), $C438<= $F$422), (($F$422 + 1) - $C438 ) /14, 0)","v":0},{"$f":"IF( AND( WEEKDAY($C438,2)=4,YEAR($C438)=$N$3, evenWeek($C438), $C438<=$F$422), (($F$422 + 1) - $C438 ) / 14, 0)","v":0},{"$f":"IF( AND( WEEKDAY($C438,2)=4,YEAR($C438)=$N$3, NOT(evenWeek($C438)), $C438<= $F$422), (($F$422 + 1) - $C438 ) /14, 0)","v":0},{"$f":"IF( AND( WEEKDAY($C438,2)=5,YEAR($C438)=$N$3, evenWeek($C438), $C438<=$F$422), (($F$422 + 1) - $C438 ) / 14, 0)","v":0},{"$f":"IF( AND( WEEKDAY($C438,2)=5,YEAR($C438)=$N$3, NOT(evenWeek($C438)), $C438<= $F$422), (($F$422 + 1) - $C438 ) /14, 0)","v":0},{"$f":"IF( AND( WEEKDAY($C438,2)=6,YEAR($C438)=$N$3, evenWeek($C438), $C438<=$F$422), (($F$422 + 1) - $C438 ) / 14, 0)","v":0},{"$f":"IF( AND( WEEKDAY($C438,2)=6,YEAR($C438)=$N$3, NOT(evenWeek($C438)), $C438<= $F$422), (($F$422 + 1) - $C438 ) /14, 0)","v":0},{"$f":"IF( AND( WEEKDAY($C438,2)=7,YEAR($C438)=$N$3, evenWeek($C438), $C438<=$F$422), (($F$422 + 1) - $C438 ) / 14, 0)","v":0},{"$f":"IF( AND( WEEKDAY($C438,2)=7,YEAR($C438)=$N$3, NOT(evenWeek($C438)), $C438<= $F$422), (($F$422 + 1) - $C438 ) /14, 0)","v":0}]
[null,null,"1904-01-14",{"$f":"IF( AND( WEEKDAY($C439,2)=1,YEAR($C439)=$N$3, evenWeek($C439), $C439<=$F$422), (($F$422 + 1) - $C439 ) / 14, 0)","v":0},{"$f":"IF( AND( WEEKDAY($C439,2)=1,YEAR($C439)=$N$3, NOT(evenWeek($C439)), $C439<= $F$422), (($F$422 + 1) - $C439 ) /14, 0)","v":0},{"$f":"IF( AND( WEEKDAY($C439,2)=2,YEAR($C439)=$N$3, evenWeek($C439), $C439<=$F$422), (($F$422 + 1) - $C439 ) / 14, 0)","v":0},{"$f":"IF( AND( WEEKDAY($C439,2)=2,YEAR($C439)=$N$3, NOT(evenWeek($C439)), $C439<= $F$422), (($F$422 + 1) - $C439 ) /14, 0)","v":0},{"$f":"IF( AND( WEEKDAY($C439,2)=3,YEAR($C439)=$N$3, evenWeek($C439), $C439<=$F$422), (($F$422 + 1) - $C439 ) / 14, 0)","v":0},{"$f":"IF( AND( WEEKDAY($C439,2)=3,YEAR($C439)=$N$3, NOT(evenWeek($C439)), $C439<= $F$422), (($F$422 + 1) - $C439 ) /14, 0)","v":0},{"$f":"IF( AND( WEEKDAY($C439,2)=4,YEAR($C439)=$N$3, evenWeek($C439), $C439<=$F$422), (($F$422 + 1) - $C439 ) / 14, 0)","v":0},{"$f":"IF( AND( WEEKDAY($C439,2)=4,YEAR($C439)=$N$3, NOT(evenWeek($C439)), $C439<= $F$422), (($F$422 + 1) - $C439 ) /14, 0)","v":0},{"$f":"IF( AND( WEEKDAY($C439,2)=5,YEAR($C439)=$N$3, evenWeek($C439), $C439<=$F$422), (($F$422 + 1) - $C439 ) / 14, 0)","v":0},{"$f":"IF( AND( WEEKDAY($C439,2)=5,YEAR($C439)=$N$3, NOT(evenWeek($C439)), $C439<= $F$422), (($F$422 + 1) - $C439 ) /14, 0)","v":0},{"$f":"IF( AND( WEEKDAY($C439,2)=6,YEAR($C439)=$N$3, evenWeek($C439), $C439<=$F$422), (($F$422 + 1) - $C439 ) / 14, 0)","v":0},{"$f":"IF( AND( WEEKDAY($C439,2)=6,YEAR($C439)=$N$3, NOT(evenWeek($C439)), $C439<= $F$422), (($F$422 + 1) - $C439 ) /14, 0)","v":0},{"$f":"IF( AND( WEEKDAY($C439,2)=7,YEAR($C439)=$N$3, evenWeek($C439), $C439<=$F$422), (($F$422 + 1) - $C439 ) / 14, 0)","v":0},{"$f":"IF( AND( WEEKDAY($C439,2)=7,YEAR($C439)=$N$3, NOT(evenWeek($C439)), $C439<= $F$422), (($F$422 + 1) - $C439 ) /14, 0)","v":0}]
[null,null,"# dagen: ",{"$f":"ROUNDUP(SUM(D426:D439),0)","v":0},{"$f":"ROUNDUP(SUM(E426:E439),0)","v":0},0,0,0,0,0,0,0,0,{"$f":"ROUNDUP(SUM(N426:N439),0)","v":0},{"$f":"ROUNDUP(SUM(O426:O439),0)","v":0},{"$f":"ROUNDUP(SUM(P426:P439),0)","v":0},{"$f":"ROUNDUP(SUM(Q426:Q439),0)","v":0}]
[]
[]
[null,null,"NCF dagen","ma even","ma oneven","di even","di oneven","wo even","wo oneven","do even","do oneven","vr even","vr oneven","za even","za oneven","zo even","zo oneven","totaal"]
[null,{"$f":"#REF!","v":{"$error":"#REF!"}},{"$f":"#REF!","v":{"$error":"#REF!"}},{"$f":"IF( AND($C444>($D$422-1),$C444<($F$422+1),WEEKDAY($C444,2)=1, evenWeek($C444) ),-1,\"\")","v":{"$error":"#REF!"}},{"$f":"IF( AND($C444>($D$422-1),$C444<($F$422+1),WEEKDAY($C444,2)=1, NOT(evenWeek($C444)) ),-1,\"\")","v":{"$error":"#REF!"}},{"$f":"IF( AND($C444>($D$422-1),$C444<($F$422+1),WEEKDAY($C444,2)=2, evenWeek($C444) ),-1,\"\")","v":{"$error":"#REF!"}},{"$f":"IF( AND($C444>($D$422-1),$C444<($F$422+1),WEEKDAY($C444,2)=2, NOT(evenWeek($C444)) ),-1,\"\")","v":{"$error":"#REF!"}},{"$f":"IF( AND($C444>($D$422-1),$C444<($F$422+1),WEEKDAY($C444,2)=3, evenWeek($C444) ),-1,\"\")","v":{"$error":"#REF!"}},{"$f":"IF( AND($C444>($D$422-1),$C444<($F$422+1),WEEKDAY($C444,2)=3, NOT(evenWeek($C444)) ),-1,\"\")","v":{"$error":"#REF!"}},{"$f":"IF( AND($C444>($D$422-1),$C444<($F$422+1),WEEKDAY($C444,2)=4, evenWeek($C444) ),-1,\"\")","v":{"$error":"#REF!"}},{"$f":"IF( AND($C444>($D$422-1),$C444<($F$422+1),WEEKDAY($C444,2)=4, NOT(evenWeek($C444)) ),-1,\"\")","v":{"$error":"#REF!"}},{"$f":"IF( AND($C444>($D$422-1),$C444<($F$422+1),WEEKDAY($C444,2)=5, evenWeek($C444) ),-1,\"\")","v":{"$error":"#REF!"}},{"$f":"IF( AND($C444>($D$422-1),$C444<($F$422+1),WEEKDAY($C444,2)=5, NOT(evenWeek($C444)) ),-1,\"\")","v":{"$error":"#REF!"}},{"$f":"IF( AND($C444>($D$422-1),$C444<($F$422+1),WEEKDAY($C444,2)=6, evenWeek($C444) ),-1,\"\")","v":{"$error":"#REF!"}},{"$f":"IF( AND($C444>($D$422-1),$C444<($F$422+1),WEEKDAY($C444,2)=6, NOT(evenWeek($C444)) ),-1,\"\")","v":{"$error":"#REF!"}},{"$f":"IF( AND($C444>($D$422-1),$C444<($F$422+1),WEEKDAY($C444,2)=7, evenWeek($C444) ),-1,\"\")","v":{"$error":"#REF!"}},{"$f":"IF( AND($C444>($D$422-1),$C444<($F$422+1),WEEKDAY($C444,2)=7, NOT(evenWeek($C444)) ),-1,\"\")","v":{"$error":"#REF!"}}]
[null,{"$f":"#REF!","v":{"$error":"#REF!"}},{"$f":"#REF!","v":{"$error":"#REF!"}},null,null,null,null,null,null,null,null,{"$f":"IF( AND($C445>($D$422-1),$C445<($F$422+1), evenWeek($C445) ),-1,\"\")","v":{"$error":"#REF!"}},{"$f":"IF( AND($C445>($D$422-1),$C445<($F$422+1), NOT(evenWeek($C445)) ),-1,\"\")","v":{"$error":"#REF!"}}]
[null,{"$f":"#REF!","v":{"$error":"#REF!"}},{"$f":"#REF!","v":{"$error":"#REF!"}},{"$f":"IF( AND($C446>($D$422-1),$C446<($F$422+1), evenWeek($C446) ),-1,\"\")","v":{"$error":"#REF!"}},{"$f":"IF( AND($C446>($D$422-1),$C446<($F$422+1), NOT(evenWeek($C446)) ),-1,\"\")","v":{"$error":"#REF!"}}]
[null,{"$f":"#REF!","v":{"$error":"#REF!"}},{"$f":"#REF!","v":{"$error":"#REF!"}},{"$f":"IF( AND($C447>($D$422-1),$C447<($F$422+1),WEEKDAY($C447,2)=1, evenWeek($C447) ),-1,\"\")","v":{"$error":"#REF!"}},{"$f":"IF( AND($C447>($D$422-1),$C447<($F$422+1),WEEKDAY($C447,2)=1, NOT(evenWeek($C447)) ),-1,\"\")","v":{"$error":"#REF!"}},{"$f":"IF( AND($C447>($D$422-1),$C447<($F$422+1),WEEKDAY($C447,2)=2, evenWeek($C447) ),-1,\"\")","v":{"$error":"#REF!"}},{"$f":"IF( AND($C447>($D$422-1),$C447<($F$422+1),WEEKDAY($C447,2)=2, NOT(evenWeek($C447)) ),-1,\"\")","v":{"$error":"#REF!"}},{"$f":"IF( AND($C447>($D$422-1),$C447<($F$422+1),WEEKDAY($C447,2)=3, evenWeek($C447) ),-1,\"\")","v":{"$error":"#REF!"}},{"$f":"IF( AND($C447>($D$422-1),$C447<($F$422+1),WEEKDAY($C447,2)=3, NOT(evenWeek($C447)) ),-1,\"\")","v":{"$error":"#REF!"}},{"$f":"IF( AND($C447>($D$422-1),$C447<($F$422+1),WEEKDAY($C447,2)=4, evenWeek($C447) ),-1,\"\")","v":{"$error":"#REF!"}},{"$f":"IF( AND($C447>($D$422-1),$C447<($F$422+1),WEEKDAY($C447,2)=4, NOT(evenWeek($C447)) ),-1,\"\")","v":{"$error":"#REF!"}},{"$f":"IF( AND($C447>($D$422-1),$C447<($F$422+1),WEEKDAY($C447,2)=5, evenWeek($C447) ),-1,\"\")","v":{"$error":"#REF!"}},{"$f":"IF( AND($C447>($D$422-1),$C447<($F$422+1),WEEKDAY($C447,2)=5, NOT(evenWeek($C447)) ),-1,\"\")","v":{"$error":"#REF!"}},{"$f":"IF( AND($C447>($D$422-1),$C447<($F$422+1),WEEKDAY($C447,2)=6, evenWeek($C447) ),-1,\"\")","v":{"$error":"#REF!"}},{"$f":"IF( AND($C447>($D$422-1),$C447<($F$422+1),WEEKDAY($C447,2)=6, NOT(evenWeek($C447)) ),-1,\"\")","v":{"$error":"#REF!"}},{"$f":"IF( AND($C447>($D$422-1),$C447<($F$422+1),WEEKDAY($C447,2)=7, evenWeek($C447) ),-1,\"\")","v":{"$error":"#REF!"}},{"$f":"IF( AND($C447>($D$422-1),$C447<($F$422+1),WEEKDAY($C447,2)=7, NOT(evenWeek($C447)) ),-1,\"\")","v":{"$error":"#REF!"}}]
[null,{"$f":"#REF!","v":{"$error":"#REF!"}},{"$f":"#REF!","v":{"$error":"#REF!"}},{"$f":"IF( AND($C448>($D$422-1),$C448<($F$422+1),WEEKDAY($C448,2)=1, evenWeek($C448) ),-1,\"\")","v":{"$error":"#REF!"}},{"$f":"IF( AND($C448>($D$422-1),$C448<($F$422+1),WEEKDAY($C448,2)=1, NOT(evenWeek($C448)) ),-1,\"\")","v":{"$error":"#REF!"}},{"$f":"IF( AND($C448>($D$422-1),$C448<($F$422+1),WEEKDAY($C448,2)=2, evenWeek($C448) ),-1,\"\")","v":{"$error":"#REF!"}},{"$f":"IF( AND($C448>($D$422-1),$C448<($F$422+1),WEEKDAY($C448,2)=2, NOT(evenWeek($C448)) ),-1,\"\")","v":{"$error":"#REF!"}},{"$f":"IF( AND($C448>($D$422-1),$C448<($F$422+1),WEEKDAY($C448,2)=3, evenWeek($C448) ),-1,\"\")","v":{"$error":"#REF!"}},{"$f":"IF( AND($C448>($D$422-1),$C448<($F$422+1),WEEKDAY($C448,2)=3, NOT(evenWeek($C448)) ),-1,\"\")","v":{"$error":"#REF!"}},{"$f":"IF( AND($C448>($D$422-1),$C448<($F$422+1),WEEKDAY($C448,2)=4, evenWeek($C448) ),-1,\"\")","v":{"$error":"#REF!"}},{"$f":"IF( AND($C448>($D$422-1),$C448<($F$422+1),WEEKDAY($C448,2)=4, NOT(evenWeek($C448)) ),-1,\"\")","v":{"$error":"#REF!"}},{"$f":"IF( AND($C448>($D$422-1),$C448<($F$422+1),WEEKDAY($C448,2)=5, evenWeek($C448) ),-1,\"\")","v":{"$error":"#REF!"}},{"$f":"IF( AND($C448>($D$422-1),$C448<($F$422+1),WEEKDAY($C448,2)=5, NOT(evenWeek($C448)) ),-1,\"\")","v":{"$error":"#REF!"}},{"$f":"IF( AND($C448>($D$422-1),$C448<($F$422+1),WEEKDAY($C448,2)=6, evenWeek($C448) ),-1,\"\")","v":{"$error":"#REF!"}},{"$f":"IF( AND($C448>($D$422-1),$C448<($F$422+1),WEEKDAY($C448,2)=6, NOT(evenWeek($C448)) ),-1,\"\")","v":{"$error":"#REF!"}},{"$f":"IF( AND($C448>($D$422-1),$C448<($F$422+1),WEEKDAY($C448,2)=7, evenWeek($C448) ),-1,\"\")","v":{"$error":"#REF!"}},{"$f":"IF( AND($C448>($D$422-1),$C448<($F$422+1),WEEKDAY($C448,2)=7, NOT(evenWeek($C448)) ),-1,\"\")","v":{"$error":"#REF!"}}]
[null,{"$f":"#REF!","v":{"$error":"#REF!"}},{"$f":"#REF!","v":{"$error":"#REF!"}},null,null,null,null,null,null,{"$f":"IF( AND($C449>($D$422-1),$C449<($F$422+1), evenWeek($C449) ),-1,\"\")","v":{"$error":"#REF!"}},{"$f":"IF( AND($C449>($D$422-1),$C449<($F$422+1), NOT(evenWeek($C449)) ),-1,\"\")","v":{"$error":"#REF!"}}]
[null,{"$f":"#REF!","v":{"$error":"#REF!"}},{"$f":"#REF!","v":{"$error":"#REF!"}},{"$f":"IF( AND($C450>($D$422-1),$C450<($F$422+1), evenWeek($C450) ),-1,\"\")","v":{"$error":"#REF!"}},{"$f":"IF( AND($C450>($D$422-1),$C450<($F$422+1), NOT(evenWeek($C450)) ),-1,\"\")","v":{"$error":"#REF!"}}]
[null,{"$f":"#REF!","v":{"$error":"#REF!"}},{"$f":"#REF!","v":{"$error":"#REF!"}},{"$f":"IF( AND($C451>($D$422-1),$C451<($F$422+1),WEEKDAY($C451,2)=1, evenWeek($C451) ),-1,\"\")","v":{"$error":"#REF!"}},{"$f":"IF( AND($C451>($D$422-1),$C451<($F$422+1),WEEKDAY($C451,2)=1, NOT(evenWeek($C451)) ),-1,\"\")","v":{"$error":"#REF!"}},{"$f":"IF( AND($C451>($D$422-1),$C451<($F$422+1),WEEKDAY($C451,2)=2, evenWeek($C451) ),-1,\"\")","v":{"$error":"#REF!"}},{"$f":"IF( AND($C451>($D$422-1),$C451<($F$422+1),WEEKDAY($C451,2)=2, NOT(evenWeek($C451)) ),-1,\"\")","v":{"$error":"#REF!"}},{"$f":"IF( AND($C451>($D$422-1),$C451<($F$422+1),WEEKDAY($C451,2)=3, evenWeek($C451) ),-1,\"\")","v":{"$error":"#REF!"}},{"$f":"IF( AND($C451>($D$422-1),$C451<($F$422+1),WEEKDAY($C451,2)=3, NOT(evenWeek($C451)) ),-1,\"\")","v":{"$error":"#REF!"}},{"$f":"IF( AND($C451>($D$422-1),$C451<($F$422+1),WEEKDAY($C451,2)=4, evenWeek($C451) ),-1,\"\")","v":{"$error":"#REF!"}},{"$f":"IF( AND($C451>($D$422-1),$C451<($F$422+1),WEEKDAY($C451,2)=4, NOT(evenWeek($C451)) ),-1,\"\")","v":{"$error":"#REF!"}},{"$f":"IF( AND($C451>($D$422-1),$C451<($F$422+1),WEEKDAY($C451,2)=5, evenWeek($C451) ),-1,\"\")","v":{"$error":"#REF!"}},{"$f":"IF( AND($C451>($D$422-1),$C451<($F$422+1),WEEKDAY($C451,2)=5, NOT(evenWeek($C451)) ),-1,\"\")","v":{"$error":"#REF!"}},{"$f":"IF( AND($C451>($D$422-1),$C451<($F$422+1),WEEKDAY($C451,2)=6, evenWeek($C451) ),-1,\"\")","v":{"$error":"#REF!"}},{"$f":"IF( AND($C451>($D$422-1),$C451<($F$422+1),WEEKDAY($C451,2)=6, NOT(evenWeek($C451)) ),-1,\"\")","v":{"$error":"#REF!"}},{"$f":"IF( AND($C451>($D$422-1),$C451<($F$422+1),WEEKDAY($C451,2)=7, evenWeek($C451) ),-1,\"\")","v":{"$error":"#REF!"}},{"$f":"IF( AND($C451>($D$422-1),$C451<($F$422+1),WEEKDAY($C451,2)=7, NOT(evenWeek($C451)) ),-1,\"\")","v":{"$error":"#REF!"}}]
[null,{"$f":"#REF!","v":{"$error":"#REF!"}},{"$f":"#REF!","v":{"$error":"#REF!"}},{"$f":"IF( AND($C452>($D$422-1),$C452<($F$422+1),WEEKDAY($C452,2)=1, evenWeek($C452) ),-1,\"\")","v":{"$error":"#REF!"}},{"$f":"IF( AND($C452>($D$422-1),$C452<($F$422+1),WEEKDAY($C452,2)=1, NOT(evenWeek($C452)) ),-1,\"\")","v":{"$error":"#REF!"}},{"$f":"IF( AND($C452>($D$422-1),$C452<($F$422+1),WEEKDAY($C452,2)=2, evenWeek($C452) ),-1,\"\")","v":{"$error":"#REF!"}},{"$f":"IF( AND($C452>($D$422-1),$C452<($F$422+1),WEEKDAY($C452,2)=2, NOT(evenWeek($C452)) ),-1,\"\")","v":{"$error":"#REF!"}},{"$f":"IF( AND($C452>($D$422-1),$C452<($F$422+1),WEEKDAY($C452,2)=3, evenWeek($C452) ),-1,\"\")","v":{"$error":"#REF!"}},{"$f":"IF( AND($C452>($D$422-1),$C452<($F$422+1),WEEKDAY($C452,2)=3, NOT(evenWeek($C452)) ),-1,\"\")","v":{"$error":"#REF!"}},{"$f":"IF( AND($C452>($D$422-1),$C452<($F$422+1),WEEKDAY($C452,2)=4, evenWeek($C452) ),-1,\"\")","v":{"$error":"#REF!"}},{"$f":"IF( AND($C452>($D$422-1),$C452<($F$422+1),WEEKDAY($C452,2)=4, NOT(evenWeek($C452)) ),-1,\"\")","v":{"$error":"#REF!"}},{"$f":"IF( AND($C452>($D$422-1),$C452<($F$422+1),WEEKDAY($C452,2)=5, evenWeek($C452) ),-1,\"\")","v":{"$error":"#REF!"}},{"$f":"IF( AND($C452>($D$422-1),$C452<($F$422+1),WEEKDAY($C452,2)=5, NOT(evenWeek($C452)) ),-1,\"\")","v":{"$error":"#REF!"}},{"$f":"IF( AND($C452>($D$422-1),$C452<($F$422+1),WEEKDAY($C452,2)=6, evenWeek($C452) ),-1,\"\")","v":{"$error":"#REF!"}},{"$f":"IF( AND($C452>($D$422-1),$C452<($F$422+1),WEEKDAY($C452,2)=6, NOT(evenWeek($C452)) ),-1,\"\")","v":{"$error":"#REF!"}},{"$f":"IF( AND($C452>($D$422-1),$C452<($F$422+1),WEEKDAY($C452,2)=7, evenWeek($C452) ),-1,\"\")","v":{"$error":"#REF!"}},{"$f":"IF( AND($C452>($D$422-1),$C452<($F$422+1),WEEKDAY($C452,2)=7, NOT(evenWeek($C452)) ),-1,\"\")","v":{"$error":"#REF!"}}]
[null,{"$f":"#REF!","v":{"$error":"#REF!"}},{"$f":"#REF!","v":{"$error":"#REF!"}},{"$error":"#REF!"},{"$error":"#REF!"},{"$error":"#REF!"},{"$error":"#REF!"},{"$error":"#REF!"},{"$error":"#REF!"},{"$error":"#REF!"},{"$error":"#REF!"},{"$error":"#REF!"},{"$error":"#REF!"},{"$error":"#REF!"},{"$error":"#REF!"},{"$error":"#REF!"},{"$error":"#REF!"}]
[null,{"$f":"#REF!","v":{"$error":"#REF!"}},{"$f":"#REF!","v":{"$error":"#REF!"}},{"$error":"#REF!"},{"$error":"#REF!"},{"$error":"#REF!"},{"$error":"#REF!"},{"$error":"#REF!"},{"$error":"#REF!"},{"$error":"#REF!"},{"$error":"#REF!"},{"$error":"#REF!"},{"$error":"#REF!"},{"$error":"#REF!"},{"$error":"#REF!"},{"$error":"#REF!"},{"$error":"#REF!"}]
[null,{"$f":"#REF!","v":{"$error":"#REF!"}},{"$f":"#REF!","v":{"$error":"#REF!"}},{"$error":"#REF!"},{"$error":"#REF!"},{"$error":"#REF!"},{"$error":"#REF!"},{"$error":"#REF!"},{"$error":"#REF!"},{"$error":"#REF!"},{"$error":"#REF!"},{"$error":"#REF!"},{"$error":"#REF!"},{"$error":"#REF!"},{"$error":"#REF!"},{"$error":"#REF!"},{"$error":"#REF!"}]
[null,{"$f":"#REF!","v":{"$error":"#REF!"}},{"$f":"#REF!","v":{"$error":"#REF!"}},{"$error":"#REF!"},{"$error":"#REF!"},{"$error":"#REF!"},{"$error":"#REF!"},{"$error":"#REF!"},{"$error":"#REF!"},{"$error":"#REF!"},{"$error":"#REF!"},{"$error":"#REF!"},{"$error":"#REF!"},{"$error":"#REF!"},{"$error":"#REF!"},{"$error":"#REF!"},{"$error":"#REF!"}]
[null,{"$f":"#REF!","v":{"$error":"#REF!"}},{"$f":"#REF!","v":{"$error":"#REF!"}},{"$error":"#REF!"},{"$error":"#REF!"},{"$error":"#REF!"},{"$error":"#REF!"},{"$error":"#REF!"},{"$error":"#REF!"},{"$error":"#REF!"},{"$error":"#REF!"},{"$error":"#REF!"},{"$error":"#REF!"},{"$error":"#REF!"},{"$error":"#REF!"},{"$error":"#REF!"},{"$error":"#REF!"}]
[null,"werkbare dagen",null,{"$f":"IF(OR(YEAR($D$422)<>$N$3,YEAR($F$422)<>$N$3),0,SUM(D440,D444:D457))","v":0},0,0,0,0,0,0,0,0,0,0,0,0,0,{"$f":"SUM(D458:O458)","v":0}]
[]
[null,"standaard werkweek",null,40,38,36]
[null,"bijbehorend verlofsaldo",null,{"$f":"#REF!","v":{"$error":"#REF!"}},{"$f":"#REF!","v":{"$error":"#REF!"}},{"$f":"#REF!","v":{"$error":"#REF!"}}]
[null,"# werkdagen in jaar",{"$f":"#REF!","v":{"$error":"#REF!"}}]
[]
[null,"(Z) Periodefactor werkbare dagen per volledig kalenderjaar",null,null,null,null,null,null,null,null,{"$f":"IF(AND(D422>0,F422>0),R458/C462,0)","v":0}]
[]
[null,"(A) Omvang aanstelling in fulltime equivalenten (fte's)",null,null,null,null,null,null,null,null,{"$f":"DIENSTVERBANDGEGEVENS!J66","v":0}]
[null,null,null,null,null,null,null,null,"keuzerondje"]
[null,"(B) Standaard werkweek bij volledige aanstelling, vul in 36, 38 of 40",null,null,null,null,null,null,3,null,{"$f":"IF(I468=1,36,IF(I468=2,38,IF(I468=3,40,0)))","v":40}]
[]
[null,"(C) Totaal aantal netto werkbare uren in periode 4 ( A * 1659 * Z )",null,null,null,null,null,null,null,null,{"$f":"IF($N$4,K466*#REF!*K464,0)","v":{"$error":"#REF!"}}]
[]
[null,"(D) Bruto aantal werkbare uren bij aanstellingsomvang ( A * B )",null,null,null,null,null,null,null,null,{"$f":"K466*K468","v":0}]
[]
[null,"(E) Keuze tijdsbesteding",null,"maandag","dinsdag","woensdag","donderdag","vrijdag","zaterdag",null,"gemiddeld"]
[null,null,"even week",{"$f":"DIENSTVERBANDGEGEVENS!D75","v":0},{"$f":"DIENSTVERBANDGEGEVENS!E75","v":0},{"$f":"DIENSTVERBANDGEGEVENS!F75","v":0},{"$f":"DIENSTVERBANDGEGEVENS!G75","v":0},{"$f":"DIENSTVERBANDGEGEVENS!H75","v":0},{"$f":"DIENSTVERBANDGEGEVENS!I75","v":0},null,"totaal"]
[null,"totaal even",null,{"$f":"maandag4*D458","v":0},{"$f":"E475*F458","v":0},{"$f":"F475*H458","v":0},{"$f":"G475*J458","v":0},{"$f":"H475*L458","v":0},{"$f":"I475*N458","v":0}]
[null,null,"oneven week",{"$f":"DIENSTVERBANDGEGEVENS!D77","v":0},{"$f":"DIENSTVERBANDGEGEVENS!E77","v":0},{"$f":"DIENSTVERBANDGEGEVENS!F77","v":0},{"$f":"DIENSTVERBANDGEGEVENS!G77","v":0},{"$f":"DIENSTVERBANDGEGEVENS!H77","v":0},{"$f":"DIENSTVERBANDGEGEVENS!I77","v":0},null,{"$f":"SUM(D475:I475,D477:I477)/2","v":0}]
[null,"totaal oneven",null,{"$f":"D477*E458","v":0},{"$f":"E477*G458","v":0},{"$f":"F477*I458","v":0},{"$f":"G477*K458","v":0},{"$f":"H477*M458","v":0},{"$f":"I477*O458","v":0}]
[null,"(F) werkbare uren (gecorrigeerd voor feestdagen en overige niet-werkbare dagen)",null,null,null,null,null,null,null,null,{"$f":"IF(AND(D422>0,F422>0,$N$4),SUM(D476:I476,D478:I478),0)","v":0}]
[]
[null,"(G) Bruto CAO verlofuren in periode 4   ( A * verlofsaldo * Z )",null,null,null,null,null,null,null,null,{"$f":"SUM(K466*IF(K468=0,0,IF(K468=D460,D461,IF(K468=E460,E461,IF(K468=F460,F461,\"\")))))*K464","v":{"$error":"#REF!"}}]
[]
[null,"(H) Werkbare uren gecorrigeerd voor bruto verlofuren  ( F - G )",null,null,null,null,null,null,null,null,{"$f":"IF(K472=0,0,K479-K481)","v":0}]
[]
[null,"(I) teveel (+) / te weinig (-) gewerkte uren  ( H - C )",null,null,null,null,null,null,null,null,{"$f":"K483-K470","v":{"$error":"#REF!"}}]
[]
[null,"(J) Opgebouwde netto CAO verlofuren  ( G + I )",null,null,null,null,null,null,null,null,{"$f":"K481+K485","v":{"$error":"#REF!"}}]
[]
[]
[]
[null,null,null,{"$f":"IF(D493,\"datum !\",IF(OR(D492=0,YEAR(D492)=$N$3),\"\",\"datum !\"))","v":""},null,{"$f":"IF(AND(D492>0,F492>0,F492<D492),\"datum !\",IF(OR(F493, AND(F492>0,YEAR(F492)<>$N$3)),\"datum !\",\"\"))","v":""},null,"p1","p2","p3","p4",null,null,null,null,null," PERIODE 5"]
[null," PERIODE 5","van",{"$f":"IF(ISNUMBER(DIENSTVERBANDGEGEVENS!D83),DIENSTVERBANDGEGEVENS!D83,0)","v":"1904-01-01"},"t/m",{"$f":"IF(ISNUMBER(DIENSTVERBANDGEGEVENS!F83),DIENSTVERBANDGEGEVENS!F83,0)","v":"1904-01-01"},{"$f":"IF(AND(H492:K492),\"\",\"  periode-overlapping\")","v":""},{"$f":"OR( D492=0,F492=0,D3=0,F3=0, AND($D$492>D3,$D$492>F3),AND($D$492<D3,$F$492<D3))","v":true},{"$f":"OR( D492=0,F492=0,D15=0,F15=0, AND($D$492>D15,$D$492>F15),AND($D$492<D15,$F$492<D15))","v":true},{"$f":"OR( D492=0,F492=0,D352=0,F352=0, AND($D$492>D352,$D$492>F352),AND($D$492<D352,$F$492<D352))","v":true},{"$f":"OR( D492=0,F492=0,D422=0,F422=0, AND($D$492>D422,$D$492>F422),AND($D$492<D422,$F$492<D422))","v":true}]
[null,null,"tekst in datumcel",{"$f":"TYPE(DIENSTVERBANDGEGEVENS!D83)=2","v":false},null,{"$f":"TYPE(DIENSTVERBANDGEGEVENS!F83)=2","v":false}]
[]
[null,null,null,"ma even","ma oneven","di even","di oneven","wo even","wo oneven","do even","do oneven","vr even","vr oneven","za even","za oneven","zo even","zo oneven"]
[null,null,{"$f":"D492","v":"1904-01-01"},{"$f":"IF( AND( WEEKDAY($C496,2)=1,YEAR($C496)=$N$3, evenWeek($C496), $C496<=$F$492), (($F$492 + 1) - $C496 ) / 14, 0)","v":0},{"$f":"IF( AND( WEEKDAY($C496,2)=1,YEAR($C496)=$N$3, NOT(evenWeek($C496)), $C496<= $F$492), (($F$492 + 1) - $C496 ) /14, 0)","v":0},{"$f":"IF( AND( WEEKDAY($C496,2)=2,YEAR($C496)=$N$3, evenWeek($C496), $C496<=$F$492), (($F$492 + 1) - $C496 ) / 14, 0)","v":0},{"$f":"IF( AND( WEEKDAY($C496,2)=2,YEAR($C496)=$N$3, NOT(evenWeek($C496)), $C496<= $F$492), (($F$492 + 1) - $C496 ) /14, 0)","v":0},{"$f":"IF( AND( WEEKDAY($C496,2)=3,YEAR($C496)=$N$3, evenWeek($C496), $C496<=$F$492), (($F$492 + 1) - $C496 ) / 14, 0)","v":0},{"$f":"IF( AND( WEEKDAY($C496,2)=3,YEAR($C496)=$N$3, NOT(evenWeek($C496)), $C496<= $F$492), (($F$492 + 1) - $C496 ) /14, 0)","v":0},{"$f":"IF( AND( WEEKDAY($C496,2)=4,YEAR($C496)=$N$3, evenWeek($C496), $C496<=$F$492), (($F$492 + 1) - $C496 ) / 14, 0)","v":0},{"$f":"IF( AND( WEEKDAY($C496,2)=4,YEAR($C496)=$N$3, NOT(evenWeek($C496)), $C496<= $F$492), (($F$492 + 1) - $C496 ) /14, 0)","v":0},{"$f":"IF( AND( WEEKDAY($C496,2)=5,YEAR($C496)=$N$3, evenWeek($C496), $C496<=$F$492), (($F$492 + 1) - $C496 ) / 14, 0)","v":0},{"$f":"IF( AND( WEEKDAY($C496,2)=5,YEAR($C496)=$N$3, NOT(evenWeek($C496)), $C496<= $F$492), (($F$492 + 1) - $C496 ) /14, 0)","v":0},{"$f":"IF( AND( WEEKDAY($C496,2)=6,YEAR($C496)=$N$3, evenWeek($C496), $C496<=$F$492), (($F$492 + 1) - $C496 ) / 14, 0)","v":0},{"$f":"IF( AND( WEEKDAY($C496,2)=6,YEAR($C496)=$N$3, NOT(evenWeek($C496)), $C496<= $F$492), (($F$492 + 1) - $C496 ) /14, 0)","v":0},{"$f":"IF( AND( WEEKDAY($C496,2)=7,YEAR($C496)=$N$3, evenWeek($C496), $C496<=$F$492), (($F$492 + 1) - $C496 ) / 14, 0)","v":0},{"$f":"IF( AND( WEEKDAY($C496,2)=7,YEAR($C496)=$N$3, NOT(evenWeek($C496)), $C496<= $F$492), (($F$492 + 1) - $C496 ) /14, 0)","v":0}]
[null,null,{"$f":"C496+1","v":"1904-01-02"},{"$f":"IF( AND( WEEKDAY($C497,2)=1,YEAR($C497)=$N$3, evenWeek($C497), $C497<=$F$492), (($F$492 + 1) - $C497 ) / 14, 0)","v":0},{"$f":"IF( AND( WEEKDAY($C497,2)=1,YEAR($C497)=$N$3, NOT(evenWeek($C497)), $C497<= $F$492), (($F$492 + 1) - $C497 ) /14, 0)","v":0},{"$f":"IF( AND( WEEKDAY($C497,2)=2,YEAR($C497)=$N$3, evenWeek($C497), $C497<=$F$492), (($F$492 + 1) - $C497 ) / 14, 0)","v":0},{"$f":"IF( AND( WEEKDAY($C497,2)=2,YEAR($C497)=$N$3, NOT(evenWeek($C497)), $C497<= $F$492), (($F$492 + 1) - $C497 ) /14, 0)","v":0},{"$f":"IF( AND( WEEKDAY($C497,2)=3,YEAR($C497)=$N$3, evenWeek($C497), $C497<=$F$492), (($F$492 + 1) - $C497 ) / 14, 0)","v":0},{"$f":"IF( AND( WEEKDAY($C497,2)=3,YEAR($C497)=$N$3, NOT(evenWeek($C497)), $C497<= $F$492), (($F$492 + 1) - $C497 ) /14, 0)","v":0},{"$f":"IF( AND( WEEKDAY($C497,2)=4,YEAR($C497)=$N$3, evenWeek($C497), $C497<=$F$492), (($F$492 + 1) - $C497 ) / 14, 0)","v":0},{"$f":"IF( AND( WEEKDAY($C497,2)=4,YEAR($C497)=$N$3, NOT(evenWeek($C497)), $C497<= $F$492), (($F$492 + 1) - $C497 ) /14, 0)","v":0},{"$f":"IF( AND( WEEKDAY($C497,2)=5,YEAR($C497)=$N$3, evenWeek($C497), $C497<=$F$492), (($F$492 + 1) - $C497 ) / 14, 0)","v":0},{"$f":"IF( AND( WEEKDAY($C497,2)=5,YEAR($C497)=$N$3, NOT(evenWeek($C497)), $C497<= $F$492), (($F$492 + 1) - $C497 ) /14, 0)","v":0},{"$f":"IF( AND( WEEKDAY($C497,2)=6,YEAR($C497)=$N$3, evenWeek($C497), $C497<=$F$492), (($F$492 + 1) - $C497 ) / 14, 0)","v":0},{"$f":"IF( AND( WEEKDAY($C497,2)=6,YEAR($C497)=$N$3, NOT(evenWeek($C497)), $C497<= $F$492), (($F$492 + 1) - $C497 ) /14, 0)","v":0},{"$f":"IF( AND( WEEKDAY($C497,2)=7,YEAR($C497)=$N$3, evenWeek($C497), $C497<=$F$492), (($F$492 + 1) - $C497 ) / 14, 0)","v":0},{"$f":"IF( AND( WEEKDAY($C497,2)=7,YEAR($C497)=$N$3, NOT(evenWeek($C497)), $C497<= $F$492), (($F$492 + 1) - $C497 ) /14, 0)","v":0}]
[null,null,{"$f":"C497+1","v":"1904-01-03"},{"$f":"IF( AND( WEEKDAY($C498,2)=1,YEAR($C498)=$N$3, evenWeek($C498), $C498<=$F$492), (($F$492 + 1) - $C498 ) / 14, 0)","v":0},{"$f":"IF( AND( WEEKDAY($C498,2)=1,YEAR($C498)=$N$3, NOT(evenWeek($C498)), $C498<= $F$492), (($F$492 + 1) - $C498 ) /14, 0)","v":0},{"$f":"IF( AND( WEEKDAY($C498,2)=2,YEAR($C498)=$N$3, evenWeek($C498), $C498<=$F$492), (($F$492 + 1) - $C498 ) / 14, 0)","v":0},{"$f":"IF( AND( WEEKDAY($C498,2)=2,YEAR($C498)=$N$3, NOT(evenWeek($C498)), $C498<= $F$492), (($F$492 + 1) - $C498 ) /14, 0)","v":0},{"$f":"IF( AND( WEEKDAY($C498,2)=3,YEAR($C498)=$N$3, evenWeek($C498), $C498<=$F$492), (($F$492 + 1) - $C498 ) / 14, 0)","v":0},{"$f":"IF( AND( WEEKDAY($C498,2)=3,YEAR($C498)=$N$3, NOT(evenWeek($C498)), $C498<= $F$492), (($F$492 + 1) - $C498 ) /14, 0)","v":0},{"$f":"IF( AND( WEEKDAY($C498,2)=4,YEAR($C498)=$N$3, evenWeek($C498), $C498<=$F$492), (($F$492 + 1) - $C498 ) / 14, 0)","v":0},{"$f":"IF( AND( WEEKDAY($C498,2)=4,YEAR($C498)=$N$3, NOT(evenWeek($C498)), $C498<= $F$492), (($F$492 + 1) - $C498 ) /14, 0)","v":0},{"$f":"IF( AND( WEEKDAY($C498,2)=5,YEAR($C498)=$N$3, evenWeek($C498), $C498<=$F$492), (($F$492 + 1) - $C498 ) / 14, 0)","v":0},{"$f":"IF( AND( WEEKDAY($C498,2)=5,YEAR($C498)=$N$3, NOT(evenWeek($C498)), $C498<= $F$492), (($F$492 + 1) - $C498 ) /14, 0)","v":0},{"$f":"IF( AND( WEEKDAY($C498,2)=6,YEAR($C498)=$N$3, evenWeek($C498), $C498<=$F$492), (($F$492 + 1) - $C498 ) / 14, 0)","v":0},{"$f":"IF( AND( WEEKDAY($C498,2)=6,YEAR($C498)=$N$3, NOT(evenWeek($C498)), $C498<= $F$492), (($F$492 + 1) - $C498 ) /14, 0)","v":0},{"$f":"IF( AND( WEEKDAY($C498,2)=7,YEAR($C498)=$N$3, evenWeek($C498), $C498<=$F$492), (($F$492 + 1) - $C498 ) / 14, 0)","v":0},{"$f":"IF( AND( WEEKDAY($C498,2)=7,YEAR($C498)=$N$3, NOT(evenWeek($C498)), $C498<= $F$492), (($F$492 + 1) - $C498 ) /14, 0)","v":0}]
[null,null,"1904-01-04",{"$f":"IF( AND( WEEKDAY($C499,2)=1,YEAR($C499)=$N$3, evenWeek($C499), $C499<=$F$492), (($F$492 + 1) - $C499 ) / 14, 0)","v":0},{"$f":"IF( AND( WEEKDAY($C499,2)=1,YEAR($C499)=$N$3, NOT(evenWeek($C499)), $C499<= $F$492), (($F$492 + 1) - $C499 ) /14, 0)","v":0},{"$f":"IF( AND( WEEKDAY($C499,2)=2,YEAR($C499)=$N$3, evenWeek($C499), $C499<=$F$492), (($F$492 + 1) - $C499 ) / 14, 0)","v":0},{"$f":"IF( AND( WEEKDAY($C499,2)=2,YEAR($C499)=$N$3, NOT(evenWeek($C499)), $C499<= $F$492), (($F$492 + 1) - $C499 ) /14, 0)","v":0},{"$f":"IF( AND( WEEKDAY($C499,2)=3,YEAR($C499)=$N$3, evenWeek($C499), $C499<=$F$492), (($F$492 + 1) - $C499 ) / 14, 0)","v":0},{"$f":"IF( AND( WEEKDAY($C499,2)=3,YEAR($C499)=$N$3, NOT(evenWeek($C499)), $C499<= $F$492), (($F$492 + 1) - $C499 ) /14, 0)","v":0},{"$f":"IF( AND( WEEKDAY($C499,2)=4,YEAR($C499)=$N$3, evenWeek($C499), $C499<=$F$492), (($F$492 + 1) - $C499 ) / 14, 0)","v":0},{"$f":"IF( AND( WEEKDAY($C499,2)=4,YEAR($C499)=$N$3, NOT(evenWeek($C499)), $C499<= $F$492), (($F$492 + 1) - $C499 ) /14, 0)","v":0},{"$f":"IF( AND( WEEKDAY($C499,2)=5,YEAR($C499)=$N$3, evenWeek($C499), $C499<=$F$492), (($F$492 + 1) - $C499 ) / 14, 0)","v":0},{"$f":"IF( AND( WEEKDAY($C499,2)=5,YEAR($C499)=$N$3, NOT(evenWeek($C499)), $C499<= $F$492), (($F$492 + 1) - $C499 ) /14, 0)","v":0},{"$f":"IF( AND( WEEKDAY($C499,2)=6,YEAR($C499)=$N$3, evenWeek($C499), $C499<=$F$492), (($F$492 + 1) - $C499 ) / 14, 0)","v":0},{"$f":"IF( AND( WEEKDAY($C499,2)=6,YEAR($C499)=$N$3, NOT(evenWeek($C499)), $C499<= $F$492), (($F$492 + 1) - $C499 ) /14, 0)","v":0},{"$f":"IF( AND( WEEKDAY($C499,2)=7,YEAR($C499)=$N$3, evenWeek($C499), $C499<=$F$492), (($F$492 + 1) - $C499 ) / 14, 0)","v":0},{"$f":"IF( AND( WEEKDAY($C499,2)=7,YEAR($C499)=$N$3, NOT(evenWeek($C499)), $C499<= $F$492), (($F$492 + 1) - $C499 ) /14, 0)","v":0}]
[null,null,"1904-01-05",{"$f":"IF( AND( WEEKDAY($C500,2)=1,YEAR($C500)=$N$3, evenWeek($C500), $C500<=$F$492), (($F$492 + 1) - $C500 ) / 14, 0)","v":0},{"$f":"IF( AND( WEEKDAY($C500,2)=1,YEAR($C500)=$N$3, NOT(evenWeek($C500)), $C500<= $F$492), (($F$492 + 1) - $C500 ) /14, 0)","v":0},{"$f":"IF( AND( WEEKDAY($C500,2)=2,YEAR($C500)=$N$3, evenWeek($C500), $C500<=$F$492), (($F$492 + 1) - $C500 ) / 14, 0)","v":0},{"$f":"IF( AND( WEEKDAY($C500,2)=2,YEAR($C500)=$N$3, NOT(evenWeek($C500)), $C500<= $F$492), (($F$492 + 1) - $C500 ) /14, 0)","v":0},{"$f":"IF( AND( WEEKDAY($C500,2)=3,YEAR($C500)=$N$3, evenWeek($C500), $C500<=$F$492), (($F$492 + 1) - $C500 ) / 14, 0)","v":0},{"$f":"IF( AND( WEEKDAY($C500,2)=3,YEAR($C500)=$N$3, NOT(evenWeek($C500)), $C500<= $F$492), (($F$492 + 1) - $C500 ) /14, 0)","v":0},{"$f":"IF( AND( WEEKDAY($C500,2)=4,YEAR($C500)=$N$3, evenWeek($C500), $C500<=$F$492), (($F$492 + 1) - $C500 ) / 14, 0)","v":0},{"$f":"IF( AND( WEEKDAY($C500,2)=4,YEAR($C500)=$N$3, NOT(evenWeek($C500)), $C500<= $F$492), (($F$492 + 1) - $C500 ) /14, 0)","v":0},{"$f":"IF( AND( WEEKDAY($C500,2)=5,YEAR($C500)=$N$3, evenWeek($C500), $C500<=$F$492), (($F$492 + 1) - $C500 ) / 14, 0)","v":0},{"$f":"IF( AND( WEEKDAY($C500,2)=5,YEAR($C500)=$N$3, NOT(evenWeek($C500)), $C500<= $F$492), (($F$492 + 1) - $C500 ) /14, 0)","v":0},{"$f":"IF( AND( WEEKDAY($C500,2)=6,YEAR($C500)=$N$3, evenWeek($C500), $C500<=$F$492), (($F$492 + 1) - $C500 ) / 14, 0)","v":0},{"$f":"IF( AND( WEEKDAY($C500,2)=6,YEAR($C500)=$N$3, NOT(evenWeek($C500)), $C500<= $F$492), (($F$492 + 1) - $C500 ) /14, 0)","v":0},{"$f":"IF( AND( WEEKDAY($C500,2)=7,YEAR($C500)=$N$3, evenWeek($C500), $C500<=$F$492), (($F$492 + 1) - $C500 ) / 14, 0)","v":0},{"$f":"IF( AND( WEEKDAY($C500,2)=7,YEAR($C500)=$N$3, NOT(evenWeek($C500)), $C500<= $F$492), (($F$492 + 1) - $C500 ) /14, 0)","v":0}]
[null,null,"1904-01-06",{"$f":"IF( AND( WEEKDAY($C501,2)=1,YEAR($C501)=$N$3, evenWeek($C501), $C501<=$F$492), (($F$492 + 1) - $C501 ) / 14, 0)","v":0},{"$f":"IF( AND( WEEKDAY($C501,2)=1,YEAR($C501)=$N$3, NOT(evenWeek($C501)), $C501<= $F$492), (($F$492 + 1) - $C501 ) /14, 0)","v":0},{"$f":"IF( AND( WEEKDAY($C501,2)=2,YEAR($C501)=$N$3, evenWeek($C501), $C501<=$F$492), (($F$492 + 1) - $C501 ) / 14, 0)","v":0},{"$f":"IF( AND( WEEKDAY($C501,2)=2,YEAR($C501)=$N$3, NOT(evenWeek($C501)), $C501<= $F$492), (($F$492 + 1) - $C501 ) /14, 0)","v":0},{"$f":"IF( AND( WEEKDAY($C501,2)=3,YEAR($C501)=$N$3, evenWeek($C501), $C501<=$F$492), (($F$492 + 1) - $C501 ) / 14, 0)","v":0},{"$f":"IF( AND( WEEKDAY($C501,2)=3,YEAR($C501)=$N$3, NOT(evenWeek($C501)), $C501<= $F$492), (($F$492 + 1) - $C501 ) /14, 0)","v":0},{"$f":"IF( AND( WEEKDAY($C501,2)=4,YEAR($C501)=$N$3, evenWeek($C501), $C501<=$F$492), (($F$492 + 1) - $C501 ) / 14, 0)","v":0},{"$f":"IF( AND( WEEKDAY($C501,2)=4,YEAR($C501)=$N$3, NOT(evenWeek($C501)), $C501<= $F$492), (($F$492 + 1) - $C501 ) /14, 0)","v":0},{"$f":"IF( AND( WEEKDAY($C501,2)=5,YEAR($C501)=$N$3, evenWeek($C501), $C501<=$F$492), (($F$492 + 1) - $C501 ) / 14, 0)","v":0},{"$f":"IF( AND( WEEKDAY($C501,2)=5,YEAR($C501)=$N$3, NOT(evenWeek($C501)), $C501<= $F$492), (($F$492 + 1) - $C501 ) /14, 0)","v":0},{"$f":"IF( AND( WEEKDAY($C501,2)=6,YEAR($C501)=$N$3, evenWeek($C501), $C501<=$F$492), (($F$492 + 1) - $C501 ) / 14, 0)","v":0},{"$f":"IF( AND( WEEKDAY($C501,2)=6,YEAR($C501)=$N$3, NOT(evenWeek($C501)), $C501<= $F$492), (($F$492 + 1) - $C501 ) /14, 0)","v":0},{"$f":"IF( AND( WEEKDAY($C501,2)=7,YEAR($C501)=$N$3, evenWeek($C501), $C501<=$F$492), (($F$492 + 1) - $C501 ) / 14, 0)","v":0},{"$f":"IF( AND( WEEKDAY($C501,2)=7,YEAR($C501)=$N$3, NOT(evenWeek($C501)), $C501<= $F$492), (($F$492 + 1) - $C501 ) /14, 0)","v":0}]
[null,null,"1904-01-07",{"$f":"IF( AND( WEEKDAY($C502,2)=1,YEAR($C502)=$N$3, evenWeek($C502), $C502<=$F$492), (($F$492 + 1) - $C502 ) / 14, 0)","v":0},{"$f":"IF( AND( WEEKDAY($C502,2)=1,YEAR($C502)=$N$3, NOT(evenWeek($C502)), $C502<= $F$492), (($F$492 + 1) - $C502 ) /14, 0)","v":0},{"$f":"IF( AND( WEEKDAY($C502,2)=2,YEAR($C502)=$N$3, evenWeek($C502), $C502<=$F$492), (($F$492 + 1) - $C502 ) / 14, 0)","v":0},{"$f":"IF( AND( WEEKDAY($C502,2)=2,YEAR($C502)=$N$3, NOT(evenWeek($C502)), $C502<= $F$492), (($F$492 + 1) - $C502 ) /14, 0)","v":0},{"$f":"IF( AND( WEEKDAY($C502,2)=3,YEAR($C502)=$N$3, evenWeek($C502), $C502<=$F$492), (($F$492 + 1) - $C502 ) / 14, 0)","v":0},{"$f":"IF( AND( WEEKDAY($C502,2)=3,YEAR($C502)=$N$3, NOT(evenWeek($C502)), $C502<= $F$492), (($F$492 + 1) - $C502 ) /14, 0)","v":0},{"$f":"IF( AND( WEEKDAY($C502,2)=4,YEAR($C502)=$N$3, evenWeek($C502), $C502<=$F$492), (($F$492 + 1) - $C502 ) / 14, 0)","v":0},{"$f":"IF( AND( WEEKDAY($C502,2)=4,YEAR($C502)=$N$3, NOT(evenWeek($C502)), $C502<= $F$492), (($F$492 + 1) - $C502 ) /14, 0)","v":0},{"$f":"IF( AND( WEEKDAY($C502,2)=5,YEAR($C502)=$N$3, evenWeek($C502), $C502<=$F$492), (($F$492 + 1) - $C502 ) / 14, 0)","v":0},{"$f":"IF( AND( WEEKDAY($C502,2)=5,YEAR($C502)=$N$3, NOT(evenWeek($C502)), $C502<= $F$492), (($F$492 + 1) - $C502 ) /14, 0)","v":0},{"$f":"IF( AND( WEEKDAY($C502,2)=6,YEAR($C502)=$N$3, evenWeek($C502), $C502<=$F$492), (($F$492 + 1) - $C502 ) / 14, 0)","v":0},{"$f":"IF( AND( WEEKDAY($C502,2)=6,YEAR($C502)=$N$3, NOT(evenWeek($C502)), $C502<= $F$492), (($F$492 + 1) - $C502 ) /14, 0)","v":0},{"$f":"IF( AND( WEEKDAY($C502,2)=7,YEAR($C502)=$N$3, evenWeek($C502), $C502<=$F$492), (($F$492 + 1) - $C502 ) / 14, 0)","v":0},{"$f":"IF( AND( WEEKDAY($C502,2)=7,YEAR($C502)=$N$3, NOT(evenWeek($C502)), $C502<= $F$492), (($F$492 + 1) - $C502 ) /14, 0)","v":0}]
[null,null,"1904-01-08",{"$f":"IF( AND( WEEKDAY($C503,2)=1,YEAR($C503)=$N$3, evenWeek($C503), $C503<=$F$492), (($F$492 + 1) - $C503 ) / 14, 0)","v":0},{"$f":"IF( AND( WEEKDAY($C503,2)=1,YEAR($C503)=$N$3, NOT(evenWeek($C503)), $C503<= $F$492), (($F$492 + 1) - $C503 ) /14, 0)","v":0},{"$f":"IF( AND( WEEKDAY($C503,2)=2,YEAR($C503)=$N$3, evenWeek($C503), $C503<=$F$492), (($F$492 + 1) - $C503 ) / 14, 0)","v":0},{"$f":"IF( AND( WEEKDAY($C503,2)=2,YEAR($C503)=$N$3, NOT(evenWeek($C503)), $C503<= $F$492), (($F$492 + 1) - $C503 ) /14, 0)","v":0},{"$f":"IF( AND( WEEKDAY($C503,2)=3,YEAR($C503)=$N$3, evenWeek($C503), $C503<=$F$492), (($F$492 + 1) - $C503 ) / 14, 0)","v":0},{"$f":"IF( AND( WEEKDAY($C503,2)=3,YEAR($C503)=$N$3, NOT(evenWeek($C503)), $C503<= $F$492), (($F$492 + 1) - $C503 ) /14, 0)","v":0},{"$f":"IF( AND( WEEKDAY($C503,2)=4,YEAR($C503)=$N$3, evenWeek($C503), $C503<=$F$492), (($F$492 + 1) - $C503 ) / 14, 0)","v":0},{"$f":"IF( AND( WEEKDAY($C503,2)=4,YEAR($C503)=$N$3, NOT(evenWeek($C503)), $C503<= $F$492), (($F$492 + 1) - $C503 ) /14, 0)","v":0},{"$f":"IF( AND( WEEKDAY($C503,2)=5,YEAR($C503)=$N$3, evenWeek($C503), $C503<=$F$492), (($F$492 + 1) - $C503 ) / 14, 0)","v":0},{"$f":"IF( AND( WEEKDAY($C503,2)=5,YEAR($C503)=$N$3, NOT(evenWeek($C503)), $C503<= $F$492), (($F$492 + 1) - $C503 ) /14, 0)","v":0},{"$f":"IF( AND( WEEKDAY($C503,2)=6,YEAR($C503)=$N$3, evenWeek($C503), $C503<=$F$492), (($F$492 + 1) - $C503 ) / 14, 0)","v":0},{"$f":"IF( AND( WEEKDAY($C503,2)=6,YEAR($C503)=$N$3, NOT(evenWeek($C503)), $C503<= $F$492), (($F$492 + 1) - $C503 ) /14, 0)","v":0},{"$f":"IF( AND( WEEKDAY($C503,2)=7,YEAR($C503)=$N$3, evenWeek($C503), $C503<=$F$492), (($F$492 + 1) - $C503 ) / 14, 0)","v":0},{"$f":"IF( AND( WEEKDAY($C503,2)=7,YEAR($C503)=$N$3, NOT(evenWeek($C503)), $C503<= $F$492), (($F$492 + 1) - $C503 ) /14, 0)","v":0}]
[null,null,"1904-01-09",{"$f":"IF( AND( WEEKDAY($C504,2)=1,YEAR($C504)=$N$3, evenWeek($C504), $C504<=$F$492), (($F$492 + 1) - $C504 ) / 14, 0)","v":0},{"$f":"IF( AND( WEEKDAY($C504,2)=1,YEAR($C504)=$N$3, NOT(evenWeek($C504)), $C504<= $F$492), (($F$492 + 1) - $C504 ) /14, 0)","v":0},{"$f":"IF( AND( WEEKDAY($C504,2)=2,YEAR($C504)=$N$3, evenWeek($C504), $C504<=$F$492), (($F$492 + 1) - $C504 ) / 14, 0)","v":0},{"$f":"IF( AND( WEEKDAY($C504,2)=2,YEAR($C504)=$N$3, NOT(evenWeek($C504)), $C504<= $F$492), (($F$492 + 1) - $C504 ) /14, 0)","v":0},{"$f":"IF( AND( WEEKDAY($C504,2)=3,YEAR($C504)=$N$3, evenWeek($C504), $C504<=$F$492), (($F$492 + 1) - $C504 ) / 14, 0)","v":0},{"$f":"IF( AND( WEEKDAY($C504,2)=3,YEAR($C504)=$N$3, NOT(evenWeek($C504)), $C504<= $F$492), (($F$492 + 1) - $C504 ) /14, 0)","v":0},{"$f":"IF( AND( WEEKDAY($C504,2)=4,YEAR($C504)=$N$3, evenWeek($C504), $C504<=$F$492), (($F$492 + 1) - $C504 ) / 14, 0)","v":0},{"$f":"IF( AND( WEEKDAY($C504,2)=4,YEAR($C504)=$N$3, NOT(evenWeek($C504)), $C504<= $F$492), (($F$492 + 1) - $C504 ) /14, 0)","v":0},{"$f":"IF( AND( WEEKDAY($C504,2)=5,YEAR($C504)=$N$3, evenWeek($C504), $C504<=$F$492), (($F$492 + 1) - $C504 ) / 14, 0)","v":0},{"$f":"IF( AND( WEEKDAY($C504,2)=5,YEAR($C504)=$N$3, NOT(evenWeek($C504)), $C504<= $F$492), (($F$492 + 1) - $C504 ) /14, 0)","v":0},{"$f":"IF( AND( WEEKDAY($C504,2)=6,YEAR($C504)=$N$3, evenWeek($C504), $C504<=$F$492), (($F$492 + 1) - $C504 ) / 14, 0)","v":0},{"$f":"IF( AND( WEEKDAY($C504,2)=6,YEAR($C504)=$N$3, NOT(evenWeek($C504)), $C504<= $F$492), (($F$492 + 1) - $C504 ) /14, 0)","v":0},{"$f":"IF( AND( WEEKDAY($C504,2)=7,YEAR($C504)=$N$3, evenWeek($C504), $C504<=$F$492), (($F$492 + 1) - $C504 ) / 14, 0)","v":0},{"$f":"IF( AND( WEEKDAY($C504,2)=7,YEAR($C504)=$N$3, NOT(evenWeek($C504)), $C504<= $F$492), (($F$492 + 1) - $C504 ) /14, 0)","v":0}]
[null,null,"1904-01-10",{"$f":"IF( AND( WEEKDAY($C505,2)=1,YEAR($C505)=$N$3, evenWeek($C505), $C505<=$F$492), (($F$492 + 1) - $C505 ) / 14, 0)","v":0},{"$f":"IF( AND( WEEKDAY($C505,2)=1,YEAR($C505)=$N$3, NOT(evenWeek($C505)), $C505<= $F$492), (($F$492 + 1) - $C505 ) /14, 0)","v":0},{"$f":"IF( AND( WEEKDAY($C505,2)=2,YEAR($C505)=$N$3, evenWeek($C505), $C505<=$F$492), (($F$492 + 1) - $C505 ) / 14, 0)","v":0},{"$f":"IF( AND( WEEKDAY($C505,2)=2,YEAR($C505)=$N$3, NOT(evenWeek($C505)), $C505<= $F$492), (($F$492 + 1) - $C505 ) /14, 0)","v":0},{"$f":"IF( AND( WEEKDAY($C505,2)=3,YEAR($C505)=$N$3, evenWeek($C505), $C505<=$F$492), (($F$492 + 1) - $C505 ) / 14, 0)","v":0},{"$f":"IF( AND( WEEKDAY($C505,2)=3,YEAR($C505)=$N$3, NOT(evenWeek($C505)), $C505<= $F$492), (($F$492 + 1) - $C505 ) /14, 0)","v":0},{"$f":"IF( AND( WEEKDAY($C505,2)=4,YEAR($C505)=$N$3, evenWeek($C505), $C505<=$F$492), (($F$492 + 1) - $C505 ) / 14, 0)","v":0},{"$f":"IF( AND( WEEKDAY($C505,2)=4,YEAR($C505)=$N$3, NOT(evenWeek($C505)), $C505<= $F$492), (($F$492 + 1) - $C505 ) /14, 0)","v":0},{"$f":"IF( AND( WEEKDAY($C505,2)=5,YEAR($C505)=$N$3, evenWeek($C505), $C505<=$F$492), (($F$492 + 1) - $C505 ) / 14, 0)","v":0},{"$f":"IF( AND( WEEKDAY($C505,2)=5,YEAR($C505)=$N$3, NOT(evenWeek($C505)), $C505<= $F$492), (($F$492 + 1) - $C505 ) /14, 0)","v":0},{"$f":"IF( AND( WEEKDAY($C505,2)=6,YEAR($C505)=$N$3, evenWeek($C505), $C505<=$F$492), (($F$492 + 1) - $C505 ) / 14, 0)","v":0},{"$f":"IF( AND( WEEKDAY($C505,2)=6,YEAR($C505)=$N$3, NOT(evenWeek($C505)), $C505<= $F$492), (($F$492 + 1) - $C505 ) /14, 0)","v":0},{"$f":"IF( AND( WEEKDAY($C505,2)=7,YEAR($C505)=$N$3, evenWeek($C505), $C505<=$F$492), (($F$492 + 1) - $C505 ) / 14, 0)","v":0},{"$f":"IF( AND( WEEKDAY($C505,2)=7,YEAR($C505)=$N$3, NOT(evenWeek($C505)), $C505<= $F$492), (($F$492 + 1) - $C505 ) /14, 0)","v":0}]
[null,null,"1904-01-11",{"$f":"IF( AND( WEEKDAY($C506,2)=1,YEAR($C506)=$N$3, evenWeek($C506), $C506<=$F$492), (($F$492 + 1) - $C506 ) / 14, 0)","v":0},{"$f":"IF( AND( WEEKDAY($C506,2)=1,YEAR($C506)=$N$3, NOT(evenWeek($C506)), $C506<= $F$492), (($F$492 + 1) - $C506 ) /14, 0)","v":0},{"$f":"IF( AND( WEEKDAY($C506,2)=2,YEAR($C506)=$N$3, evenWeek($C506), $C506<=$F$492), (($F$492 + 1) - $C506 ) / 14, 0)","v":0},{"$f":"IF( AND( WEEKDAY($C506,2)=2,YEAR($C506)=$N$3, NOT(evenWeek($C506)), $C506<= $F$492), (($F$492 + 1) - $C506 ) /14, 0)","v":0},{"$f":"IF( AND( WEEKDAY($C506,2)=3,YEAR($C506)=$N$3, evenWeek($C506), $C506<=$F$492), (($F$492 + 1) - $C506 ) / 14, 0)","v":0},{"$f":"IF( AND( WEEKDAY($C506,2)=3,YEAR($C506)=$N$3, NOT(evenWeek($C506)), $C506<= $F$492), (($F$492 + 1) - $C506 ) /14, 0)","v":0},{"$f":"IF( AND( WEEKDAY($C506,2)=4,YEAR($C506)=$N$3, evenWeek($C506), $C506<=$F$492), (($F$492 + 1) - $C506 ) / 14, 0)","v":0},{"$f":"IF( AND( WEEKDAY($C506,2)=4,YEAR($C506)=$N$3, NOT(evenWeek($C506)), $C506<= $F$492), (($F$492 + 1) - $C506 ) /14, 0)","v":0},{"$f":"IF( AND( WEEKDAY($C506,2)=5,YEAR($C506)=$N$3, evenWeek($C506), $C506<=$F$492), (($F$492 + 1) - $C506 ) / 14, 0)","v":0},{"$f":"IF( AND( WEEKDAY($C506,2)=5,YEAR($C506)=$N$3, NOT(evenWeek($C506)), $C506<= $F$492), (($F$492 + 1) - $C506 ) /14, 0)","v":0},{"$f":"IF( AND( WEEKDAY($C506,2)=6,YEAR($C506)=$N$3, evenWeek($C506), $C506<=$F$492), (($F$492 + 1) - $C506 ) / 14, 0)","v":0},{"$f":"IF( AND( WEEKDAY($C506,2)=6,YEAR($C506)=$N$3, NOT(evenWeek($C506)), $C506<= $F$492), (($F$492 + 1) - $C506 ) /14, 0)","v":0},{"$f":"IF( AND( WEEKDAY($C506,2)=7,YEAR($C506)=$N$3, evenWeek($C506), $C506<=$F$492), (($F$492 + 1) - $C506 ) / 14, 0)","v":0},{"$f":"IF( AND( WEEKDAY($C506,2)=7,YEAR($C506)=$N$3, NOT(evenWeek($C506)), $C506<= $F$492), (($F$492 + 1) - $C506 ) /14, 0)","v":0}]
[null,null,"1904-01-12",{"$f":"IF( AND( WEEKDAY($C507,2)=1,YEAR($C507)=$N$3, evenWeek($C507), $C507<=$F$492), (($F$492 + 1) - $C507 ) / 14, 0)","v":0},{"$f":"IF( AND( WEEKDAY($C507,2)=1,YEAR($C507)=$N$3, NOT(evenWeek($C507)), $C507<= $F$492), (($F$492 + 1) - $C507 ) /14, 0)","v":0},{"$f":"IF( AND( WEEKDAY($C507,2)=2,YEAR($C507)=$N$3, evenWeek($C507), $C507<=$F$492), (($F$492 + 1) - $C507 ) / 14, 0)","v":0},{"$f":"IF( AND( WEEKDAY($C507,2)=2,YEAR($C507)=$N$3, NOT(evenWeek($C507)), $C507<= $F$492), (($F$492 + 1) - $C507 ) /14, 0)","v":0},{"$f":"IF( AND( WEEKDAY($C507,2)=3,YEAR($C507)=$N$3, evenWeek($C507), $C507<=$F$492), (($F$492 + 1) - $C507 ) / 14, 0)","v":0},{"$f":"IF( AND( WEEKDAY($C507,2)=3,YEAR($C507)=$N$3, NOT(evenWeek($C507)), $C507<= $F$492), (($F$492 + 1) - $C507 ) /14, 0)","v":0},{"$f":"IF( AND( WEEKDAY($C507,2)=4,YEAR($C507)=$N$3, evenWeek($C507), $C507<=$F$492), (($F$492 + 1) - $C507 ) / 14, 0)","v":0},{"$f":"IF( AND( WEEKDAY($C507,2)=4,YEAR($C507)=$N$3, NOT(evenWeek($C507)), $C507<= $F$492), (($F$492 + 1) - $C507 ) /14, 0)","v":0},{"$f":"IF( AND( WEEKDAY($C507,2)=5,YEAR($C507)=$N$3, evenWeek($C507), $C507<=$F$492), (($F$492 + 1) - $C507 ) / 14, 0)","v":0},{"$f":"IF( AND( WEEKDAY($C507,2)=5,YEAR($C507)=$N$3, NOT(evenWeek($C507)), $C507<= $F$492), (($F$492 + 1) - $C507 ) /14, 0)","v":0},{"$f":"IF( AND( WEEKDAY($C507,2)=6,YEAR($C507)=$N$3, evenWeek($C507), $C507<=$F$492), (($F$492 + 1) - $C507 ) / 14, 0)","v":0},{"$f":"IF( AND( WEEKDAY($C507,2)=6,YEAR($C507)=$N$3, NOT(evenWeek($C507)), $C507<= $F$492), (($F$492 + 1) - $C507 ) /14, 0)","v":0},{"$f":"IF( AND( WEEKDAY($C507,2)=7,YEAR($C507)=$N$3, evenWeek($C507), $C507<=$F$492), (($F$492 + 1) - $C507 ) / 14, 0)","v":0},{"$f":"IF( AND( WEEKDAY($C507,2)=7,YEAR($C507)=$N$3, NOT(evenWeek($C507)), $C507<= $F$492), (($F$492 + 1) - $C507 ) /14, 0)","v":0}]
[null,null,"1904-01-13",{"$f":"IF( AND( WEEKDAY($C508,2)=1,YEAR($C508)=$N$3, evenWeek($C508), $C508<=$F$492), (($F$492 + 1) - $C508 ) / 14, 0)","v":0},{"$f":"IF( AND( WEEKDAY($C508,2)=1,YEAR($C508)=$N$3, NOT(evenWeek($C508)), $C508<= $F$492), (($F$492 + 1) - $C508 ) /14, 0)","v":0},{"$f":"IF( AND( WEEKDAY($C508,2)=2,YEAR($C508)=$N$3, evenWeek($C508), $C508<=$F$492), (($F$492 + 1) - $C508 ) / 14, 0)","v":0},{"$f":"IF( AND( WEEKDAY($C508,2)=2,YEAR($C508)=$N$3, NOT(evenWeek($C508)), $C508<= $F$492), (($F$492 + 1) - $C508 ) /14, 0)","v":0},{"$f":"IF( AND( WEEKDAY($C508,2)=3,YEAR($C508)=$N$3, evenWeek($C508), $C508<=$F$492), (($F$492 + 1) - $C508 ) / 14, 0)","v":0},{"$f":"IF( AND( WEEKDAY($C508,2)=3,YEAR($C508)=$N$3, NOT(evenWeek($C508)), $C508<= $F$492), (($F$492 + 1) - $C508 ) /14, 0)","v":0},{"$f":"IF( AND( WEEKDAY($C508,2)=4,YEAR($C508)=$N$3, evenWeek($C508), $C508<=$F$492), (($F$492 + 1) - $C508 ) / 14, 0)","v":0},{"$f":"IF( AND( WEEKDAY($C508,2)=4,YEAR($C508)=$N$3, NOT(evenWeek($C508)), $C508<= $F$492), (($F$492 + 1) - $C508 ) /14, 0)","v":0},{"$f":"IF( AND( WEEKDAY($C508,2)=5,YEAR($C508)=$N$3, evenWeek($C508), $C508<=$F$492), (($F$492 + 1) - $C508 ) / 14, 0)","v":0},{"$f":"IF( AND( WEEKDAY($C508,2)=5,YEAR($C508)=$N$3, NOT(evenWeek($C508)), $C508<= $F$492), (($F$492 + 1) - $C508 ) /14, 0)","v":0},{"$f":"IF( AND( WEEKDAY($C508,2)=6,YEAR($C508)=$N$3, evenWeek($C508), $C508<=$F$492), (($F$492 + 1) - $C508 ) / 14, 0)","v":0},{"$f":"IF( AND( WEEKDAY($C508,2)=6,YEAR($C508)=$N$3, NOT(evenWeek($C508)), $C508<= $F$492), (($F$492 + 1) - $C508 ) /14, 0)","v":0},{"$f":"IF( AND( WEEKDAY($C508,2)=7,YEAR($C508)=$N$3, evenWeek($C508), $C508<=$F$492), (($F$492 + 1) - $C508 ) / 14, 0)","v":0},{"$f":"IF( AND( WEEKDAY($C508,2)=7,YEAR($C508)=$N$3, NOT(evenWeek($C508)), $C508<= $F$492), (($F$492 + 1) - $C508 ) /14, 0)","v":0}]
[null,null,"1904-01-14",{"$f":"IF( AND( WEEKDAY($C509,2)=1,YEAR($C509)=$N$3, evenWeek($C509), $C509<=$F$492), (($F$492 + 1) - $C509 ) / 14, 0)","v":0},{"$f":"IF( AND( WEEKDAY($C509,2)=1,YEAR($C509)=$N$3, NOT(evenWeek($C509)), $C509<= $F$492), (($F$492 + 1) - $C509 ) /14, 0)","v":0},{"$f":"IF( AND( WEEKDAY($C509,2)=2, evenWeek($C509), $C509<=$F$492), (($F$492 + 1) - $C509 ) / 14, 0)","v":0},{"$f":"IF( AND( WEEKDAY($C509,2)=2,YEAR($C509)=$N$3, NOT(evenWeek($C509)), $C509<= $F$492), (($F$492 + 1) - $C509 ) /14, 0)","v":0},{"$f":"IF( AND( WEEKDAY($C509,2)=3,YEAR($C509)=$N$3, evenWeek($C509), $C509<=$F$492), (($F$492 + 1) - $C509 ) / 14, 0)","v":0},{"$f":"IF( AND( WEEKDAY($C509,2)=3,YEAR($C509)=$N$3, NOT(evenWeek($C509)), $C509<= $F$492), (($F$492 + 1) - $C509 ) /14, 0)","v":0},{"$f":"IF( AND( WEEKDAY($C509,2)=4,YEAR($C509)=$N$3, evenWeek($C509), $C509<=$F$492), (($F$492 + 1) - $C509 ) / 14, 0)","v":0},{"$f":"IF( AND( WEEKDAY($C509,2)=4,YEAR($C509)=$N$3, NOT(evenWeek($C509)), $C509<= $F$492), (($F$492 + 1) - $C509 ) /14, 0)","v":0},{"$f":"IF( AND( WEEKDAY($C509,2)=5,YEAR($C509)=$N$3, evenWeek($C509), $C509<=$F$492), (($F$492 + 1) - $C509 ) / 14, 0)","v":0},{"$f":"IF( AND( WEEKDAY($C509,2)=5,YEAR($C509)=$N$3, NOT(evenWeek($C509)), $C509<= $F$492), (($F$492 + 1) - $C509 ) /14, 0)","v":0},{"$f":"IF( AND( WEEKDAY($C509,2)=6,YEAR($C509)=$N$3, evenWeek($C509), $C509<=$F$492), (($F$492 + 1) - $C509 ) / 14, 0)","v":0},{"$f":"IF( AND( WEEKDAY($C509,2)=6,YEAR($C509)=$N$3, NOT(evenWeek($C509)), $C509<= $F$492), (($F$492 + 1) - $C509 ) /14, 0)","v":0},{"$f":"IF( AND( WEEKDAY($C509,2)=7,YEAR($C509)=$N$3, evenWeek($C509), $C509<=$F$492), (($F$492 + 1) - $C509 ) / 14, 0)","v":0},{"$f":"IF( AND( WEEKDAY($C509,2)=7,YEAR($C509)=$N$3, NOT(evenWeek($C509)), $C509<= $F$492), (($F$492 + 1) - $C509 ) /14, 0)","v":0}]
[null,null,"# dagen: ",{"$f":"ROUNDUP(SUM(D496:D509),0)","v":0},{"$f":"ROUNDUP(SUM(E496:E509),0)","v":0},0,0,0,0,0,0,0,0,{"$f":"ROUNDUP(SUM(N496:N509),0)","v":0},{"$f":"ROUNDUP(SUM(O496:O509),0)","v":0},{"$f":"ROUNDUP(SUM(P496:P509),0)","v":0},{"$f":"ROUNDUP(SUM(Q496:Q509),0)","v":0}]
[]
[]
[null,null,"NCF dagen","ma even","ma oneven","di even","di oneven","wo even","wo oneven","do even","do oneven","vr even","vr oneven","za even","za oneven","zo even","zo oneven","totaal"]
[null,{"$f":"#REF!","v":{"$error":"#REF!"}},{"$f":"#REF!","v":{"$error":"#REF!"}},{"$f":"IF( AND($C514>($D$492-1),$C514<($F$492+1),WEEKDAY($C514,2)=1, evenWeek($C514) ),-1,\"\")","v":{"$error":"#REF!"}},{"$f":"IF( AND($C514>($D$492-1),$C514<($F$492+1),WEEKDAY($C514,2)=1, NOT(evenWeek($C514)) ),-1,\"\")","v":{"$error":"#REF!"}},{"$f":"IF( AND($C514>($D$492-1),$C514<($F$492+1),WEEKDAY($C514,2)=2, evenWeek($C514) ),-1,\"\")","v":{"$error":"#REF!"}},{"$f":"IF( AND($C514>($D$492-1),$C514<($F$492+1),WEEKDAY($C514,2)=2, NOT(evenWeek($C514)) ),-1,\"\")","v":{"$error":"#REF!"}},{"$f":"IF( AND($C514>($D$492-1),$C514<($F$492+1),WEEKDAY($C514,2)=3, evenWeek($C514) ),-1,\"\")","v":{"$error":"#REF!"}},{"$f":"IF( AND($C514>($D$492-1),$C514<($F$492+1),WEEKDAY($C514,2)=3, NOT(evenWeek($C514)) ),-1,\"\")","v":{"$error":"#REF!"}},{"$f":"IF( AND($C514>($D$492-1),$C514<($F$492+1),WEEKDAY($C514,2)=4, evenWeek($C514) ),-1,\"\")","v":{"$error":"#REF!"}},{"$f":"IF( AND($C514>($D$492-1),$C514<($F$492+1),WEEKDAY($C514,2)=4, NOT(evenWeek($C514)) ),-1,\"\")","v":{"$error":"#REF!"}},{"$f":"IF( AND($C514>($D$492-1),$C514<($F$492+1),WEEKDAY($C514,2)=5, evenWeek($C514) ),-1,\"\")","v":{"$error":"#REF!"}},{"$f":"IF( AND($C514>($D$492-1),$C514<($F$492+1),WEEKDAY($C514,2)=5, NOT(evenWeek($C514)) ),-1,\"\")","v":{"$error":"#REF!"}},{"$f":"IF( AND($C514>($D$492-1),$C514<($F$492+1),WEEKDAY($C514,2)=6, evenWeek($C514) ),-1,\"\")","v":{"$error":"#REF!"}},{"$f":"IF( AND($C514>($D$492-1),$C514<($F$492+1),WEEKDAY($C514,2)=6, NOT(evenWeek($C514)) ),-1,\"\")","v":{"$error":"#REF!"}},{"$f":"IF( AND($C514>($D$492-1),$C514<($F$492+1),WEEKDAY($C514,2)=7, evenWeek($C514) ),-1,\"\")","v":{"$error":"#REF!"}},{"$f":"IF( AND($C514>($D$492-1),$C514<($F$492+1),WEEKDAY($C514,2)=7, NOT(evenWeek($C514)) ),-1,\"\")","v":{"$error":"#REF!"}}]
[null,{"$f":"#REF!","v":{"$error":"#REF!"}},{"$f":"#REF!","v":{"$error":"#REF!"}},null,null,null,null,null,null,null,null,{"$f":"IF( AND($C515>($D$492-1),$C515<($F$492+1), evenWeek($C515) ),-1,\"\")","v":{"$error":"#REF!"}},{"$f":"IF( AND($C515>($D$492-1),$C515<($F$492+1), NOT(evenWeek($C515)) ),-1,\"\")","v":{"$error":"#REF!"}}]
[null,{"$f":"#REF!","v":{"$error":"#REF!"}},{"$f":"#REF!","v":{"$error":"#REF!"}},{"$f":"IF( AND($C516>($D$492-1),$C516<($F$492+1), evenWeek($C516) ),-1,\"\")","v":{"$error":"#REF!"}},{"$f":"IF( AND($C516>($D$492-1),$C516<($F$492+1), NOT(evenWeek($C516)) ),-1,\"\")","v":{"$error":"#REF!"}}]
[null,{"$f":"#REF!","v":{"$error":"#REF!"}},{"$f":"#REF!","v":{"$error":"#REF!"}},{"$f":"IF( AND($C517>($D$492-1),$C517<($F$492+1),WEEKDAY($C517,2)=1, evenWeek($C517) ),-1,\"\")","v":{"$error":"#REF!"}},{"$f":"IF( AND($C517>($D$492-1),$C517<($F$492+1),WEEKDAY($C517,2)=1, NOT(evenWeek($C517)) ),-1,\"\")","v":{"$error":"#REF!"}},{"$f":"IF( AND($C517>($D$492-1),$C517<($F$492+1),WEEKDAY($C517,2)=2, evenWeek($C517) ),-1,\"\")","v":{"$error":"#REF!"}},{"$f":"IF( AND($C517>($D$492-1),$C517<($F$492+1),WEEKDAY($C517,2)=2, NOT(evenWeek($C517)) ),-1,\"\")","v":{"$error":"#REF!"}},{"$f":"IF( AND($C517>($D$492-1),$C517<($F$492+1),WEEKDAY($C517,2)=3, evenWeek($C517) ),-1,\"\")","v":{"$error":"#REF!"}},{"$f":"IF( AND($C517>($D$492-1),$C517<($F$492+1),WEEKDAY($C517,2)=3, NOT(evenWeek($C517)) ),-1,\"\")","v":{"$error":"#REF!"}},{"$f":"IF( AND($C517>($D$492-1),$C517<($F$492+1),WEEKDAY($C517,2)=4, evenWeek($C517) ),-1,\"\")","v":{"$error":"#REF!"}},{"$f":"IF( AND($C517>($D$492-1),$C517<($F$492+1),WEEKDAY($C517,2)=4, NOT(evenWeek($C517)) ),-1,\"\")","v":{"$error":"#REF!"}},{"$f":"IF( AND($C517>($D$492-1),$C517<($F$492+1),WEEKDAY($C517,2)=5, evenWeek($C517) ),-1,\"\")","v":{"$error":"#REF!"}},{"$f":"IF( AND($C517>($D$492-1),$C517<($F$492+1),WEEKDAY($C517,2)=5, NOT(evenWeek($C517)) ),-1,\"\")","v":{"$error":"#REF!"}},{"$f":"IF( AND($C517>($D$492-1),$C517<($F$492+1),WEEKDAY($C517,2)=6, evenWeek($C517) ),-1,\"\")","v":{"$error":"#REF!"}},{"$f":"IF( AND($C517>($D$492-1),$C517<($F$492+1),WEEKDAY($C517,2)=6, NOT(evenWeek($C517)) ),-1,\"\")","v":{"$error":"#REF!"}},{"$f":"IF( AND($C517>($D$492-1),$C517<($F$492+1),WEEKDAY($C517,2)=7, evenWeek($C517) ),-1,\"\")","v":{"$error":"#REF!"}},{"$f":"IF( AND($C517>($D$492-1),$C517<($F$492+1),WEEKDAY($C517,2)=7, NOT(evenWeek($C517)) ),-1,\"\")","v":{"$error":"#REF!"}}]
[null,{"$f":"#REF!","v":{"$error":"#REF!"}},{"$f":"#REF!","v":{"$error":"#REF!"}},{"$f":"IF( AND($C518>($D$492-1),$C518<($F$492+1),WEEKDAY($C518,2)=1, evenWeek($C518) ),-1,\"\")","v":{"$error":"#REF!"}},{"$f":"IF( AND($C518>($D$492-1),$C518<($F$492+1),WEEKDAY($C518,2)=1, NOT(evenWeek($C518)) ),-1,\"\")","v":{"$error":"#REF!"}},{"$f":"IF( AND($C518>($D$492-1),$C518<($F$492+1),WEEKDAY($C518,2)=2, evenWeek($C518) ),-1,\"\")","v":{"$error":"#REF!"}},{"$f":"IF( AND($C518>($D$492-1),$C518<($F$492+1),WEEKDAY($C518,2)=2, NOT(evenWeek($C518)) ),-1,\"\")","v":{"$error":"#REF!"}},{"$f":"IF( AND($C518>($D$492-1),$C518<($F$492+1),WEEKDAY($C518,2)=3, evenWeek($C518) ),-1,\"\")","v":{"$error":"#REF!"}},{"$f":"IF( AND($C518>($D$492-1),$C518<($F$492+1),WEEKDAY($C518,2)=3, NOT(evenWeek($C518)) ),-1,\"\")","v":{"$error":"#REF!"}},{"$f":"IF( AND($C518>($D$492-1),$C518<($F$492+1),WEEKDAY($C518,2)=4, evenWeek($C518) ),-1,\"\")","v":{"$error":"#REF!"}},{"$f":"IF( AND($C518>($D$492-1),$C518<($F$492+1),WEEKDAY($C518,2)=4, NOT(evenWeek($C518)) ),-1,\"\")","v":{"$error":"#REF!"}},{"$f":"IF( AND($C518>($D$492-1),$C518<($F$492+1),WEEKDAY($C518,2)=5, evenWeek($C518) ),-1,\"\")","v":{"$error":"#REF!"}},{"$f":"IF( AND($C518>($D$492-1),$C518<($F$492+1),WEEKDAY($C518,2)=5, NOT(evenWeek($C518)) ),-1,\"\")","v":{"$error":"#REF!"}},{"$f":"IF( AND($C518>($D$492-1),$C518<($F$492+1),WEEKDAY($C518,2)=6, evenWeek($C518) ),-1,\"\")","v":{"$error":"#REF!"}},{"$f":"IF( AND($C518>($D$492-1),$C518<($F$492+1),WEEKDAY($C518,2)=6, NOT(evenWeek($C518)) ),-1,\"\")","v":{"$error":"#REF!"}},{"$f":"IF( AND($C518>($D$492-1),$C518<($F$492+1),WEEKDAY($C518,2)=7, evenWeek($C518) ),-1,\"\")","v":{"$error":"#REF!"}},{"$f":"IF( AND($C518>($D$492-1),$C518<($F$492+1),WEEKDAY($C518,2)=7, NOT(evenWeek($C518)) ),-1,\"\")","v":{"$error":"#REF!"}}]
[null,{"$f":"#REF!","v":{"$error":"#REF!"}},{"$f":"#REF!","v":{"$error":"#REF!"}},null,null,null,null,null,null,{"$f":"IF( AND($C519>($D$492-1),$C519<($F$492+1), evenWeek($C519) ),-1,\"\")","v":{"$error":"#REF!"}},{"$f":"IF( AND($C519>($D$492-1),$C519<($F$492+1), NOT(evenWeek($C519)) ),-1,\"\")","v":{"$error":"#REF!"}}]
[null,{"$f":"#REF!","v":{"$error":"#REF!"}},{"$f":"#REF!","v":{"$error":"#REF!"}},{"$f":"IF( AND($C520>($D$492-1),$C520<($F$492+1), evenWeek($C520) ),-1,\"\")","v":{"$error":"#REF!"}},{"$f":"IF( AND($C520>($D$492-1),$C520<($F$492+1), NOT(evenWeek($C520)) ),-1,\"\")","v":{"$error":"#REF!"}}]
[null,{"$f":"#REF!","v":{"$error":"#REF!"}},{"$f":"#REF!","v":{"$error":"#REF!"}},{"$f":"IF( AND($C521>($D$492-1),$C521<($F$492+1),WEEKDAY($C521,2)=1, evenWeek($C521) ),-1,\"\")","v":{"$error":"#REF!"}},{"$f":"IF( AND($C521>($D$492-1),$C521<($F$492+1),WEEKDAY($C521,2)=1, NOT(evenWeek($C521)) ),-1,\"\")","v":{"$error":"#REF!"}},{"$f":"IF( AND($C521>($D$492-1),$C521<($F$492+1),WEEKDAY($C521,2)=2, evenWeek($C521) ),-1,\"\")","v":{"$error":"#REF!"}},{"$f":"IF( AND($C521>($D$492-1),$C521<($F$492+1),WEEKDAY($C521,2)=2, NOT(evenWeek($C521)) ),-1,\"\")","v":{"$error":"#REF!"}},{"$f":"IF( AND($C521>($D$492-1),$C521<($F$492+1),WEEKDAY($C521,2)=3, evenWeek($C521) ),-1,\"\")","v":{"$error":"#REF!"}},{"$f":"IF( AND($C521>($D$492-1),$C521<($F$492+1),WEEKDAY($C521,2)=3, NOT(evenWeek($C521)) ),-1,\"\")","v":{"$error":"#REF!"}},{"$f":"IF( AND($C521>($D$492-1),$C521<($F$492+1),WEEKDAY($C521,2)=4, evenWeek($C521) ),-1,\"\")","v":{"$error":"#REF!"}},{"$f":"IF( AND($C521>($D$492-1),$C521<($F$492+1),WEEKDAY($C521,2)=4, NOT(evenWeek($C521)) ),-1,\"\")","v":{"$error":"#REF!"}},{"$f":"IF( AND($C521>($D$492-1),$C521<($F$492+1),WEEKDAY($C521,2)=5, evenWeek($C521) ),-1,\"\")","v":{"$error":"#REF!"}},{"$f":"IF( AND($C521>($D$492-1),$C521<($F$492+1),WEEKDAY($C521,2)=5, NOT(evenWeek($C521)) ),-1,\"\")","v":{"$error":"#REF!"}},{"$f":"IF( AND($C521>($D$492-1),$C521<($F$492+1),WEEKDAY($C521,2)=6, evenWeek($C521) ),-1,\"\")","v":{"$error":"#REF!"}},{"$f":"IF( AND($C521>($D$492-1),$C521<($F$492+1),WEEKDAY($C521,2)=6, NOT(evenWeek($C521)) ),-1,\"\")","v":{"$error":"#REF!"}},{"$f":"IF( AND($C521>($D$492-1),$C521<($F$492+1),WEEKDAY($C521,2)=7, evenWeek($C521) ),-1,\"\")","v":{"$error":"#REF!"}},{"$f":"IF( AND($C521>($D$492-1),$C521<($F$492+1),WEEKDAY($C521,2)=7, NOT(evenWeek($C521)) ),-1,\"\")","v":{"$error":"#REF!"}}]
[null,{"$f":"#REF!","v":{"$error":"#REF!"}},{"$f":"#REF!","v":{"$error":"#REF!"}},{"$f":"IF( AND($C522>($D$492-1),$C522<($F$492+1),WEEKDAY($C522,2)=1, evenWeek($C522) ),-1,\"\")","v":{"$error":"#REF!"}},{"$f":"IF( AND($C522>($D$492-1),$C522<($F$492+1),WEEKDAY($C522,2)=1, NOT(evenWeek($C522)) ),-1,\"\")","v":{"$error":"#REF!"}},{"$f":"IF( AND($C522>($D$492-1),$C522<($F$492+1),WEEKDAY($C522,2)=2, evenWeek($C522) ),-1,\"\")","v":{"$error":"#REF!"}},{"$f":"IF( AND($C522>($D$492-1),$C522<($F$492+1),WEEKDAY($C522,2)=2, NOT(evenWeek($C522)) ),-1,\"\")","v":{"$error":"#REF!"}},{"$f":"IF( AND($C522>($D$492-1),$C522<($F$492+1),WEEKDAY($C522,2)=3, evenWeek($C522) ),-1,\"\")","v":{"$error":"#REF!"}},{"$f":"IF( AND($C522>($D$492-1),$C522<($F$492+1),WEEKDAY($C522,2)=3, NOT(evenWeek($C522)) ),-1,\"\")","v":{"$error":"#REF!"}},{"$f":"IF( AND($C522>($D$492-1),$C522<($F$492+1),WEEKDAY($C522,2)=4, evenWeek($C522) ),-1,\"\")","v":{"$error":"#REF!"}},{"$f":"IF( AND($C522>($D$492-1),$C522<($F$492+1),WEEKDAY($C522,2)=4, NOT(evenWeek($C522)) ),-1,\"\")","v":{"$error":"#REF!"}},{"$f":"IF( AND($C522>($D$492-1),$C522<($F$492+1),WEEKDAY($C522,2)=5, evenWeek($C522) ),-1,\"\")","v":{"$error":"#REF!"}},{"$f":"IF( AND($C522>($D$492-1),$C522<($F$492+1),WEEKDAY($C522,2)=5, NOT(evenWeek($C522)) ),-1,\"\")","v":{"$error":"#REF!"}},{"$f":"IF( AND($C522>($D$492-1),$C522<($F$492+1),WEEKDAY($C522,2)=6, evenWeek($C522) ),-1,\"\")","v":{"$error":"#REF!"}},{"$f":"IF( AND($C522>($D$492-1),$C522<($F$492+1),WEEKDAY($C522,2)=6, NOT(evenWeek($C522)) ),-1,\"\")","v":{"$error":"#REF!"}},{"$f":"IF( AND($C522>($D$492-1),$C522<($F$492+1),WEEKDAY($C522,2)=7, evenWeek($C522) ),-1,\"\")","v":{"$error":"#REF!"}},{"$f":"IF( AND($C522>($D$492-1),$C522<($F$492+1),WEEKDAY($C522,2)=7, NOT(evenWeek($C522)) ),-1,\"\")","v":{"$error":"#REF!"}}]
[null,{"$f":"#REF!","v":{"$error":"#REF!"}},{"$f":"#REF!","v":{"$error":"#REF!"}},{"$error":"#REF!"},{"$error":"#REF!"},{"$error":"#REF!"},{"$error":"#REF!"},{"$error":"#REF!"},{"$error":"#REF!"},{"$error":"#REF!"},{"$error":"#REF!"},{"$error":"#REF!"},{"$error":"#REF!"},{"$error":"#REF!"},{"$error":"#REF!"},{"$error":"#REF!"},{"$error":"#REF!"}]
[null,{"$f":"#REF!","v":{"$error":"#REF!"}},{"$f":"#REF!","v":{"$error":"#REF!"}},{"$error":"#REF!"},{"$error":"#REF!"},{"$error":"#REF!"},{"$error":"#REF!"},{"$error":"#REF!"},{"$error":"#REF!"},{"$error":"#REF!"},{"$error":"#REF!"},{"$error":"#REF!"},{"$error":"#REF!"},{"$error":"#REF!"},{"$error":"#REF!"},{"$error":"#REF!"},{"$error":"#REF!"}]
[null,{"$f":"#REF!","v":{"$error":"#REF!"}},{"$f":"#REF!","v":{"$error":"#REF!"}},{"$error":"#REF!"},{"$error":"#REF!"},{"$error":"#REF!"},{"$error":"#REF!"},{"$error":"#REF!"},{"$error":"#REF!"},{"$error":"#REF!"},{"$error":"#REF!"},{"$error":"#REF!"},{"$error":"#REF!"},{"$error":"#REF!"},{"$error":"#REF!"},{"$error":"#REF!"},{"$error":"#REF!"}]
[null,{"$f":"#REF!","v":{"$error":"#REF!"}},{"$f":"#REF!","v":{"$error":"#REF!"}},{"$error":"#REF!"},{"$error":"#REF!"},{"$error":"#REF!"},{"$error":"#REF!"},{"$error":"#REF!"},{"$error":"#REF!"},{"$error":"#REF!"},{"$error":"#REF!"},{"$error":"#REF!"},{"$error":"#REF!"},{"$error":"#REF!"},{"$error":"#REF!"},{"$error":"#REF!"},{"$error":"#REF!"}]
[null,{"$f":"#REF!","v":{"$error":"#REF!"}},{"$f":"#REF!","v":{"$error":"#REF!"}},{"$error":"#REF!"},{"$error":"#REF!"},{"$error":"#REF!"},{"$error":"#REF!"},{"$error":"#REF!"},{"$error":"#REF!"},{"$error":"#REF!"},{"$error":"#REF!"},{"$error":"#REF!"},{"$error":"#REF!"},{"$error":"#REF!"},{"$error":"#REF!"},{"$error":"#REF!"},{"$error":"#REF!"}]
[null,"werkbare dagen",null,{"$f":"IF(OR(YEAR($D$492)<>$N$3,YEAR($F$492)<>$N$3),0,SUM(D510,D514:D527))","v":0},0,0,0,0,0,0,0,0,0,0,0,0,0,{"$f":"SUM(D528:O528)","v":0}]
[]
[null,"standaard werkweek",null,40,38,36]
[null,"bijbehorend verlofsaldo",null,{"$f":"#REF!","v":{"$error":"#REF!"}},{"$f":"#REF!","v":{"$error":"#REF!"}},{"$f":"#REF!","v":{"$error":"#REF!"}}]
[null,"# werkdagen in jaar",{"$f":"#REF!","v":{"$error":"#REF!"}}]
[]
[null,"(Z) Periodefactor werkbare dagen per volledig kalenderjaar",null,null,null,null,null,null,null,null,{"$f":"IF(AND(D492>0,F492>0),R528/C532,0)","v":0}]
[]
[null,"(A) Omvang aanstelling in fulltime equivalenten (fte's)",null,null,null,null,null,null,null,null,{"$f":"DIENSTVERBANDGEGEVENS!J85","v":0}]
[null,null,null,null,null,null,null,null,"keuzerondje"]
[null,"(B) Standaard werkweek bij volledige aanstelling, vul in 36, 38 of 40",null,null,null,null,null,null,0,null,{"$f":"IF(I538=1,36,IF(I538=2,38,IF(I538=3,40,0)))","v":0}]
[]
[null,"(C) Totaal aantal netto werkbare uren in periode 5 ( A * 1659 * Z )",null,null,null,null,null,null,null,null,{"$f":"IF($N$4,K536*#REF!*K534,0)","v":{"$error":"#REF!"}}]
[]
[null,"(D) Bruto aantal werkbare uren bij aanstellingsomvang ( A * B )",null,null,null,null,null,null,null,null,{"$f":"K536*K538","v":0}]
[]
[null,"(E) Keuze tijdsbesteding",null,"maandag","dinsdag","woensdag","donderdag","vrijdag","zaterdag",null,"gemiddeld"]
[null,null,"even week",{"$f":"DIENSTVERBANDGEGEVENS!D94","v":0},{"$f":"DIENSTVERBANDGEGEVENS!E94","v":0},{"$f":"DIENSTVERBANDGEGEVENS!F94","v":0},{"$f":"DIENSTVERBANDGEGEVENS!G94","v":0},{"$f":"DIENSTVERBANDGEGEVENS!H94","v":0},{"$f":"DIENSTVERBANDGEGEVENS!I94","v":0},null,"totaal"]
[null,"totaal even",null,{"$f":"maandag5*D528","v":0},{"$f":"E545*F528","v":0},{"$f":"F545*H528","v":0},{"$f":"G545*J528","v":0},{"$f":"H545*L528","v":0},{"$f":"I545*N528","v":0}]
[null,null,"oneven week",{"$f":"DIENSTVERBANDGEGEVENS!D96","v":0},{"$f":"DIENSTVERBANDGEGEVENS!E96","v":0},{"$f":"DIENSTVERBANDGEGEVENS!F96","v":0},{"$f":"DIENSTVERBANDGEGEVENS!G96","v":0},{"$f":"DIENSTVERBANDGEGEVENS!H96","v":0},{"$f":"DIENSTVERBANDGEGEVENS!I96","v":0},null,{"$f":"SUM(D545:I545,D547:I547)/2","v":0}]
[null,"totaal oneven",null,{"$f":"D547*E528","v":0},{"$f":"E547*G528","v":0},{"$f":"F547*I528","v":0},{"$f":"G547*K528","v":0},{"$f":"H547*M528","v":0},{"$f":"I547*O528","v":0}]
[null,"(F) werkbare uren (gecorrigeerd voor feestdagen en overige niet-werkbare dagen)",null,null,null,null,null,null,null,null,{"$f":"IF(AND(D492>0,F492>0,$N$4),SUM(D546:I546,D548:I548),0)","v":0}]
[]
[null,"(G) Bruto CAO verlofuren in periode 5   ( A * verlofsaldo * Z )",null,null,null,null,null,null,null,null,{"$f":"SUM(K536*IF(K538=0,0,IF(K538=D530,D531,IF(K538=E530,E531,IF(K538=F530,F531,\"\")))))*K534","v":0}]
[]
[null,"(H) Werkbare uren gecorrigeerd voor bruto verlofuren  ( F - G )",null,null,null,null,null,null,null,null,{"$f":"IF(K542=0,0,K549-K551)","v":0}]
[]
[null,"(I) teveel (+) / te weinig (-) gewerkte uren  ( H - C )",null,null,null,null,null,null,null,null,{"$f":"K553-K540","v":{"$error":"#REF!"}}]
[]
[null,"(J) Opgebouwde netto CAO verlofuren  ( G + I )",null,null,null,null,null,null,null,null,{"$f":"K551+K555","v":{"$error":"#REF!"}}]

{"sheet":"VEEL GESTELDE VRAGEN","index":7,"n_rows":10,"n_cols":2,"rows_kept":10,"cut":false,"hidden":false,"merged":[]}
[]
[null,"OUDERSCHAPSVERLOF- EN FEESTDAG/HVA VERPLICHTE VRIJE DAG VALLEN SAMEN"]
[null,"Als de ouderschapsverlofdag op een feestdag valt, dan kan deze niet worden gecompenseerd.  \nValt de ouderschapsverlofdag op een HvA-verplichte vrije dag, dan kan deze ouderschapsverlofdag later opgenomen worden."]
[null,"VERZUIM- EN FEESTDAG/HVA VERPLICHTE VRIJE DAG VALLEN SAMEN"]
[null,"Ben je ziek en valt deze dag samen met een feestdag/HvA-verplichte vrije dag dan vervalt de vrije dag. Compenseren is dus niet mogelijk.\nIndien je op een HvA-verplichte vrije dag aan re-integratieverplichtingen werkt en geen verlof opneemt, dan kan deze HvA-verplichte vrije dag op een later moment worden opgenomen. Dit geldt niet voor feestdagen en niet-werkdagen."]
[null,"ZWANGERSCHAP-/BEVALLINGSVERLOF EN FEESTDAG VALLEN SAMEN"]
[null,"Als een zwangerschaps-/bevallingsverlofdag en een feestdag-/niet werkbare dag samenvallen, dan vervalt de verlofdag. Compenseren is dus niet mogelijk."]
[null,"Feest-/niet werkbare dagen conform de cao hbo: Zondag, Nieuwjaarsdag, Goede Vrijdag, Tweede Paasdag, Hemelvaartsdag, Tweede Pinksterdag, Eerste en Tweede Kerstdag, de dag waarop Koningsdag wordt gevierd, 5 Mei en de zodanig door de overheid erkende nationale feestdagen en gedenkdagen"]
[null,"ZWANGERSCHAP-/BEVALLINGSVERLOF EN VERPLICHTE VERLOFDAG VALLEN SAMEN"]
[null,"Als een zwangerschaps-/bevallingsverlofdag en een HvA-verplichte vrije dag samenvallen, dan kan deze vrije dag later (aansluitend aan zwangerschaps-/bevallingsverlof) worden opgenomen."]

{"sheet":"vrij blad","index":8,"n_rows":0,"n_cols":0,"rows_kept":0,"cut":false,"hidden":true,"merged":[]}